BEGIN:VCALENDAR
VERSION:2.0
PRODID:-//PIKK.ee - ECPv6.13.2.1//NONSGML v1.0//EN
CALSCALE:GREGORIAN
METHOD:PUBLISH
X-ORIGINAL-URL:https://www.pikk.ee
X-WR-CALDESC:Events for PIKK.ee
REFRESH-INTERVAL;VALUE=DURATION:PT1H
X-Robots-Tag:noindex
X-PUBLISHED-TTL:PT1H
BEGIN:VTIMEZONE
TZID:Europe/Tallinn
BEGIN:DAYLIGHT
TZOFFSETFROM:+0200
TZOFFSETTO:+0300
TZNAME:EEST
DTSTART:20260329T010000
END:DAYLIGHT
BEGIN:STANDARD
TZOFFSETFROM:+0300
TZOFFSETTO:+0200
TZNAME:EET
DTSTART:20261025T010000
END:STANDARD
END:VTIMEZONE
BEGIN:VEVENT
DTSTART;TZID=Europe/Tallinn:20260423T090000
DTEND;TZID=Europe/Tallinn:20260425T160000
DTSTAMP:20260424T160446
CREATED:20251228T164547Z
LAST-MODIFIED:20251228T164547Z
UID:10011807-1776934800-1777132800@www.pikk.ee
SUMMARY:Maamess 2026
DESCRIPTION:Järjekorras 32. rahvusvaheline põllumajanduse\, metsanduse\, aianduse ja toidutööstuse ettevõtteid ja organisatsioone tutvustav Maamess toimub 23.-25. aprillil 2026 Tartu Näituste messikeskuses. \nMaamess \n \n 
URL:https://www.pikk.ee/sundmus/maamess-2026/
LOCATION:Tartu\, Eesti
END:VEVENT
BEGIN:VEVENT
DTSTART;TZID=Europe/Tallinn:20260423T100000
DTEND;TZID=Europe/Tallinn:20260425T150000
DTSTAMP:20260424T160446
CREATED:20260324T090809Z
LAST-MODIFIED:20260324T090809Z
UID:10011932-1776938400-1777129200@www.pikk.ee
SUMMARY:METK maamessil
DESCRIPTION:METK osaleb 23.–25. aprillil 2026 taas Tartu Maamessil!  \nOotame kõiki huvilisi meie stendile\, kus tutvustame oma tegevusi\, müüme seemneid ning jagame teadmisi ja pakume praktilist nõu aiapidajatele\, põllumeestele ja kõigile\, kes tunnevad huvi maaelu ja toidutootmise vastu. Leiad meid C-hallist\, stendilt C-35\, kus oleme koos PRIA\, Põllumajandus- ja Toiduameti ning Maaelu Edendamise Sihtasutusega \n\n\n\nMis me stendil pakume?\n\nTaimekasvatussoovitused põllu- ja köögiviljakultuuridele.\nKöögiviljade\, herne ja tippsibula kasvatamisvõimaluste tutvustamine ning seemnete müük.\nKartulisortide näitus ja kasvatussoovitused.\nEesti sortide tutvustus põllumehele ja aiapidajale.\nVahekultuuride tutvustamine.\nAgroökoloogia tutvustamine.\nLaboriteenuste tutvustus.\nAusterserviku ja lõvilaka kasvatamise tutvustus ning mütseeli müük.\n\n  \n\n\n\n\n\n\n\n\n\n\nNeljapäev\, 23. aprill kell 10.00-18.00\n\nTaimekasvatussoovituste nõuandenurk\nKöögiviljasordid ja -seemned aiapidajale\, seemnemüük\nKartulisortide näitus ja nõuandenurk\nEesti sordid ja seemned põllumehele\nSeenemütseeli müük ja nõuandenurk\nMETK laboriteenused: kellele ja miks?\n11.00–14.00 – Agroökoloogia\n\n\n\n\n\n\n\n\n\n\nReede\, 24. aprill kell 9.00-18.00\n\nKöögiviljasordid ja -seemned aiapidajale\, seemnemüük\nTaimekasvatussoovituste nõuandenurk\nKartul põllul ja koduaias\, kartulisortide näitus\nEesti sordid põllumehele\nSeenemütseeli müük ja nõuandenurk\nMETK laboriteenused: kellele ja miks?\n14.00–17.00 – Vahekultuuride tutvustamine ja nõuandenurk\n\n\n\n\n\n\n\n\n\n\nLaupäev\, 25.04 kell 9.00-16.00\n\nKartul põllul ja koduaias\, kartulisortide näitus\nKöögiviljaseemned\, hernes ja tippsibul aiapidajale\, seemnemüük\nSeenemütseeli müük ja nõuandenurk\nMETK laboriteenused: kellele ja miks?
URL:https://www.pikk.ee/sundmus/metk-maamessil/
LOCATION:Tartu\, Eesti
CATEGORIES:Muu
END:VEVENT
BEGIN:VEVENT
DTSTART;TZID=Europe/Tallinn:20260423T100000
DTEND;TZID=Europe/Tallinn:20260430T160000
DTSTAMP:20260424T160446
CREATED:20260312T181822Z
LAST-MODIFIED:20260324T181522Z
UID:10011906-1776938400-1777564800@www.pikk.ee
SUMMARY:Tehisaru arenguprogramm põllumajandustootjale
DESCRIPTION:Tule osale koolitusel „Tehisaru arenguprogramm põllumajandustootjale“!\nTeeme seda jälle! Nüüd veel põnevam ja praktilisem!  \nKoolituse sihtrühm: põllumajandus- ja toidutootjad ning nõustajad – ettevõtete omanikud\, tipp- ja keskastmejuhid\, töötajad\, kellel on esmane kogemus generatiivse tehisaru kasutamisel (nt ChatGPT\, Copilot) ning kes soovivad juurutada oma ettevõttes edasijõudnute tehnikaid ning keerukamaid tehisintellekti lahendusi. \nKoolituse eesmärk:\nanda 20 osalejale\, kes on varasemalt kasutanud lihtsamaid tehisaru lahendusi\, võimalus praktiliste oskuste omandamiseks keerukamate tehisintellekti tööriistade kasutamisel ja rakendamisel ettevõttes. \nProgramm koosneb 5 kontaktpäevast 23. aprill kuni 27. mai\nProgramm on väga praktiline ja konkreetne!\nProgramm tugineb “õpi tehes” metoodikale\, kus vähemalt 60% ajast on praktiline töö\, sh juhendatud ehitamine\, testimine ja parendamine. Osalejad ei alusta nullist: programm on üles ehitatud neile\, kes on lihtsamaid TI (AI) lahendusi juba kasutanud ja soovivad nüüd juurutada keerukamaid\, personaalsemaid lahendusi oma ettevõttes. Osalejad saavad koolitajalt põhjaliku koolitusmaterjali koos vajalike linkidega soovitatud tööriistadele. \nKõik harjutused\, näited ja tööriistad on kohandatud põllumajandus- ja toidutootmise sektori tegeliku töö jaoks.\nOsalejad liiguvad edasijõudnute promptimisest ja andmeloogikast kuni töötava TI assistendi loomiseni\, kasutades oma ettevõtte pärisandmeid.\nIga osaleja lahkub programmist toimiva lahenduse prototüübi ja 2-kuulise juurutusplaaniga\, mille elluviimisele saab ta koolitaja tuge ühe akadeemilise tunni jooksul osalejale sobival ajal.\n2–3 kuud pärast programmi lõppu on võimalus koguneda koos teiste osalejatega veebipõhiseks järelmõttekojaks (1\,5 tundi)\, kus kuuled teiste kogemusi\, koolitaja tutvustab uusi TI trende ja lahendatakse esilekerkinud küsimusi koos koolitajaga. \nProgrammi käigus saavad osalejad vastused järgmistele küsimustele:  \n\nKuidas kaardistada oma ettevõttes tehisaru kõrge mõjuga kasutusjuhud ja seada mõõdetavad eesmärgid?\nKuidas analüüsida andmeallikaid ja valida sobiv arhitektuur?\nKuidas arendada oma TI kirjaoskust ja tõsta lahenduse töökindlust (self-check\, testjuhud\, hallutsinatsioonide maandamine)?\nKuidas käsitleda põllumajandus- ja toidutootmise sektori riske?\nKuidas ehitada\, testida ja juurutada töötav personaalne TI assistent oma ettevõtte dokumentide ja andmetega?\nKuidas koostada juurutusplaan ja tagada\, et lahendus ka päriselt kasutusele jääb?\n\nRegistreerumiseks kliki allpool \nKoolitajaks on Keiu Kaitsa\, kes sai 2025. a koolitusgrupilt tagasisideks 5 punkti 5-st!\nLoe Keiu tutvustust lähemalt allpool. Allpool saad lugeda sellestki\, mida ütlesid 2025 sügisel toimunud koolitusel osalejad tagasisides ja kuidas hindasid koolitajat ja programmi.\nLühivalikuks Sulle siin kolm näidet:\n\nMiks Sinu jaoks oli programmis osalemine kasulik? \nLenno Link\, Põllumajandussektori tippjuht 2025 : “Programmi läbimine aitab mul paremini kursis olla uue tehnoloogia võimalustega ja sain ka ühe väga praktilise ajasäästu lahenduse! \n“Sanna Vest\, lihaveisekasvataja ja konsulent:\n“Rutiinsed tegevused teen nüüd kõik TI abil! Koolituse tulemus oli minu jaoks ebatavaline selles mõttes\, et sain kõik õpitu kohe kasutusse võtta. Iseseisva tööna tegin assistendi – nö poegimiste jälgimiseks ja analüüsiks registri\, mille kasutuse tippaeg on minul juunis kui kõik vasikad on sündinud. Säästab palju tunde\, kasutan seda korduvalt ja täiendan!” \nReedik Kivisoo\, lihaveisekasvataja:\n“Ma poleks kunagi arvanud\, et võin jääda mingites tööga seotud arengutest maha\, aga AI-ga tundsin\, et miks pagan\, ma varem ei alustanud! Kuigi koolituse käigus sain valmis lihaveiste söötmisplaani koostaja\, kasutan nüüd tehisaru\, et võrrelda omavahel kiiresti jõudluskontrolli ja genoomhindamise andmeid ning teha paremaid noorloomade põhikarja jätmise valikuid.” \nProgrammi ülesehitus ja õppe sisu\nProgramm koosneb 5 kontaktpäevast\, (üks moodul on individuaalsema juhendamise huvides jagatud kaheks grupiks)\, neljast veebikohtumisest koolitusmoodulite vahelisel ajal\, iseseisvast tööst AI lahenduse väljatöötamisel\, esitlemisest ning koolitaja nõustamisest juurutusperioodil. \nÜhe osaleja kohta kokku 38 akadeemilist tundi\, sh:\n– 28 akad/h kontaktpäevadel (kokku 5pv\, sh 4x6akad/h + 1x4akad/h)\,\n– 5 akad/h veebikohtumistel koolitusmoodulite vahel (vabatahtlik)\,\n– 1 akad/h 1:1 juurutamisnõustamist\,\n– 4 akad/h iseseisvad kodutööd TI rakenduse loomiseks.\nPärast koolituse toimumist\, ca 2-3 kuud pärast koolitusprogrammi lõppu\, toimub järelmõttekoda\, ca 2 akad/tundi (vabatahtlik\, ei kajastu programmi mahus). \nMetoodika: vähemalt 60% praktilised tööd\, töötoad\, individuaalse tehisarurakenduse juhendatud ehitamine\, testimine ja parendamine\, nõustamine juurutamise protsessis. \nProgrammi läbiviimine: aprill – mai 2026\, juurutamine juunis \n\n\n\nPäev/moodul\nTeema\nSisu fookus\n\n\nI päev\n23.04.2026\nTI baasoskused (edasijõudnutele)\nPromptimise anatoomia ning tehnikad edasijõudnutele; TI enamlevinud tööriistad 2026 ülevaade ja toimimispõhimõtted; andmeturve ja privaatsuspoliitika; hallutsinatsiooni riski hindamine\n\n\nII päev\n30.04.2026\nAnalüütika ja andmetöö\nMüügi- ja turundusanalüüsid TI abil; põllumajandusandmete analüüs (Excel/CSV\, ERP\, laohaldus); trendide tuvastamine; otsustusabi lahendused\n\n\nIII päev\n07.05.2026\nTI assistentide töötamise loogika\nSüsteemijuhised TI assistentide ehitamiseks ning toimimispõhimõtted; teadmistebaasi (RAG) ülesseadmine ja funktsionaalsused erinevates tarkvararakendustes; arhitektuurivalikud (chat vs assistent vs töövoog); töökindluse tõstmise võtted.\n\n\nIV päev\n21.05.2026\nTI assistentide töötuba — grupp A (10 osalejat)\nJuhendatud ehitamine: iga osaleja loob oma TI assistendi oma ettevõtte andmetega; mini-projekti disain ja esimesed testjuhud; 1:1 tagasiside juurutamise plaanile töötoa käigus\n\n\nV päev\n22.05.2026\nTI assistentide töötuba — grupp B (10 osalejat)\nSama formaat kui IV päev; grupi B osalejatele kohandatud lahenduste arendamine;\n\n\nVI päev – lõpetamise päev\n27.05.2026\nTI juurutamine\, tulevik\, AKIS\nTI juurutamine ja tulevikutrendid (koolitaja); TI assistentide esitlused osalejatelt (‘a5 min); AKIS ülevaade ja  külalisesineja(d)\n\n\n\nAjakava kõigil koolituspäevadel:\n10:00 – 10:30 saabumine ja registreerimine\, tervituskohv/suupisted \n10:30 – 12:00 õppetöö\n12:00 – 12:15 paus\n12:15 – 13:00 õppetöö\n13:00 – 13:45 lõuna (osalejad lõunatavad oma raha eest lähedalasuvates söögikohtades)\n13:45 – 15:45 õppetöö \nKontaktõppe toimumiskoht:\nMETK majas\, Teaduse 4\, Saku\, Harjumaa. Tasuta parkimine maja ees ja taga.\nVajadusel pakume ligipääsu MS Teamsi lingi kaudu (kohtumised salvestatakse). Tungiv soovitus  – pigem osaleda kohapeal kontaktkoolitusena! \nKandideerimistingimused\n\nkandideerida saavad Eesti põllumajandus- ja toidutootjad ning nõustajate nimekirja kantud nõustajad;\nosalemiseks täida palun hiljemalt 16.04.2026 kell 23.30 kandideerimisavaldus\, kus palume kirjeldada\, kuidas programmis osalemine Sinu hinnangul aitab kaasa Sinu ettevõtte arengule ja milliste protsesside puhul ta näed võimalusi tehisintellekti kasutada;\neelis on ambitsioonikamatel taotlejatel\, kelle põllumajanduse- ja toidutootmise efektiivsust suurendav idee on uuendusmeelsem ja/või mida saaks eduka rakendamise korral sektoris laiemalt kasutusele võtta;\nKoolitusel osalemiseks tuleb tasuda omaosalus 100€ METK poolt esitatud omaosaluse arve arvel. Koolituse kogumaksumus on ca 640€/osaleja.\n\n\n\nKoolitaja tutvustus \nKeiu Kaitsa on kogenud täiskasvanute koolitaja ja konsultant\, kes aitab organisatsioonidel mõista ja rakendada tehisintellekti (TI) võimalusi. Ta on koolitusvaldkonnas tegutsenud üle 10 aasta ja puutunud kokku tehnoloogia valdkonnaga. Ta on jaganud oma teadmisi külalislektorina TalTech Avatud Ülikoolis\, Tallinna Tehnikakõrgkoolis ja Ettevõtluskõrgkoolis Mainor\, keskendudes AI rakendamisele erinevates valdkondades.\nViimase kahe aasta jooksul on Keiu koolitanud sadu ettevõtteid ja organisatsioone ning üle 3500 inimese sise-\, avaliku- ja veebikoolituste raames AI-teemade suunal. Tema koostööpartnerite hulka kuuluvad näiteks METK\, Kliimaministeerium\, Keskkonnaamet\, Sotsiaalkindlustusamet\, Eesti Kohtud\, Tallinna Lennujaam\, PERH\, Ida-Tallinna Keskhaigla\, PTA\, EMTA\, Eesti Pank\, Utilitas\, Grant Thornton\, HR Selts\, PARE\, Fontes\, MM Grupp\, Elisa Eesti\, Orkla\, Saue Production\, Viciunai Baltic\, Scandagra\, Väätsa Agro\, Puumarket\, Mapri Ehitus\, Magaziin kauplustekett\, Kohila Vineer\, Kambja Vallavalitsus\, Tallinna Strateegiakeskus ja Tallinna Linnavalitsus ning paljud teised. Tema koolitused on hästi praktilised. Need ei ole kuivad loengud\, vaid reaalsete tööülesannete läbitegemised. Omandatud oskusi saab kohe oma töös kasutada. Rohkem infot: https://empler.ee \nEelmise programmi osalejate (18-st 14 olid omanikud\, tipp- ja keskastme juhid) tagasisidest : \nKuidas jäid rahule koolitusprogrammi sisu ja ülesehitusega?   Keskmine hinne 4\,69 (5p skaalal)  \nKommentaarid: *Väga sisutihe ja informatiivne koolitus! *Sooviksin koolitust pikemalt! \nKuidas jäid rahule koolitajaga/lektoriga? Keskmine hinne 5 (5p skaalal) \nKommentaarid: * Suurepärane koolitaja! *Lahe\, karismaatiline ja lihtsasti jälgitav lektor; *AI-teemad olid selgitatud arusaadavalt ning seostatud praktiliste näidetega\, mis tegi koolituse eriti väärtuslikuks. *Lektor suutis hoida tähelepanu kogu koolituse vältel ning innustas mõtlema AI rakendamisele ka oma igapäevatöös; * Kavatsen kindlasti veel Keiu koolitustel osaleda ja koostööd teha. * Hea suhtleja\, julge\, kommenteeriv\, selgitav. *Keiu oli jutukas ja väljendas end meeldejäävalt; * Koolitaja on oma töösse väga sobiv! Esitluse kiirus ja energia annab koolitusele palju juurde. Samas ei ole olnud kiirustamist. \nKuivõrd saad uusi teadmisi kasutada oma tegemistes? Keskmine hinne 4\,62 (5p skaalal) \nKommentaarid: * Üllatavalt palju! Andmeanalüüsi tegemiseks kuluv aeg väheneb oluliselt. * Kindlasti saan kasutada kui võtan ette ja saan õpitut omas tempos katsetada. * Lihtsustab ja automatiseerib korduvaid tegevusi. *Arendab loogilist mõtlemist. Ilmselt jätkan enesetäiendamist; * Tegin koolitusel palju märkmeid ja salvestasin enda jaoks uut ja huvitavat infot\, põhiliselt erinevate AI tööriistade ja vähem tuntud võtete osas;* Kindlasti sain aga ei ole veel rakendanud. Suur töö on ees! \nMis kõige rohkem meeldis? \n* Praktilised ülesanded; * Meeldib\, et saab ikkagi õppematerjalidele ka hiljem ligi; * Koolitaja väga head teadmised ja lai silmaring; * praktilised kohapeal tehtud harjutused; * Sain olulisi teadmisi\, kuidas üldse AI-ga suhelda ja kui põhjalik ettevalmistus ja ettekirjutus peab olema; * Kõik meeldis\, väga-väga hea koolitus! Selliseid praktilisi ja tõesti kasulikke koolitus võiks kindlasti rohkem olla! Jätkukoolitusest ei ütleks ka ära\, sest väga kiirelt arenev valdkond. * Assistendi loomiseni jõudmine: annab tunde\, et selge eesmärk on saavutatud. * Välisesinejate vaade\, kuidas tootmises kasutatakse. \n Registreerumiseks kliki allpool \nTäiendav info: Andres Huul\, andres.huul@metk.agri.ee\, Maaelu Teadmuskeskus \n 
URL:https://www.pikk.ee/sundmus/tehisaru-arenguprogramm-pollumajandustootjale-2026/
LOCATION:Harjumaa\, Harjumaa\, Eesti
CATEGORIES:Digitaliseerimine
ATTACH;FMTTYPE=image/png:https://www.pikk.ee/wp-content/uploads/2026/01/image-2.avif
END:VEVENT
BEGIN:VEVENT
DTSTART;TZID=Europe/Tallinn:20260427T100000
DTEND;TZID=Europe/Tallinn:20260427T150000
DTSTAMP:20260424T160446
CREATED:20260420T084357Z
LAST-MODIFIED:20260420T084357Z
UID:10011955-1777284000-1777302000@www.pikk.ee
SUMMARY:Keskkonnatoetuste infopäev Pärnus
DESCRIPTION:Olete oodatud Keskkonnatoetuste infopäevale\, mille eesmärgiks on rahastusvahendite ning taotlemise tugiteenuste tutvustamine KIKis ja laiemalt.\nMeie eesmärgiks on tõsta toetustest teadlikkust\, aidata toetuste taotlemisele kaasa ning Teie heade mõtete toel luua paremaid rahastusvõimalusi. \nInfopäev on suunatud Pärnumaa ettevõtetele\, kohalikele omavalitsustele ning mittetulundusühingutele. Infopäeva korraldame LIFE SIP WetEST projekti raames (partnerid Keskkonnaamet ning Keskkonnainvesteeringute Keskus). \nInfopäeval osalemine on tasuta\, kuid vajalik on registreerumine.  \nTäname koostöö eest Pärnumaa Arenduskeskust ning LEADER tegevusrühmi Pärnu Lahe Partnerluskogu ja Rohelise Jõemaa Koostöökogu. \nToimumispaik: Tartu Ülikooli Pärnu kolledži raamatukogu (Ringi tn 35\, Pärnu\, 80012 Pärnu maakond). \nPäevakava:\n10:00 – 10:20 Tere tulemast! Pakume ka kohvi\n10:20 – 10:35 Avasõnad\n10:35 – 12:00 Veemajanduse rahastusvahendid KIKis ja laiemalt\, KIK LIFE SIP WetEST ja LIFE ExcelEE nõustamistugi (Joosep Nahkor\, KIK lisarahastuse projektijuht)\n12:00 – 13:00 Lõunapaus (kohapeal)\n13:00 – 13:45 Võrgustumine (juhitud)\n13:45 – 14:30 KIK rahastusvahendid jt keskkonnatoetuste võimalused (Kristjan Kalda\, KIK Energeetika ja liikuvuse valdkonnajuht)\n14:30 – 15:00 Arutelu \nLIFE SIP WetEST projekti eesmärk on Eesti suurima\, Lääne-Eesti vesikonna veekogude heale seisule kaasaaitamine. Projekt hõlmab laia partnerite ning teemade ringi alates põllumajandusest ja toitainetest vees kuni maaparanduse\, pinnaveekogude korrastamise ja digilahendusteni. \nProjekti koduleht: lifewetest.ee\nLisainfo: Kalle Kiik\nveemajanduskava koordinaator\nkalle.kiik@keskkonnaamet.ee\n5623 7619
URL:https://www.pikk.ee/sundmus/keskkonnatoetuste-infopaev-parnus/
LOCATION:Pärnumaa\, Pärnumaa\, Eesti
CATEGORIES:Keskkond,Veemajandus
END:VEVENT
BEGIN:VEVENT
DTSTART;VALUE=DATE:20260428
DTEND;VALUE=DATE:20260429
DTSTAMP:20260424T160446
CREATED:20260406T133229Z
LAST-MODIFIED:20260406T133229Z
UID:10011948-1777334400-1777420799@www.pikk.ee
SUMMARY:Taimekaitsevahendite turustaja aluskoolitus (8 t)
DESCRIPTION:Taimekaitsevahendite turustaja aluskoolitus (8 t) \nKoolitus toimub 28.aprill 2026.a.\nKoolitaja Kaja Marrandi\nKoolituse hind 95 eur.(sisaldab paberkandjal konspekti ja lõunasööki) \nKoolitusele registreerimine toimub SIIT \nKaasa palun võtta isikut tõendav pildiga dokument! \nTäiendav info:\nRuth Türk\nruth.turk@kolledz.ee\n+372 5329 2188
URL:https://www.pikk.ee/sundmus/taimekaitsevahendite-turustaja-aluskoolitus-8-t-12/
LOCATION:Järvamaa\, Järvamaa\, Eesti
CATEGORIES:Taimekaitse
GEO:58.8866713;25.5000624
END:VEVENT
BEGIN:VEVENT
DTSTART;TZID=Europe/Tallinn:20260428T100000
DTEND;TZID=Europe/Tallinn:20260428T150000
DTSTAMP:20260424T160446
CREATED:20260323T054239Z
LAST-MODIFIED:20260422T125756Z
UID:10011919-1777370400-1777388400@www.pikk.ee
SUMMARY:Otsekülvi demopäev
DESCRIPTION:eAgronom kutsub otsekülvi demopäevale Rannu demofarmi\n\n\nTeisipäev\, 28. aprill kell 10:00 – 15:00 \nAnnikoru\, Tartu \n\n\neAgronom kutsub otsekülvi demopäevale Rannu demofarmi\n\n\n\n\n28. aprillil toimub eAgronomi Rannu demofarmis kevadine otsekülvi demopäev\, kuhu on oodatud kõik põllumajandushuvilised ja -praktikud\, kes soovivad täiendada oma teadmisi mullasäästlike harimisviiside kohta. \nDemopäeval saab ühel põllul näha nelja erinevat külvikut ja külvitehnoloogiat reaalses töös. Külvatakse suviotra ning kaera-hernesegu\, pakkudes osalejatele head võimalust võrrelda erinevaid lahendusi ning õppida otse põllult. \nÜrituse eesmärk on anda praktiline ülevaade otsekülvi võimalustest ning luua arutelu selle üle\, millised tehnoloogiad ja lähenemised toimivad Eesti tingimustes kõige paremini. \nÜRITUSE AJAKAVA:\n9.30-10.00 – Kogunemine\n10.00-10.10 – Sissejuhatus päeva\n10.10-10.50 – Masinate tutvustused (Väderstad Seedhawk\, Horsch Avatar\, Horsch Focus\, Junkkari R300\, Horizon DSX)\n10:50-11.30 – Taastava põllumajanduse praktikad – põllumeeste arutelu – Tõnis Ajaots\, Sander Hiire\n11.30-12.00 – Külvidemod\n12.00-13.00 – Lõuna ja arutelu\n13.00 – Orienteeruv päeva lõpp \nOsalemine on tasuta\, kuid vajalik on eelregistreerimine. Üritus toimub Tartumaal\, Annikorus. Täpse asukoha leiate siit. \neAgronomi otsekülvi demopäeva üritus läheb kirja ka KSMi koolitusena\, mis annab osalejatele lisaväärtuse. \nRegistreeru üritusele ja tule saa osa praktilisest demopäevast! \neAgronom kutsub otsekülvi demopäevale Rannu demofarmi – Piletid | Fienta
URL:https://www.pikk.ee/sundmus/otsekulvi-demopaev-2/
LOCATION:Tartumaa\, Eesti
CATEGORIES:Taimekasvatus
ATTACH;FMTTYPE=image/avif:https://www.pikk.ee/wp-content/uploads/2026/03/eAgronom_otsekylv_apr2026.avif
ORGANIZER;CN="eAgronom":MAILTO:kristjan@eagronom.ee
GEO:58.4057128;26.801576
END:VEVENT
BEGIN:VEVENT
DTSTART;TZID=Europe/Tallinn:20260429T100000
DTEND;TZID=Europe/Tallinn:20260429T164500
DTSTAMP:20260424T160446
CREATED:20260402T135439Z
LAST-MODIFIED:20260402T135838Z
UID:10011946-1777456800-1777481100@www.pikk.ee
SUMMARY:XX Toiduainetööstuse Aastakonverents 2026: Toit ja kindlustunne
DESCRIPTION:Registreerumine ja täpsem info: SIIT LINGILT \nToimumisvorm ja – koht: Veebis ja Tallinnas Radisson Blu Olümpia Hotelli Konverentsikesksuses (Liivalaia 33\, Tallinn) \nLühike sündmuse kirjeldus: \nTänavune konverents keskendub toiduainetööstuse rollile kiiresti muutuvas majanduskeskkonnas ning arutleb\, kuidas tagada Eesti toidutööstuse konkurentsivõime ja toidu kättesaadavus nii kohalikul kui rahvusvahelisel tasandil. Päeva jooksul käsitleme globaalseid majandustrende\, ekspordi olulisust kui toidujulgeoleku garantiid ning jagame praktilisi kogemusi Eesti toidu edukast viimisest välisturgudele. \nEsimene sessioon annab ülevaate majanduskeskkonnast ja selle mõjust sektorile\, tuues esile võtmetegurid\, mis mõjutavad ettevõtete arenguvõimalusi ja efektiivsust. Teises sessioonis keskendume toiduainetööstust kujundavatele mõjuteguritele\, sealhulgas tarbijakäitumisele\, ning arutame sektori hetkeseisu erinevate tööstusharude vaates. \nKonverentsi üheks oluliseks osaks on traditsiooniline konkursi „Eesti Parim Toiduaine 2026“ võitjate väljakuulutamine ja autasustamine. Tseremoonial osaleb regionaal- ja põllumajandusminister. \nPäeva lõpetab diskussioon „Kuidas kindlustada toidu kättesaadavus?“\, kus arutleme koos valdkonna võtmeosapooltega\, millised sammud on vajalikud sektori jätkusuutlikkuse ja konkurentsivõime tagamiseks. Arutelus osalevad nii riigi kui ka ettevõtete esindajad. \nKonverentsi modereerib Toiduliidu juhataja Sirje Potisepp. \nSihtgrupp: Toidutootjad \n  \nPÄEVAKAVA \n9.00 – 10.00           Registreerimine\, hommikukohv \n10.00 – 10.05            Sissejuhatus \n Sirje Potisepp Toiduliidu juhataja \n10.05 – 10.15            Pöördumine \nVeljo Ipits Toiduliidu volikogu esimees \n  \nI sessioon: TOIDUAINETÖÖSTUS JA MAJANDUSKESKKOND \nModeraator               Sirje Potisepp \n10.15 – 11.00            Majandustrendid\, mis hakkavad mõjutama Eesti toiduainetööstust    \nTriinu Tapver LHV AS majandusanalüütik \n11.00 – 11.30            Eksport kui toidu julgeoleku garant \nLiina Vahtras Ettevõtluse ja Innovatsiooni Sihtasutuse juhatuse liige \n11.30 – 11.55            Kogemuslugu: kuidas Eesti toitu maailma müüa \nLisli Pak Kadarbiku Köögivili OÜ ostujuht                                 \n11.55 – 12.00            I sessiooni kokkuvõte   \n  \n12.00 – 12.55            Lõuna\, fuajees toodete degusteerimised \n  \nII sessioon: TOIDUAINETÖÖSTUS JA MÕJUTEGURID \nModeraator: *            Sirje Potisepp \n13.00 – 14.10            “Eesti Parim Toiduaine 2026” väljakuulutamine\, võitjate autasustamine \nTseremoonial osaleb regionaal- ja põllumajandusminister Hendrik Johannes Terras \n14.10 – 14.40            Tarbimisest ja tarbijatest \nIvar Soone majandusteadlane ja käitumispsühholoog \n14.40 – 15.00             Tervislik paus\, toodete degusteerimine \n15.00 – 15.35            Kuidas läheb toiduaine- ja joogitööstus? \n Silver Kaur Maag Food OÜ – liha- ja piimatööstus \n Ragnar Kõiv Eesti Pagar AS AS – pagaritööstus \nTimo Pärn Saare Kala OÜ – kalatööstus \nJaanus Vihand A.Le Coq AS – joogitööstus \n15.35 – 16.30            Diskussioonivoor*: Kuidas kindlustada toidu kättesaadavus?   \nModeraator: Sirje Potisepp \nOsalejad: riigi esindaja – kinnitamisel\, Silver Kaur Maag Food\, Oleg Gross OG Elektra\, Ants- Hannes Viira EPKK\, Ando Leppiman Eesti Varude Keskus   \n16.30 – 16.45           Lõppsõna ja kokkuvõte – moderaator \nJärgneb EPT vastuvõtt banketisaalis.                 \n*korraldaja jätab endale õiguse teha vajadusel programmi muudatusi \n  \nOsalustasu: 50 EUR + km \n  \nTäpsem info ja registreerimine www.toiduliit.ee või telefonil +3726484621 \nKorraldaja: Eesti Toiduainetööstuse Liit \n \n  \n 
URL:https://www.pikk.ee/sundmus/xx-toiduainetoostuse-aastakonverents-2026-toit-ja-kindlustunne/
LOCATION:Tallinn\, Liivalaia 33\, Eesti
CATEGORIES:Toiduainete tootmine,Toit ja toiduohutus
END:VEVENT
BEGIN:VEVENT
DTSTART;TZID=Europe/Tallinn:20260430T100000
DTEND;TZID=Europe/Tallinn:20260430T151500
DTSTAMP:20260424T160446
CREATED:20260320T083013Z
LAST-MODIFIED:20260320T115114Z
UID:10011913-1777543200-1777562100@www.pikk.ee
SUMMARY:Veebikoolitus “Tootmishügieeni tagamine toidu käitlemisel”
DESCRIPTION:Prof Mati Roasto poolt läbiviidava koolituse eesmärgiks on anda ülevaade toidukäitlemisettevõtte tootmishügieeni mõjutavatest teguritest ning koristamise ja sanitatsiooni korraldamise alustest. \nKoolituse sisu: \n\nSeonduvad teabematerjalid ning populaarteaduslikud artiklid;\nSeadusandlusest tulenevad protsessi hügieenikriteeriumid;\nToidu tootmishügieeni eesmärgid\, korraldus ja head tavad;\nToidu tootmishügieeni seosed toidu ohutuse ja -kvaliteediga;\nToidu tootmishügieeni mõjutavad tegurid;\nEttevõtte personali hügieen ja selle olulisus toiduohutuse tagamisel;\nSeadmete ja hoonete hügieeniline disain;\nHügieenitsoonide vajalikkus toidukäitlemisettevõttes;\nBiokirmed ja mikroorganismide niššid toidu tootmiskeskkonnas ja nende tuvastamise\, hävitamise ja ennetamise võimalused;\nToidu tootmishügieeni enim mõjutavad mikroorganismid k.a. toidupatogeenid;\nTootmiskeskkonnas puhtuse tagamine ja seonduvad koristamise ja sanitatsiooni põhimõtted;\nTootmishügieeni probleemsete kohtade tuvastamise võimalused ning seonduvhügieeniproovide võtmine ning analüüsitulemuste tõlgendamine;\nTootmiskeskkonnas Listeria monocytogenes tuvastamine\, likvideerimine ja ennetamine.\n\nKoolituse sihtrühm: põllumajandus- ja toidusektori ettevõtjad (nii juriidilised kui füüsilised teemast huvitatud isikud) ja valdkonna nõustajad. \nKoolitus eeldab osalemist reaalajas ega ole järelvaadatav. \nKoolitusel osalemine on juriidilisele isikule vähese tähtsusega abi (VTA). \nKoolitusele registreerumine \nKoolitus on rahastatud “Põllumajanduslike teadmiste ja innovatsiooni süsteemi” ehk AKIS programmi raames\, toetab Euroopa Liit. \n  \nKoolituse korraldaja: \nEesti Maaülikool\nTel: 731 3275\nF. R. Kreutzwaldi 56/1-A306\nkarin.kiss@emu.ee\nwww.emu.ee/taiendusope\nwww.emu.ee/akis-tegevused-20252028
URL:https://www.pikk.ee/sundmus/veebikoolitus-tootmishugieeni-tagamine-toidu-kaitlemisel-2/
LOCATION:Veebis\, Eesti
CATEGORIES:Toiduainete tootmine
ORGANIZER;CN="Eesti Maa%C3%BClikooli avatud %C3%BClikool":MAILTO:avayl@emu.ee
END:VEVENT
END:VCALENDAR