BEGIN:VCALENDAR
VERSION:2.0
PRODID:-//PIKK.ee - ECPv6.13.2.1//NONSGML v1.0//EN
CALSCALE:GREGORIAN
METHOD:PUBLISH
X-WR-CALNAME:PIKK.ee
X-ORIGINAL-URL:https://www.pikk.ee
X-WR-CALDESC:Events for PIKK.ee
REFRESH-INTERVAL;VALUE=DURATION:PT1H
X-Robots-Tag:noindex
X-PUBLISHED-TTL:PT1H
BEGIN:VTIMEZONE
TZID:Europe/Tallinn
BEGIN:DAYLIGHT
TZOFFSETFROM:+0200
TZOFFSETTO:+0300
TZNAME:EEST
DTSTART:20120325T010000
END:DAYLIGHT
BEGIN:STANDARD
TZOFFSETFROM:+0300
TZOFFSETTO:+0200
TZNAME:EET
DTSTART:20121028T010000
END:STANDARD
END:VTIMEZONE
BEGIN:VEVENT
DTSTART;VALUE=DATE:20120515
DTEND;VALUE=DATE:20120516
DTSTAMP:20260423T052226
CREATED:20171231T220000Z
LAST-MODIFIED:20171231T220000Z
UID:10005260-1337040000-1337126399@www.pikk.ee
SUMMARY:Infopäev "Igalt ammlehmalt igal aastal terve ja elujõuline vasikas"
DESCRIPTION:Jõgevamaa \nAiri Külveti Puutsa talus Tõrve külas Puurmani vallas \nJõgevamaa \nTartu Põllumeeste Liit korraldab 16. mail Jõgevamaal infopäeva „Igalt ammlehmalt igal aastal terve ja elujõuline vasikas“. \nLektor: Aigar Suurmaa. \nTeemad: lehmvasikate võõrutamisjärgne õige söötmine; ammlehmade söötmine\, eriti sügisperioodil; ammlehmade paaritusperioodi organiseerimine selliselt\, et see tagaks kõigi emasloomade tiinestumise; poegimisperioodil ammlehmade ööpäevaringne jälgimine\, et poegimine toimuks häireteta; milline on normaalne sünnitusabi raskematel ja kergematel poegimisjuhtudel; jõuetu vasika sündimisel rakendatavad elustamisvõtted. \nAlgus: 10.00 Airi Külveti Puutsa talus Tõrve külas Puurmani vallas (Airi Külvet 5342 4274). \nSoovitav eelregistreerimine ttl[A]kodu.ee või 736 6955 (E-R: 9.00-16.00).
URL:https://www.pikk.ee/sundmus/infopaev-igalt-ammlehmalt-igal-aastal-terve-ja-elujouline-vasikas/
LOCATION:Jõgevamaa\, Jõgevamaa\, Eesti
CATEGORIES:Loomakasvatus
END:VEVENT
END:VCALENDAR