BEGIN:VCALENDAR
VERSION:2.0
PRODID:-//PIKK.ee - ECPv6.13.2.1//NONSGML v1.0//EN
CALSCALE:GREGORIAN
METHOD:PUBLISH
X-WR-CALNAME:PIKK.ee
X-ORIGINAL-URL:https://www.pikk.ee
X-WR-CALDESC:Events for PIKK.ee
REFRESH-INTERVAL;VALUE=DURATION:PT1H
X-Robots-Tag:noindex
X-PUBLISHED-TTL:PT1H
BEGIN:VTIMEZONE
TZID:Europe/Tallinn
BEGIN:DAYLIGHT
TZOFFSETFROM:+0200
TZOFFSETTO:+0300
TZNAME:EEST
DTSTART:20120325T010000
END:DAYLIGHT
BEGIN:STANDARD
TZOFFSETFROM:+0300
TZOFFSETTO:+0200
TZNAME:EET
DTSTART:20121028T010000
END:STANDARD
END:VTIMEZONE
BEGIN:VEVENT
DTSTART;VALUE=DATE:20120605
DTEND;VALUE=DATE:20120606
DTSTAMP:20260424T003451
CREATED:20171231T220000Z
LAST-MODIFIED:20171231T220000Z
UID:10005285-1338854400-1338940799@www.pikk.ee
SUMMARY:TEABEPÄEVAD KONSULENTIDELE
DESCRIPTION:Läänemaa \nRoosta Puhkeküla (Noarootsi vald\, Läänemaa) \nLäänemaa \nPõllumajandusministeerium koostöös Maaelu Edendamise Sihtasutusega korraldavad \nKONSULENTIDE TEABEPÄEVAD\, \nmis toimuvad 05. – 06. juunil 2012 Roosta Puhkekülas (Noarootsi vald\, Läänemaa). \nPäevakava 5.juuni:\n10.00–10.30 Tervituskohv\n10.30–11.00 Bioenergia praktiline pool (kuivatite\, katelde küttevõimalused) – Mihkel Vainula\, teraviljakasvataja\, Helgi & Pojad OÜ\n11.00–12.30 Ohutu toit – hargist kahvlini (from farm to fork) – Ingrid Vesmes\, PM toiduohutuse osakonna toiduhügieeni büroo juhataja; Heneli Lamp – VTA toiduosakonna juhataja\, Tiina Mällo\, VTA toiduosakonna loomse toidu büroo juhataja\n12.30–13.30 Lõuna\n13.30–14.30 MAK 2014-2020 üldeesmärgid\, edasised sammud – Katrin Rannik\, PM maaelu arengu osakonna põllumajanduskeskkonna büroo juhataja\n14.30–15.30 Looduskaitselise nõustamise vajadus – Kaja Lotman\, Keskkonnaamet\n15.30–16.00 Kohvipaus\n16.00–17.30 Veemajanduskavad ja meetmeprogrammide rakendamine ning\npõllumajanduse teema tutvustamine lähemalt – Milvi Aun ja Marika Tamm\, Keskkonnaameti veemajanduse koordinaatorid\n17.30-18.30 Õhtusöök \nPäevakava 6.juuni:\n8.30-10.30 Põllumajandusmaa rendilepingu õiguslikud alused – Kaili-Helina Kolts\, Aachen Õigusabi OÜ\n10.30-11.00 Kohvipaus\n11.00-12.00 Äriprojektide koostamine ja hindamine (panga näitel) – Sirle Truuts\, Citadele banka Eesti filiaal AS\n12.00-12.30 Kokkuvõte taime- ja loomakasvatuse konsulentide õppereisist USA-sse – Alvar Timmi\, Rapla Nõuandjate Ühendus MTÜ\n12.30-13.30 Ühise tegutsemise kokkuleppe tegevused – Mae Alviste\, Põlvamaa Põllumeeste Liit\n13.30-14.30 Lõuna \nInfo: info[A]nouandeteenistus.ee
URL:https://www.pikk.ee/sundmus/teabepaevad-konsulentidele/
LOCATION:Läänemaa
CATEGORIES:Muu
END:VEVENT
BEGIN:VEVENT
DTSTART;VALUE=DATE:20120606
DTEND;VALUE=DATE:20120607
DTSTAMP:20260424T003451
CREATED:20171231T220000Z
LAST-MODIFIED:20171231T220000Z
UID:10005286-1338940800-1339027199@www.pikk.ee
SUMMARY:TEABEPÄEVAD KONSULENTIDELE
DESCRIPTION:Läänemaa \nRoosta Puhkeküla (Noarootsi vald\, Läänemaa) \nLäänemaa \nPõllumajandusministeerium koostöös Maaelu Edendamise Sihtasutusega korraldavad \nKONSULENTIDE TEABEPÄEVAD\, \nmis toimuvad 05. – 06. juunil 2012 Roosta Puhkekülas (Noarootsi vald\, Läänemaa). \nPäevakava 5.juuni:\n10.00–10.30 Tervituskohv\n10.30–11.00 Bioenergia praktiline pool (kuivatite\, katelde küttevõimalused) – Mihkel Vainula\, teraviljakasvataja\, Helgi & Pojad OÜ\n11.00–12.30 Ohutu toit – hargist kahvlini (from farm to fork) – Ingrid Vesmes\, PM toiduohutuse osakonna toiduhügieeni büroo juhataja; Heneli Lamp – VTA toiduosakonna juhataja\, Tiina Mällo\, VTA toiduosakonna loomse toidu büroo juhataja\n12.30–13.30 Lõuna\n13.30–14.30 MAK 2014-2020 üldeesmärgid\, edasised sammud – Katrin Rannik\, PM maaelu arengu osakonna põllumajanduskeskkonna büroo juhataja\n14.30–15.30 Looduskaitselise nõustamise vajadus – Kaja Lotman\, Keskkonnaamet\n15.30–16.00 Kohvipaus\n16.00–17.30 Veemajanduskavad ja meetmeprogrammide rakendamine ning\npõllumajanduse teema tutvustamine lähemalt – Milvi Aun ja Marika Tamm\, Keskkonnaameti veemajanduse koordinaatorid\n17.30-18.30 Õhtusöök \nPäevakava 6.juuni:\n8.30-10.30 Põllumajandusmaa rendilepingu õiguslikud alused – Kaili-Helina Kolts\, Aachen Õigusabi OÜ\n10.30-11.00 Kohvipaus\n11.00-12.00 Äriprojektide koostamine ja hindamine (panga näitel) – Sirle Truuts\, Citadele banka Eesti filiaal AS\n12.00-12.30 Kokkuvõte taime- ja loomakasvatuse konsulentide õppereisist USA-sse – Alvar Timmi\, Rapla Nõuandjate Ühendus MTÜ\n12.30-13.30 Ühise tegutsemise kokkuleppe tegevused – Mae Alviste\, Põlvamaa Põllumeeste Liit\n13.30-14.30 Lõuna \nInfo: info[A]nouandeteenistus.ee
URL:https://www.pikk.ee/sundmus/teabepaevad-konsulentidele-2/
LOCATION:Läänemaa
CATEGORIES:Muu
END:VEVENT
BEGIN:VEVENT
DTSTART;VALUE=DATE:20120606
DTEND;VALUE=DATE:20120607
DTSTAMP:20260424T003451
CREATED:20171231T220000Z
LAST-MODIFIED:20171231T220000Z
UID:10005325-1338940800-1339027199@www.pikk.ee
SUMMARY:Lihaveisekasvatuse koolitus
DESCRIPTION:Viljandimaa \nOlustvere Mõisa leivakoda \nViljandimaa \nOlustvere Teenindus ja Maamajanduskool viib läbi koolituskursuse \nLIHAVEISEKASVATUS \nSihtrühm: Lihaveiseid kasvatatavatele põllumajandustootjatele igapäevatööna või töövõtu-\, käsundus või mõne muu lepingu alusel farmitöötajatele \nMaht: 48 akadeemilist tundi auditoorset ja praktilist õpet ( kuuepäevane õpe) \nToimumisaeg: 6. – 7. juuni; 19. – 22.juuni.2012.a. \nAjakava ja teemad:\n6. – 7. juuni Olustvere Mõisa Leivakojas\n06.juuni kell 11:30 – 19:00. Võõrutus\, vasikas\, noorloom\, söötmine\, lektor Gerry Giggins Iirimaalt.\n07.juuni kell 08:30 – 13:00. Lihakvaliteeti mõjutavad tegurid\, lektor Gerry Giggins Iirimaalt. Põhisöötade olulisus\, lektor Pilleriin Puskar. \n06. ja 07.juuni õhtu ja lõunasöögi eest tasub osaleja 25.-eurot meie poolt väljastatud arve alusel peale registreerimist. Ööbimine etteteatamisel 10.- /öö \nKõigile soovijaile jätkub õppetöö 19.- 22. juuni Olustvere TMK õppehoones\n19.06 Lihaveiste tervishoid. Alar Onoper EMÜ Suurloomakliiniku arst\n20.06 Rohumaade kasutus. Uno Tamm EMVI vanemteadur\n21. ja 22.06 Lihaveiste füsioloogia\, praktiline õpe. Marika Oeselg Olustvere TMK\nÕppetöö toimub 19.-22 juuni iga päev\n09.00  – 10.30 õppetöö\n10.30 – 10.45 paus\n10.45 – 12.15 õppetöö\n12.15 – 13.00 lõuna (tasuline)\n13.00 – 14.30 õppetöö\n14.30 – 14.45 paus\n14.45 – 16.15 õppetöö \nKoolitus osalejale tasuta. Registreerimine kuni 04. juuni. kool@olustvere.edu.ee ja tel. 4374290. Info tel. 5136242 Marika Oeselg\n19.-22 juuni ööbimine 5.-/öö. Lõuna ja õhtusöögid kooli sööklas tasumine kohapeal.
URL:https://www.pikk.ee/sundmus/lihaveisekasvatuse-koolitus/
LOCATION:Viljandimaa\, Viljandimaa\, Eesti
CATEGORIES:Loomakasvatus
GEO:58.2821746;25.5752233
END:VEVENT
BEGIN:VEVENT
DTSTART;VALUE=DATE:20120606
DTEND;VALUE=DATE:20120607
DTSTAMP:20260424T003451
CREATED:20171231T220000Z
LAST-MODIFIED:20171231T220000Z
UID:10005336-1338940800-1339027199@www.pikk.ee
SUMMARY:Läti-Leedu-Valgevene õppereis
DESCRIPTION:Lääne-Virumaa \nLäti\, Leedu\, Valgevene \nLääne-Virumaa \n	MTÜ Virumaa Põllumeeste Liit\, Lääne-Virumaa Põllumajanduse Nõuandekeskus korraldab õppereisi/aruteluürituse\, mille käigus külastatakse Läti\, Leedu ja Valgevene ettevõtteid. Õppereis korraldatakse Turuarendus 2012 vahenditega.
URL:https://www.pikk.ee/sundmus/lati-leedu-valgevene-oppereis/
LOCATION:Lääne-Virumaa\, Lääne-Virumaa\, Eesti
CATEGORIES:Maaettevõtlus
END:VEVENT
BEGIN:VEVENT
DTSTART;VALUE=DATE:20120607
DTEND;VALUE=DATE:20120608
DTSTAMP:20260424T003451
CREATED:20171231T220000Z
LAST-MODIFIED:20171231T220000Z
UID:10005287-1339027200-1339113599@www.pikk.ee
SUMMARY:Põllumajanduslik tootmine ja katsed Pilsu talus
DESCRIPTION:Tartumaa \nKonguta Vald\, Annikoru küla\, Annikoru Teraviljakeskus \nTartumaa
URL:https://www.pikk.ee/sundmus/pollumajanduslik-tootmine-ja-katsed-pilsu-talus/
LOCATION:Tartumaa\, Eesti
CATEGORIES:Taimekasvatus
GEO:58.4057128;26.801576
END:VEVENT
BEGIN:VEVENT
DTSTART;VALUE=DATE:20120607
DTEND;VALUE=DATE:20120608
DTSTAMP:20260424T003451
CREATED:20171231T220000Z
LAST-MODIFIED:20171231T220000Z
UID:10005288-1339027200-1339113599@www.pikk.ee
SUMMARY:Õppepäev "Mahekülvikorra kogemused Olustveres" EI TOIMU
DESCRIPTION:Viljandimaa \nOlustvere Teenindus- ja Maamajanduskool \nViljandimaa \n  \nOSALEJATE VÄHESUSE TÕTTU ÕPPEPÄEVA EI TOIMU! \n  \nOlustvere Teenindus- ja Maamajanduskool korraldab õppepäeva \nMAHEKÜLVIKORRA KOGEMUSED OLUSTVERES \nAeg ja koht: 07. juuni 2012. a. algusega kell 11.00 \nSihtgrupp: mahetootjad ja teised mahepõllumajandusest huvitatud inimesed \nEesmärk: tutvustada asjahuvilistele mahekülvikorra katse tulemusi \nMaksumus: tasuta \nKava:\n11.00…11.15  Kogunemine\, kohv\n11.15…11.30  Tervitus; Olustvere tegemistest   -A. Pastak (Olustvere TMK)\n11.30…12.00 Mahekülvikorra katse tutvustus\, tegevus algaastatel (2002…2007) -M. Paivel (Olustvere TMK)\n12.00…12.30 Mahekülvikorra katse tulemused (saagid\, mullaomaduste muutused) -M. Järvan (EMVI)\n12.30…13.00 Mahekülvikorra katse tulemused (umbrohtumus\, mullaelustik) -L.Edesi  (EMVI)\n13.00…13.15 Kohv\n13.15…13.30 Mahekatse tulud-kulud  -M.Paivel (Olustvere TMK)\n13.30…14.00 Mahetootja kogemused. Mida ootab tootja põllumajandusteaduselt? -A. Pikkmets (Mätiku talu)\n14.00 …14.15 Lõuna\n14.15….. Tutvumine mahekülvikorra katsega. Vestlus põllul. Kokkuvõtted\, arutelu. \nRegistreerimine: 4. juunini tel. 43 74 290 või e-mail: kool[A]olustvere.edu.ee
URL:https://www.pikk.ee/sundmus/oppepaev-mahekulvikorra-kogemused-olustveres-ei-toimu/
LOCATION:Viljandimaa\, Viljandimaa\, Eesti
CATEGORIES:Taimekasvatus
GEO:58.2821746;25.5752233
END:VEVENT
BEGIN:VEVENT
DTSTART;VALUE=DATE:20120607
DTEND;VALUE=DATE:20120608
DTSTAMP:20260424T003451
CREATED:20171231T220000Z
LAST-MODIFIED:20171231T220000Z
UID:10005326-1339027200-1339113599@www.pikk.ee
SUMMARY:Lihaveisekasvatuse koolitus
DESCRIPTION:Viljandimaa \nOlustvere Mõisa leivakoda \nViljandimaa \nOlustvere Teenindus ja Maamajanduskool viib läbi koolituskursuse \nLIHAVEISEKASVATUS \nSihtrühm: Lihaveiseid kasvatatavatele põllumajandustootjatele igapäevatööna või töövõtu-\, käsundus või mõne muu lepingu alusel farmitöötajatele \nMaht: 48 akadeemilist tundi auditoorset ja praktilist õpet ( kuuepäevane õpe) \nToimumisaeg: 6. – 7. juuni; 19. – 22.juuni.2012.a. \nAjakava ja teemad:\n6. – 7. juuni Olustvere Mõisa Leivakojas\n06.juuni kell 11:30 – 19:00. Võõrutus\, vasikas\, noorloom\, söötmine\, lektor Gerry Giggins Iirimaalt.\n07.juuni kell 08:30 – 13:00. Lihakvaliteeti mõjutavad tegurid\, lektor Gerry Giggins Iirimaalt. Põhisöötade olulisus\, lektor Pilleriin Puskar. \n06. ja 07.juuni õhtu ja lõunasöögi eest tasub osaleja 25.-eurot meie poolt väljastatud arve alusel peale registreerimist. Ööbimine etteteatamisel 10.- /öö \nKõigile soovijaile jätkub õppetöö 19.- 22. juuni Olustvere TMK õppehoones\n19.06 Lihaveiste tervishoid. Alar Onoper EMÜ Suurloomakliiniku arst\n20.06 Rohumaade kasutus. Uno Tamm EMVI vanemteadur\n21. ja 22.06 Lihaveiste füsioloogia\, praktiline õpe. Marika Oeselg Olustvere TMK\nÕppetöö toimub 19.-22 juuni iga päev\n09.00  – 10.30 õppetöö\n10.30 – 10.45 paus\n10.45 – 12.15 õppetöö\n12.15 – 13.00 lõuna (tasuline)\n13.00 – 14.30 õppetöö\n14.30 – 14.45 paus\n14.45 – 16.15 õppetöö \nKoolitus osalejale tasuta. Registreerimine kuni 04. juuni. kool@olustvere.edu.ee ja tel. 4374290. Info tel. 5136242 Marika Oeselg\n19.-22 juuni ööbimine 5.-/öö. Lõuna ja õhtusöögid kooli sööklas tasumine kohapeal.
URL:https://www.pikk.ee/sundmus/lihaveisekasvatuse-koolitus-2/
LOCATION:Viljandimaa\, Viljandimaa\, Eesti
CATEGORIES:Loomakasvatus
GEO:58.2821746;25.5752233
END:VEVENT
BEGIN:VEVENT
DTSTART;VALUE=DATE:20120607
DTEND;VALUE=DATE:20120608
DTSTAMP:20260424T003451
CREATED:20171231T220000Z
LAST-MODIFIED:20171231T220000Z
UID:10005333-1339027200-1339113599@www.pikk.ee
SUMMARY:Saaremaa tootjate õppereis Tartu- ja Põlvamaale
DESCRIPTION:Saaremaa \nSaaremaa – Tartumaa (Annikoru küla) – Põlvamaa (Põlva vald)  \nSaaremaa \n	MTÜ Saarte Nõuandekeskus korraldab Saaremaa tootjatele õppereisi aasta põllumeeste juurde  – 7. juunil  – Annikoru  külas Tartumaal Madis Ajaotsa  Rannu Seemnekeskuses  8. juunil  –  Põlvamaal Toomas Tobrelutsu talus. Mõlemal päeval kohtumised  kell 10.00 kuni 14.30. Õppereis on toetatav EL  MAK meetmest 1.1. Viitenumber  112011740735 Info ja kontakt: Mai Vaher\, tel 5136756
URL:https://www.pikk.ee/sundmus/saaremaa-tootjate-oppereis-tartu-ja-polvamaale/
LOCATION:Saaremaa\, Saaremaa
CATEGORIES:Taimekasvatus
GEO:58.3705526;22.6876383
END:VEVENT
BEGIN:VEVENT
DTSTART;VALUE=DATE:20120608
DTEND;VALUE=DATE:20120609
DTSTAMP:20260424T003451
CREATED:20171231T220000Z
LAST-MODIFIED:20171231T220000Z
UID:10005289-1339113600-1339199999@www.pikk.ee
SUMMARY:Infopäev "Toiduainete tootmishügieen"
DESCRIPTION:Läänemaa \nPäeva Villa\, lai tn 7\, Haapsalu \nLäänemaa \nEesti Maaülikool korraldab Eesti Maaelu Arengukava 2007-2013 meetme 1.1. raames infopäeva \nTOOTMISHÜGIEEN JA MIKROORGANISMIDE KASVU MÕJUTAVAD TEGURID\n(Toiduainete tootmishügieen) \nSihtrühm: põllumajandustoodete tootmise\, toidu tootmise või töötlemisega tegelevad füüsilised või eraõiguslikud juriidilised isikud ja tema töötajad \nMaht: 7 akadeemilist tundi \nTeemad:\n-Toiduga seonduvad ohud ja nende seos ettevõtte tootmishügieeniga\n-Toidu saastumise k.a. ristsaastumise võimalused ja selle vältimine\n-Olulisemad toidupatogeenid ja nende seosed ettevõtte tootmishügieeniga\n-Tootmisruumide ehituslikud aspektid ja nende seos ettevõtte toidu- ja tootmishügieeniga\n-Hügieenitsoonide vajalikkus ja selle seos personalihügieeniga\n-Toidupatogeenidest ja riknemist põhjustavast mikrofloorast koosnevate biofilmide teke\, avastamine  ja likvideerimine\n-Listeria monocytogenes tootmishügieeni enim mõjutava faktorina\, probleemi ennetamise ja likvideerimise võimalused\n-Käitlemisettevõtte sanitatsiooni põhimõtted\, eelkõige pesemisel ja desinfitseerimisel vajalike teadmiste oskuslik rakendamine tagamaks ettevõttes eeskujulikku tootmispindade puhtust\n-Toidu- ja tootmishügieeniga seonduv seadusandlus ning selle tõlgendamine \nÕppejõud: Mati Roasto\, DVM\, PhD\, Eesti Maaülikooli Veterinaarmeditsiini ja loomakasvatuse instituudi Toiduhügieeni osakonna juhataja \nAjakava:\n10.00 – 11.30 õppetöö\n11.30 – 11.40 paus\n11.40 – 13.10 õppetöö\n13.10 – 13.40 kohvipaus\n13.40 – 15.10 õppetöö\n15.10 – 15.15 paus\n15.15 – 16.00 õppetöö \nKursus on sihtrühmale tasuta. \nKohtade arv piiratud\, VAJALIK EELREGISTREERIMINE\nMaaülikooli avatud ülikooli tel 731 3175\, 731 3275\, 731 3174 või täites registreerumisvormi maaülikooli kodulehe aadressil http://avatudylikool.emu.ee/taiendope/tahtis \nInfopäeva korraldamist toetab Euroopa Liit.
URL:https://www.pikk.ee/sundmus/infopaev-toiduainete-tootmishugieen/
LOCATION:Läänemaa
CATEGORIES:Muu
END:VEVENT
END:VCALENDAR