BEGIN:VCALENDAR
VERSION:2.0
PRODID:-//PIKK.ee - ECPv6.13.2.1//NONSGML v1.0//EN
CALSCALE:GREGORIAN
METHOD:PUBLISH
X-WR-CALNAME:PIKK.ee
X-ORIGINAL-URL:https://www.pikk.ee
X-WR-CALDESC:Events for PIKK.ee
REFRESH-INTERVAL;VALUE=DURATION:PT1H
X-Robots-Tag:noindex
X-PUBLISHED-TTL:PT1H
BEGIN:VTIMEZONE
TZID:Europe/Tallinn
BEGIN:DAYLIGHT
TZOFFSETFROM:+0200
TZOFFSETTO:+0300
TZNAME:EEST
DTSTART:20120325T010000
END:DAYLIGHT
BEGIN:STANDARD
TZOFFSETFROM:+0300
TZOFFSETTO:+0200
TZNAME:EET
DTSTART:20121028T010000
END:STANDARD
END:VTIMEZONE
BEGIN:VEVENT
DTSTART;VALUE=DATE:20121022
DTEND;VALUE=DATE:20121023
DTSTAMP:20260425T033811
CREATED:20171231T220000Z
LAST-MODIFIED:20171231T220000Z
UID:10005579-1350864000-1350950399@www.pikk.ee
SUMMARY:Seminar " Mahetoidu turustamine"
DESCRIPTION:Läänemaa \nHaapsalu Kutsehariduskeskus (Ehitajate tee 3 (ruum 209)\, 90401 Uuemõisa\, Läänemaa) \nLäänemaa \n\n	  \n\n	Seminar \n\n	Mahetoidu turustamine \n\n	  \n\n	Aeg: 22. oktoober 2012 kell 12:00- 17:00 \n\n	Koht: Haapsalu Kutsehariduskeskus (Ehitajate tee 3 (ruum 209)\, 90401 Uuemõisa\, Läänemaa) \n\n	Korraldaja: Ökoloogiliste Tehnoloogiate Keskus koostöös Läänemaa Mahetootjate Seltsiga \n\n	Tellija: Põllumajandusministeerium \n\n	  \n\n	Käsitletavad teemad: \n\n	  \n\n\n		Mahepõllumajanduse põhimõtted ja nõuded. Airi Vetemaa\, Eesti Mahepõllumajanduse Sihtasutus\n\n		Mahetoodete turg ja hinnad Eestis ja Euroopas. Merit Mikk\, Ökoloogiliste Tehnoloogiate Keskus\n\n		Mahetoodete märgistus. Mahetoodete müügiga tegelevate ettevõtete tunnustamine\,nõuded mahepõllumajandustoodete müümisel. Airi Vetemaa\n\n		Leader projekti Kohalik toit kohaliku kogukonna toidulauale. Projekti tegevuste tutvustus ja arutelu edasiste plaanide üle. Lea Lai\, Kodukant Läänemaa\n\n		Lääne maakonna avatud mahetalude kaardi tutvustus. Arutelu edasiste plaanide üle. Jaak Sünt\, Läänemaa Mahetootjate Selts\n\n		Mahetoodete otseturustamise võimalused. Mida kujutab endast otse tootjalt tarbijale müügisüsteem (O.T.T). Mis on selle eelised ja puudused?  O.T.T maailmas\, O.T.T Eestis. Läänemaa tarbijauuringu tulemused. Miks O.T.T Läänemaale? Karin Kuusemaa\n\n		Mahepõllumajandusega seotud poliitilised suundumused (k.a MAK 2014-2020 ettepanekud)\, arutelu. Merit Mikk\n\n\n	 \n\n	Seminaril osalemine on tasuta. Osalemiseks on vajalik registreerimine e-mailil mahepm[A]gmail.com (eelistatult) või telefonil\n	5662 0955. Registreerimisel kindlasti esitada oma nimi\, soovitud\n	koolituse koht ja kuupäev.  Kohtade arv on piiratud.\n	 \n\n	 \n\n	Ökoloogiliste Tehnoloogiate Keskus
URL:https://www.pikk.ee/sundmus/seminar-mahetoidu-turustamine/
LOCATION:Läänemaa
CATEGORIES:Turundus
END:VEVENT
BEGIN:VEVENT
DTSTART;VALUE=DATE:20121022
DTEND;VALUE=DATE:20121023
DTSTAMP:20260425T033811
CREATED:20171231T220000Z
LAST-MODIFIED:20171231T220000Z
UID:10005525-1350864000-1350950399@www.pikk.ee
SUMMARY:Mahepõllumajanduslik algõppe koolitus
DESCRIPTION:Lääne-Virumaa \nRakvere Vanalinna kool\, Pikk 18\, Rakvere \nLääne-Virumaa \n\n	  \n\n	Eesti Mahepõllumajanduse SA korraldab mahepõllumajanduse algõppe koolitused\, valida on kaks teemat: maheloomakasvatus ja mahetaimekasvatus \n\n	Teema: maheloomakasvatus \n\n	8. oktoober    – Pärnu Põllumajandusameti saalis\, Kerese 4\, Pärnu \n\n	9. oktoober    – Saarte Nõuandekeskuses\, Tallinna tn 27\, Kuressaare \n\n	22. oktoober  – Rakvere Vanalinna kool\, Pikk 18\, Rakvere \n\n	29. oktoober  – Valga Maavalitsuse saal\, Kesk 12\, Valga \n\n	  \n\n	Kava \n\n	10:00 Külvikord loomakasvatusega tegelevas ettevõttes \n\n	Loomade sissetoomine ettevõttesse \n\n	Loomatervishoid\, veterinaarsed jm toimingud \n\n	12:00 Kohvipaus \n\n	12:20 Pidamistingimused. Loomade söötmine\, erinevad ratsioonid \n\n	Kuidas saada hakkama 100% mahesöödaga \n\n	14:50 Lõpp \n\n	  \n\n	Lektorid: Margo Mansberg ja Ragnar Leming \n\n	  \n\n	  \n\n	Teema: mahetaimekasvatus \n\n	  \n\n	16. oktoober – Eesti Maaülikooli Mahekeskus\, Õssu küla\,  Ülenurme vald\, Tartumaa \n\n	23. oktoober – Põllumajandusameti saal\, Kerese 4\, Pärnu \n\n	24. oktoober – Saarte Nõuandekeskus\, Tallinna tn 27\, Kuressaare \n\n	30. oktoober – Harju Taluliit\, III korrus\, Üksnurme tee 8\, Saku \n\n	  \n\n	Päevakava \n\n	10:00 Levinumad umbrohud rühvelkultuuride ja teraviljade põldudel \n\n	Levinumad kahjurid ja nende tõrje eri kultuuridel \n\n\n		12:00 Kohvipaus \n\n\n	12:20 Taimekahjustajate tõrje maaharimisvõtete abil. Erinevate kultuuride väetamine \n\n	14:50 Lõpp \n\n	Lektorid on mahenõustajad: Veeve Kaasik ja Lilia Kulli või Karin Hüva \n\n	Koolitus on tasuta. Vajalik on registreerumine hiljemalt kaks päeva enne koolituse toimumist. Info ja registreerumine e-mail: mahepm[A]gmail.com (eelistatult) või tel 5662 0955 \n\n	NB! Neil mahepõllumajandusliku tootmise toetuse taotlejatel\, kes on ühel mahekoolitusel juba osalenud\, on kohustuslik osaleda ühel pakutud koolitustest. Neil\, kes pole veel osalenud\, on kohustuslik osaleda kahel koolitusel.  \n\n	Juhul\, kui viimase viie aasta jooksul on vähemalt kahel arvessemineval mahekoolitusel osaletud\, siis pole algõppe koolitusel osalemine kohustuslik. \n\n	  \n\n	Koolituse korraldab Põllumajandusministeeriumi tellimusel Eesti Mahepõllumajanduse Sihtasutus. Toetab Euroopa Liit.
URL:https://www.pikk.ee/sundmus/mahepollumajanduslik-algoppe-koolitus-3/
LOCATION:Lääne-Virumaa\, Lääne-Virumaa\, Eesti
CATEGORIES:Loomakasvatus
END:VEVENT
BEGIN:VEVENT
DTSTART;VALUE=DATE:20121023
DTEND;VALUE=DATE:20121024
DTSTAMP:20260425T033811
CREATED:20171231T220000Z
LAST-MODIFIED:20171231T220000Z
UID:10005546-1350950400-1351036799@www.pikk.ee
SUMMARY:XXI TAIMEKAITSEPÄEV teemal  "Toidu kvaliteet ja ohutus"
DESCRIPTION:Tartumaa \nTartus\, Kantri hotellis (Riia t. 215) \nTartumaa \n\n	  \n\n	Eesti Maaülikooli Põllumajandus- ja keskkonnainstituudi taimekaitse osakond ja Eesti Taimekaitse Selts\n\n	korraldavad\n\n	23. oktoobril 2012. a algusega kell 10.00 Tartus\, Kantri hotellis (Riia t. 215)\n\n	 \n\n	XXI TAIMEKAITSEPÄEVA\n\n	 \n\n	„TOIDU KVALITEET JA OHUTUS”\n\n	 \n\n	Päevakava:\n\n	10.00–10.30 Registreerimine \n\n	10.30–11.40 Ettekanded:\n\n	 \n\n	Avasõnad – Marika Mänd\, EMÜ Põllumajandus- ja keskkonnainstituut\, taimekaitse osakond\n\n	Taimekaitsevahendite jäägid toidus – Külli Rae\, Põllumajandusministeerium\, toidujärelevalve büroo        \n\n	Teravilja  kvaliteeti ja ohutust mõjutavad tegurid – Heino Lõiveke\, EMVI taimekasvatuse osakond \n	11.40 Kohvipaus \n\n	12.00–13.00 Ettekanded:\n\n	 \n\n	Antibiootikumide jäägid piimas – Birgit Aasmäe\, EMÜ Veterinaarmeditsiini ja loomakasvatuse instituut\, looma tervise ja keskkonna osakond  \n\n	Liha hügieeniline kvaliteet ja ohutus – Mati Roasto\, EMÜ Veterinaarmeditsiini ja loomakasvatuse instituut\, toiduhügieeni osakond \n\n	 \n\n	13.00 Lõuna\n\n	13.45 Stendiettekanded\n\n	14.00–15.30 Ettekanded:\n\n	 \n\n	Taimekaitsevahendite jäägid puuviljades ja marjades – Krista Tiirmaa ja Toivo Univer\, EMÜ Põllumajandus-ja keskkonnainstituut\, Polli Aiandusuuringute Keskus\n\n	Pestitsiidijääkide mõju inimese tervisele – Hele Everaus\, TÜ Hematoloogia-onkoloogia kliinik\n\n	 \n\n	15.30–16.00 Arutelu\, kokkuvõte \n\n	 \n\n	Infopäev on tasuta.\n\n	\n	Täiendav info:  katrin.jogar@emu.ee  või tel. 7313351 (Katrin Jõgar)  \n\n	 
URL:https://www.pikk.ee/sundmus/xxi-taimekaitsepaev-teemal-toidu-kvaliteet-ja-ohutus/
LOCATION:Tartumaa\, Eesti
CATEGORIES:Taimekasvatus
GEO:58.4057128;26.801576
END:VEVENT
BEGIN:VEVENT
DTSTART;VALUE=DATE:20121023
DTEND;VALUE=DATE:20121024
DTSTAMP:20260425T033811
CREATED:20171231T220000Z
LAST-MODIFIED:20171231T220000Z
UID:10005569-1350950400-1351036799@www.pikk.ee
SUMMARY:Maakondlik infopäev 'Lambakasvatus'
DESCRIPTION:Võrumaa \nKangsti küla Varstu vald Võrumaa \nVõrumaa \n\n	Võru Taluliit korraldab maakondliku infopäeva teemal 'Lambakasvatus' \n\n	23.oktoobril algus kell 9.30 Tuuma Talus Kangsti külas Võrumaal \n\n	10.00 -12.00  lammaste söötmine-pidamine\, aretus ja karjatervis\,  arutelu ja praktilised näpunäited  \n	12.30-13.00 lõunapaus  \n	13.00-16.30 turundus\,  lambakasvatuse majanduslikud aspektid\n	Lektorid lambakasvatuse konsulendid Liilia Tali ja Ants Kuks \n\n	Vajalik eelregistreerimine kuni 19. oktoober  53 499 454 ( Marika Parv) \n\n	Üritust toetab Euroopa Liit \n	 
URL:https://www.pikk.ee/sundmus/maakondlik-infopaev-lambakasvatus/
LOCATION:Võrumaa\, Võrumaa
CATEGORIES:Loomakasvatus
GEO:57.7377372;27.1398938
END:VEVENT
BEGIN:VEVENT
DTSTART;VALUE=DATE:20121023
DTEND;VALUE=DATE:20121024
DTSTAMP:20260425T033811
CREATED:20171231T220000Z
LAST-MODIFIED:20171231T220000Z
UID:10005341-1350950400-1351036799@www.pikk.ee
SUMMARY:Integreeritud taimekaitse koolitus taimekaitse valdkonna konsulentidele
DESCRIPTION:Põlvamaa \nRäpina Aianduskoolis (Räpina\, Pargi 32) \nPõlvamaa \n	Räpina Aianduskool annab teada\, et integreeritud taimekaitse koolitus taimekaitse valdkonna konsulentidele toimub alljärgnevalt: \n\n	* 23.-24. oktoobril kell 9.30 Räpina Aianduskoolis  (Pargi 32\, Räpina) \n\n	Räpina õppegrupi koolitusest osavõtjatele infoks: \n	Ööbimine 6€\, öömaja broneerida tel.: 53 333 554. Broneerimisel öelda\, et tullakse kursusele (vastasel juhul on ööbimine kallim). \n\n	\n	Registreerimine: Räpina Aianduskooli kodulehel registreerimisvorm http://www.aianduskool.ee/registreerimine.php \n	Info ja kontakt: Eda Gross\, tel 796 1549\n	 http://www.aianduskool.ee/taienduskoolitus
URL:https://www.pikk.ee/sundmus/integreeritud-taimekaitse-koolitus-taimekaitse-valdkonna-konsulentidele/
LOCATION:Põlvamaa\, Põlvamaa\, Eesti
CATEGORIES:Taimekasvatus
GEO:58.1160622;27.2066394
END:VEVENT
BEGIN:VEVENT
DTSTART;VALUE=DATE:20121023
DTEND;VALUE=DATE:20121024
DTSTAMP:20260425T033811
CREATED:20171231T220000Z
LAST-MODIFIED:20171231T220000Z
UID:10005530-1350950400-1351036799@www.pikk.ee
SUMMARY:Mahepõllumajanduslik algõppe koolitus
DESCRIPTION:Pärnumaa \nPärnu Põllumajandusameti saal\, Kerese 4\, Pärnu \nPärnumaa \n\n	  \n\n	Eesti Mahepõllumajanduse SA korraldab mahepõllumajanduse algõppe koolitused\, valida on kaks teemat: maheloomakasvatus ja mahetaimekasvatus \n\n	  \n\n	Teema: maheloomakasvatus \n\n	8. oktoober    – Pärnu Põllumajandusameti saalis\, Kerese 4\, Pärnu \n\n	9. oktoober    – Saarte Nõuandekeskuses\, Tallinna tn 27\, Kuressaare \n\n	22. oktoober  – Rakvere Vanalinna kool\, Pikk 18\, Rakvere \n\n	29. oktoober  – Valga Maavalitsuse saal\, Kesk 12\, Valga \n\n	  \n\n	Kava \n\n	10:00 Külvikord loomakasvatusega tegelevas ettevõttes \n\n	Loomade sissetoomine ettevõttesse \n\n	Loomatervishoid\, veterinaarsed jm toimingud \n\n	12:00 Kohvipaus \n\n	12:20 Pidamistingimused. Loomade söötmine\, erinevad ratsioonid \n\n	Kuidas saada hakkama 100% mahesöödaga \n\n	14:50 Lõpp \n\n	  \n\n	Lektorid: Margo Mansberg ja Ragnar Leming \n\n	  \n\n	  \n\n	Teema: mahetaimekasvatus \n\n	  \n\n	16. oktoober – Eesti Maaülikooli Mahekeskus\, Õssu küla\,  Ülenurme vald\, Tartumaa \n\n	23. oktoober – Põllumajandusameti saal\, Kerese 4\, Pärnu \n\n	24. oktoober – Saarte Nõuandekeskus\, Tallinna tn 27\, Kuressaare \n\n	30. oktoober – Harju Taluliit\, III korrus\, Üksnurme tee 8\, Saku \n\n	  \n\n	Päevakava \n\n	10:00 Levinumad umbrohud rühvelkultuuride ja teraviljade põldudel \n\n	Levinumad kahjurid ja nende tõrje eri kultuuridel \n\n\n		12:00 Kohvipaus \n\n\n	12:20 Taimekahjustajate tõrje maaharimisvõtete abil. Erinevate kultuuride väetamine \n\n	14:50 Lõpp \n\n	Lektorid on mahenõustajad: Veeve Kaasik ja Lilia Kulli või Karin Hüva \n\n	Koolitus on tasuta. Vajalik on registreerumine hiljemalt kaks päeva enne koolituse toimumist. Info ja registreerumine e-mail: mahepm[A]gmail.com (eelistatult) või tel 5662 0955 \n\n	NB! Neil mahepõllumajandusliku tootmise toetuse taotlejatel\, kes on ühel mahekoolitusel juba osalenud\, on kohustuslik osaleda ühel pakutud koolitustest. Neil\, kes pole veel osalenud\, on kohustuslik osaleda kahel koolitusel.  \n\n	Juhul\, kui viimase viie aasta jooksul on vähemalt kahel arvessemineval mahekoolitusel osaletud\, siis pole algõppe koolitusel osalemine kohustuslik. \n\n	  \n\n	Koolituse korraldab Põllumajandusministeeriumi tellimusel Eesti Mahepõllumajanduse Sihtasutus. Toetab Euroopa Liit.
URL:https://www.pikk.ee/sundmus/mahepollumajanduslik-algoppe-koolitus-6/
LOCATION:Pärnumaa\, Pärnumaa\, Eesti
CATEGORIES:Taimekasvatus
END:VEVENT
BEGIN:VEVENT
DTSTART;VALUE=DATE:20121023
DTEND;VALUE=DATE:20121024
DTSTAMP:20260425T033811
CREATED:20171231T220000Z
LAST-MODIFIED:20171231T220000Z
UID:10005594-1350950400-1351036799@www.pikk.ee
SUMMARY:Saaremaa põllumajandustootjate õppereis
DESCRIPTION:Saaremaa \nSaaremaa – Soome (Loimaa piirkond) \nSaaremaa \n	MTÜ Saarte Nõuandekeskus korraldab tootjate õppereisi Soome Loimaa piirkonda  23.-27.oktoober 2012.a. \n\n	Teemad: Tootjate tootmisettevõtete külastamine\, läga kasutamine teraviljakülvidel\, otsekülv. \n\n	Õppereisi toetab EL meetmest 1.1.2. Viitenumber 112011740711. \n\n	\n	Info: saartenk[A]gmail.com \,  tel.  4556 145
URL:https://www.pikk.ee/sundmus/saaremaa-pollumajandustootjate-oppereis/
LOCATION:Saaremaa\, Saaremaa
CATEGORIES:Muu
GEO:58.3705526;22.6876383
END:VEVENT
BEGIN:VEVENT
DTSTART;VALUE=DATE:20121024
DTEND;VALUE=DATE:20121025
DTSTAMP:20260425T033811
CREATED:20171231T220000Z
LAST-MODIFIED:20171231T220000Z
UID:10005541-1351036800-1351123199@www.pikk.ee
SUMMARY:Mahepõllumajanduslik algõppe koolitus
DESCRIPTION:Saaremaa \nSaarte Nõuandekeskus\, Tallinna tn 27 Kuressaare. \nSaaremaa \n\n	  \n\n	Eesti Mahepõllumajanduse SA korraldab mahepõllumajanduse algõppe koolitused\, valida on kaks teemat: maheloomakasvatus ja mahetaimekasvatus \n\n	  \n\n	Teema: maheloomakasvatus \n\n	8. oktoober    – Pärnu Põllumajandusameti saalis\, Kerese 4\, Pärnu \n\n	9. oktoober    – Saarte Nõuandekeskuses\, Tallinna tn 27\, Kuressaare \n\n	22. oktoober  – Rakvere Vanalinna kool\, Pikk 18\, Rakvere \n\n	29. oktoober  – Valga Maavalitsuse saal\, Kesk 12\, Valga \n\n	  \n\n	Kava \n\n	10:00 Külvikord loomakasvatusega tegelevas ettevõttes \n\n	Loomade sissetoomine ettevõttesse \n\n	Loomatervishoid\, veterinaarsed jm toimingud \n\n	12:00 Kohvipaus \n\n	12:20 Pidamistingimused. Loomade söötmine\, erinevad ratsioonid \n\n	Kuidas saada hakkama 100% mahesöödaga \n\n	14:50 Lõpp \n\n	  \n\n	Lektorid: Margo Mansberg ja Ragnar Leming \n\n	  \n\n	  \n\n	Teema: mahetaimekasvatus \n\n	  \n\n	16. oktoober – Eesti Maaülikooli Mahekeskus\, Õssu küla\,  Ülenurme vald\, Tartumaa \n\n	23. oktoober – Põllumajandusameti saal\, Kerese 4\, Pärnu \n\n	24. oktoober – Saarte Nõuandekeskus\, Tallinna tn 27\, Kuressaare \n\n	30. oktoober – Harju Taluliit\, III korrus\, Üksnurme tee 8\, Saku \n\n	  \n\n	Päevakava \n\n	10:00 Levinumad umbrohud rühvelkultuuride ja teraviljade põldudel \n\n	Levinumad kahjurid ja nende tõrje eri kultuuridel \n\n\n		12:00 Kohvipaus \n\n\n	12:20 Taimekahjustajate tõrje maaharimisvõtete abil. Erinevate kultuuride väetamine \n\n	14:50 Lõpp \n\n	Lektorid on mahenõustajad: Veeve Kaasik ja Lilia Kulli või Karin Hüva \n\n	Koolitus on tasuta. Vajalik on registreerumine hiljemalt kaks päeva enne koolituse toimumist. Info ja registreerumine e-mail: mahepm[A]gmail.com (eelistatult) või tel 5662 0955 \n\n	NB! Neil mahepõllumajandusliku tootmise toetuse taotlejatel\, kes on ühel mahekoolitusel juba osalenud\, on kohustuslik osaleda ühel pakutud koolitustest. Neil\, kes pole veel osalenud\, on kohustuslik osaleda kahel koolitusel.  \n\n	Juhul\, kui viimase viie aasta jooksul on vähemalt kahel arvessemineval mahekoolitusel osaletud\, siis pole algõppe koolitusel osalemine kohustuslik. \n\n	  \n\n	Koolituse korraldab Põllumajandusministeeriumi tellimusel Eesti Mahepõllumajanduse Sihtasutus. Toetab Euroopa Liit.
URL:https://www.pikk.ee/sundmus/mahepollumajanduslik-algoppe-koolitus-7/
LOCATION:Saaremaa\, Saaremaa
CATEGORIES:Taimekasvatus
GEO:58.3705526;22.6876383
END:VEVENT
BEGIN:VEVENT
DTSTART;VALUE=DATE:20121025
DTEND;VALUE=DATE:20121026
DTSTAMP:20260425T033811
CREATED:20171231T220000Z
LAST-MODIFIED:20171231T220000Z
UID:10005585-1351123200-1351209599@www.pikk.ee
SUMMARY:Nõuetele vastavuse õppepäev konsulentidele
DESCRIPTION:Raplamaa \nKehtna Mõis OÜ-s\, Raplamaal \nRaplamaa \n	Maaelu Edendamise Sihtasutuse nõuandeteenistuse koordineeriv keskus korraldab \n	25. oktoobril 2012  nõuetele vastavuse õppepäeva konsulentidele Raplamaal\, Kehtna Mõis OÜ-s. \n	Täpsem info meriliis.liiv[A]nouandeteenistus.ee või 5330 9171
URL:https://www.pikk.ee/sundmus/nouetele-vastavuse-oppepaev-konsulentidele/
LOCATION:Raplamaa\, Raplamaa
CATEGORIES:Muu
GEO:58.8492625;24.7346569
END:VEVENT
BEGIN:VEVENT
DTSTART;VALUE=DATE:20121025
DTEND;VALUE=DATE:20121026
DTSTAMP:20260425T033811
CREATED:20171231T220000Z
LAST-MODIFIED:20171231T220000Z
UID:10005592-1351123200-1351209599@www.pikk.ee
SUMMARY:Kahepäevane piimakarja söötmise ja pidamise koolitus
DESCRIPTION:Viljandimaa \nMänniku Metsatalus (asukoht vt www.metsatalu.ee). \nViljandimaa \n\n	  \n\n	Eesti Mahepõllumajanduse SA korraldab piimakarja söötmise ja pidamise kahepäevase koolituse 25.-26. oktoobril 2012 Viljandimaal\, Männiku Metsatalus (asukoht vt\n	www.metsatalu.ee). \n	Põhilektor on Margareta Dahlberg – suurte kogemustega mahepiimakarjanõustaja Rootsist. \n	25. oktoober\n	12:00 Registreerimine\n	12:10 Sissejuhatus\n	12:25 Peamised nõuded ja probleemid mahepiimakarjakasvatuses –\n	Põllumajandusameti esindaja\n	12:45 Piimalehmade söötmine. Margareta Dahlberg\n	14:15 Lõuna\n	15:00 Piimalehmade söötmine. Margareta Dahlberg\n	16:30 Kohvipaus\n	16:45 Laudad piimakarjale – uued vabapidamislaudad ja vanade lautade\n	ümberehitamise võimalused\, Vello Luts\n	18:15 Arutelu\n	20:00 Õhtusöök \n	26. oktoober\n	8:30 Piimalehmade söötmine\, Margareta Dahlberg\n	10:30 kohvipaus\n	10:45 Piimalehmade söötmine\, Margareta Dahlberg\n	13:00 Lõuna\n	14:00 Lõpp \n\n	Koolitusel on tõlge rootsi keelest eesti keelde.\n	Koolitus on tasuta\, osalejatele tagatakse majutus kahestes ja\n	kolmestes tubades. Vajalik on registreerumine hiljemalt 22.\n	oktoobriks. Kohtade arv on piiratud ja registreerimine lõpetatakse\n	kohtade täitumisel.\n	Info ja registreerumine e-mail: mahepm[A]gmail.com (eelistatult) või\n	tel 5662 0955 \n	Koolitus läheb arvesse mahepõllumajandusliku tootmise toetuse raames\n	nõutava kohustusliku koolitusena. \n	Koolituse korraldab Põllumajandusministeeriumi tellimusel Eesti\n	Mahepõllumajanduse Sihtasutus. Toetab Euroopa Liit.
URL:https://www.pikk.ee/sundmus/kahepaevane-piimakarja-sootmise-ja-pidamise-koolitus/
LOCATION:Viljandimaa\, Viljandimaa\, Eesti
CATEGORIES:Loomakasvatus
GEO:58.2821746;25.5752233
END:VEVENT
BEGIN:VEVENT
DTSTART;VALUE=DATE:20121026
DTEND;VALUE=DATE:20121027
DTSTAMP:20260425T033811
CREATED:20171231T220000Z
LAST-MODIFIED:20171231T220000Z
UID:10005604-1351209600-1351295999@www.pikk.ee
SUMMARY:Lihalõikuskoolitus mahetootjatele (koos lihast toodete valmistamisega mahetootjatele)
DESCRIPTION:Lääne-Virumaa \nRoela Rahva Majas Sinilille 1\,Roela\, Vinni vald\, Lääne-Virumaa \nLääne-Virumaa \n\n	\n	MTÜ Virumaa Mahetootjad korraldab (MAK meede 1.1) lihalõikuskoolituse koos lihast toodete valmistamisega mahetootjatele. \n\n	Toimumisaeg: 26.10.2012 algusega kell 10.00 Roela Rahva Majas Sinilille 1\,Roela\, Vinni vald\, Lääne-Virumaa\n	02.-03.11.2012 algusega kell 10.00 Kulina Mõis OÜ tapapunkt\, Kulina küla\, Vinni vald\, Lääne-Virumaa \n\n	Lektoriks ja koolituse läbiviijaks on Olustvere Maamajanduskooli lihatehnoloogia õppajõud Eve Klettenberg \n\n	\n	Info: virumahetootjad[A]roela.ee \,  Hugo Vaino 5046320\, Tiina Vaino 5115829
URL:https://www.pikk.ee/sundmus/lihaloikuskoolitus-mahetootjatele-koos-lihast-toodete-valmistamisega-mahetootjatele/
LOCATION:Lääne-Virumaa\, Lääne-Virumaa\, Eesti
CATEGORIES:Muu
END:VEVENT
BEGIN:VEVENT
DTSTART;VALUE=DATE:20121026
DTEND;VALUE=DATE:20121027
DTSTAMP:20260425T033811
CREATED:20171231T220000Z
LAST-MODIFIED:20171231T220000Z
UID:10005608-1351209600-1351295999@www.pikk.ee
SUMMARY:Eesti Põllumeeste Keskliidu konverents
DESCRIPTION:Tartumaa \nTartu\, Eesti Maaülikooli peahoones Kreutzwaldi 1a \nTartumaa \n	Eesti Põllumeeste Keskliidu konverents \n\n	Üksteist aastat Euroopa Liidus – kahekiiruseline põllumajandus – kus on solidaarsus \n\n	26. oktoobril\n	Eesti Maaülikooli peahoones Kreutzwaldi 1a \n\n	10.30-11.00 Hommikupiim ja registreerimine\n	11.00-11.10 Eesti põllumajandus ja tuleviku EL Ühine põllumajanduspoliitika –\n	 millistele küsimustele ootame vastust? EPK asepresident Jaan Sõrra\n	11.10-11.15 EPK presidendi Juhan Särgava tervitus\n	11.15-11.20 Eesti maaülikooli rektori Mait Klaasseni tervitus\n	11.20-11.25 Tartu maavanema Reno Laidre tervitus\n	11.25-11.40 Põllumajanduse otsetoetustest üldise finantsraamistiku taustal. Peaminister\n	Andrus Ansip\n	11.40-12.00 ÜPP läbirääkimistest Euroopa Komisjoni ja EL riikide põllumajandusministritega. Põllumajandusminister Helir-Valdor Seeder\n	12.00-12.20 ÜPP 2014?2020 Läti seisukohad\, Baltimaade koostöö. Läti põllumajandus-\n	  ministeeriumi asekantsler Rigonda Lerhe\n	12.20-12.35     Põllumehe ootused ÜPP tulevikule ja Eesti põllumajanduspoliitikale. (Esineja\n	(tegevpõllumees) kinnitamisel)\n	12.35-12.50 Diskussioon\n	12.50-13.30 Lõuna\n	13.30-13.50 ÜPP tuleviku läbirääkimiste seisust. Ivari Padar\, Europarlamendi liige\n	13.50-14.05 Riigikogu maaelukomisjoni rollist uue ÜPP kujundamisel. Kalvi Kõva\,\n	riigikogu maaelukomisjoni esimees\n	14.05-14.25     Tuleviku otsetoetused: kellele ja mille eest?". Mai Talvik\,\n	põllumajandusministeeriumi põllumajandusturu korraldamise osakonna\n	juhataja\n	14.25-14.45     MAK 2014?2020 meetmed. Marko Gorban\, põllumajandusministeeriumi\n	maaelu arengu osakonna juhataja\n	14.45-15.00 PRIA osa MAK 2014?2020 ettevalmistamisel. Jaan Kallas\, PRIA peadirektor\n	15.00-15.15 Diskussioon\n	15.15-15.30 Kohvipaus \n\n	Eesti tulevikust\, erakonna nägemus ÜPPst ja Eesti põllumajanduspoliitikast\n	15.30-15.45 IRL\, Urmas Reinsalu\n	15.45-16.00 Reformierakond (esineja kinnitamisel)\n	16.00-16.15 SDE\, Sven Mikser\n	16.15-16.30 Keskerakond (esineja kinnitamisel)\n	16.30-16.45 Diskusioon\n	16.45-17.00 Lõppsõna ja deklaratsiooni vastuvõtmine \n\n	Info: www.eptk.ee \n\n	 
URL:https://www.pikk.ee/sundmus/eesti-pollumeeste-keskliidu-konverents/
LOCATION:Tartumaa\, Eesti
CATEGORIES:Muu
GEO:58.4057128;26.801576
END:VEVENT
BEGIN:VEVENT
DTSTART;VALUE=DATE:20121026
DTEND;VALUE=DATE:20121027
DTSTAMP:20260425T033811
CREATED:20171231T220000Z
LAST-MODIFIED:20171231T220000Z
UID:10005587-1351209600-1351295999@www.pikk.ee
SUMMARY:Nõuetele vastavuse õppepäev konsulentidele
DESCRIPTION:Võrumaa \nSulbis\, Roosu talus\, Võrumaal \nVõrumaa \n	Maaelu Edendamise Sihtasutuse nõuandeteenistuse koordineeriv keskus korraldab \n	26. oktoobril 2012 nõuetele vastavuse õppepäeva konsulentidele Võrumaal Sulbis\, Roosu talus. \n\n	Täpsem info meriliis.liiv@nouandeteenistus.ee või 5330 9171
URL:https://www.pikk.ee/sundmus/nouetele-vastavuse-oppepaev-konsulentidele-2/
LOCATION:Võrumaa\, Võrumaa
CATEGORIES:Muu
GEO:57.7377372;27.1398938
END:VEVENT
END:VCALENDAR