BEGIN:VCALENDAR
VERSION:2.0
PRODID:-//PIKK.ee - ECPv6.13.2.1//NONSGML v1.0//EN
CALSCALE:GREGORIAN
METHOD:PUBLISH
X-WR-CALNAME:PIKK.ee
X-ORIGINAL-URL:https://www.pikk.ee
X-WR-CALDESC:Events for PIKK.ee
REFRESH-INTERVAL;VALUE=DURATION:PT1H
X-Robots-Tag:noindex
X-PUBLISHED-TTL:PT1H
BEGIN:VTIMEZONE
TZID:Europe/Tallinn
BEGIN:DAYLIGHT
TZOFFSETFROM:+0200
TZOFFSETTO:+0300
TZNAME:EEST
DTSTART:20150329T010000
END:DAYLIGHT
BEGIN:STANDARD
TZOFFSETFROM:+0300
TZOFFSETTO:+0200
TZNAME:EET
DTSTART:20151025T010000
END:STANDARD
END:VTIMEZONE
BEGIN:VEVENT
DTSTART;VALUE=DATE:20150120
DTEND;VALUE=DATE:20150121
DTSTAMP:20260424T113705
CREATED:20171231T220000Z
LAST-MODIFIED:20171231T220000Z
UID:10007054-1421712000-1421798399@www.pikk.ee
SUMMARY:“Maasikakasvatus: agrotehnika\, investeeringud ja tasuvus”
DESCRIPTION:Harjumaa \nSaku\, Üksnurme tee 8 \nHarjumaa \n\n	Käsitletavad teemad: \n\n	– istandiku asukoha valik ja maa ettevalmistamine; \n\n	– sobilikud eelkultuurid\,istandiku rajamine; \n\n	– sortide alik ja taimede kvaliteet; \n\n	– istanduse hooldus; \n\n	– investeeringud istanduse rajamisel; \n\n	-kattetulu arvestus erinevate saakide ja turustuskanalie lõikes \n\n	Infopäeva algus 10.00 ja orienteeruv lõpp 15.00 \n\n	Lektorid: Ulvi Moor ja Nelly Oinus \n\n	Vajalik eelregistreerimine hiljemalt 16.01.15: e-post htl[A]hot.ee\, telef. 6042499\, 56953743 \n\n	Infopäev on sihtrühmae tasuta ja seda toetab Euroopa Liit \n\n	Sihtrühm: põllumajanduse\, toidu tootmie või töötlemise ja metsandusega tegelevad isikud \n\n	 
URL:https://www.pikk.ee/sundmus/maasikakasvatus-agrotehnika-investeeringud-ja-tasuvus/
LOCATION:Harjumaa\, Harjumaa\, Eesti
CATEGORIES:Aiandus
END:VEVENT
BEGIN:VEVENT
DTSTART;VALUE=DATE:20150121
DTEND;VALUE=DATE:20150122
DTSTAMP:20260424T113705
CREATED:20171231T220000Z
LAST-MODIFIED:20171231T220000Z
UID:10006009-1421798400-1421884799@www.pikk.ee
SUMMARY:Maaelu arengukava 2014-2020  investeeringutoetused
DESCRIPTION:Läänemaa \nHaapsalu\, Jaani 10\, Põllumajandusameti saal \nLäänemaa \n\n	Kell 10.00 -15.30 \n\n	Infopäeval antakse ülevaade Maaelu arengukava 2014-2020 investeeringutoetustest. Põhjalikumalt käsitletkse  \n\n	meetmeid "Investeeringud põllumajandusettevõtte tulemuslikkuse parandamiseks" \,  "Väikeste \n\n	põllumajandusettevõtete arendamine" ja " Investeeringud majandustegevuse mitmekesistamiseks".  \n\n	Lektorid on Läänemaa Nõuandekeskuse konsulendid Vaike Nõu\, Linda Pärnpuu ja Targo Pikkmets \n\n	Infopäev toimub MAK meetme 1.1 toetuse abil ja on osalejatele  tasuta. \n\n	Osavõtuks vajalik registreerimine tel 5650 6109 või e-posti aadressil:  info@nouandla.ee \n\n	Korraldaja on Läänemaa Nõuandekeskus
URL:https://www.pikk.ee/sundmus/maaelu-arengukava-2014-2020-investeeringutoetused/
LOCATION:Läänemaa
CATEGORIES:Maaettevõtlus
END:VEVENT
BEGIN:VEVENT
DTSTART;VALUE=DATE:20150121
DTEND;VALUE=DATE:20150122
DTSTAMP:20260424T113705
CREATED:20171231T220000Z
LAST-MODIFIED:20171231T220000Z
UID:10007052-1421798400-1421884799@www.pikk.ee
SUMMARY:Infopäev maasikakasvatus: agrotehnika\, investeeringud ja tasuvus
DESCRIPTION:Pärnumaa \nPärnu\, P.Kerese 4 Pärnu Põllumajandusameti saal \nPärnumaa \n\n	\n	Pärnumaa Talupidajate Nõuandekeskus OÜ korraldab infopäeva Pärnumaal\n	Maasikakasvatus: agrotehnika\, investeeringud ja tasuvus\n	Koolitus toimub 21.jaanuaril 2015 algusega 10.00 P. Kerese 4 Pärnu ( Põllumajandusameti saal) \n	Käsitletavad teemad:\n	•             istandiku asukoha valik ja maa ettevalmistamine\n	•             sobilikud eelkultuurid\, istandiku rajamine\n	•             investeeringud istanduse rajamisel\n	•             sortide valik ja taimede kvaliteet\n	•             istanduse hooldus\n	•             kattetulu arvestus erinevate saagikuste ja turustuskanalite lõikes \n	Koolitusseminari eesmärk:\n	Marjakasvatuse arendus on üks MAK 2014-2020 prioriteete. Üha rohkem väikeettevõtjaid otsib võimalust tootmist mitmekesistada ning laiendada. Maasikakasvatus on tegevus\, millega saab väikeettevõtja tegeleda ilma\, et oleks vaja hulka hektareid maa jaoks. Koolitusseminaril antakse ülevaade maasikakasvatuse istanduse rajamisest\, vajalikest investeeringutest\, erinevatest sortidest\, istanduse hooldusest ning maasikakasvatuse tasuvuse arvestusest kattetulu meetodil. Koolitusseminar on eelkõige suunatud maasikakasvatusega alustada soovijatele. Kuid käsitletavates teemades võib lisainfot leida ka juba maasikakasvatusega tegeleja. \n	Ajakava:  \n	10.00                   Loeng-seminar\n	12.00                   Kohvipaus\n	12.15                   Loeng-seminar jätkub\n	Orienteeruv lõpetamine 15.15\n	Koolitusseminari viivad läbi  EMÜ õppejõud ja aianduse konsulent Ulvi Moor ja Maaettevõtluse ja finantsmajanduse konsulent  Nelly Oinus\n	Koolitus on tasuta\, korraldamist toetab Euroopa Liit. Kohapeal registreerides  peab kirjutama isikukoodi!\n	Koolituse viitenumber 112014671458 \n	Vajalik registreeruda järgmisel lingil\n	https://docs.google.com/forms/d/1xjwT56bYGPfRPH44yUH63XVkDtNOn1-yLbTcnb3cGR4/viewform?usp=send_form \n	või telefonil 4430923 \,  e-mailil info@nouanne.ee  \n	 
URL:https://www.pikk.ee/sundmus/infopaev-maasikakasvatus-agrotehnika-investeeringud-ja-tasuvus/
LOCATION:Pärnumaa\, Pärnumaa\, Eesti
CATEGORIES:Taimekasvatus
END:VEVENT
BEGIN:VEVENT
DTSTART;VALUE=DATE:20150122
DTEND;VALUE=DATE:20150123
DTSTAMP:20260424T113705
CREATED:20171231T220000Z
LAST-MODIFIED:20171231T220000Z
UID:10006010-1421884800-1421971199@www.pikk.ee
SUMMARY:Maaelu arengukava 2014-2020  investeeringutoetused
DESCRIPTION:Läänemaa \nKõmsi rahvamaja\, Hanila vald \nLäänemaa \n\n	Kell 10.00 -15.30 \n\n	Infopäeval antakse ülevaade Maaelu arengukava 2014-2020 investeeringutoetustest. Põhjalikumalt käsitletkse  \n\n	meetmeid "Investeeringud põllumajandusettevõtte tulemuslikkuse parandamiseks" \,  "Väikeste \n\n	põllumajandusettevõtete arendamine" ja " Investeeringud majandustegevuse mitmekesistamiseks".  \n\n	Lektorid on Läänemaa Nõuandekeskuse konsulendid Vaike Nõu\, Linda Pärnpuu ja Targo Pikkmets. \n\n	Infopäev toimub MAK meetme 1.1 toetuse abil ja on osalejatele tasuta. \n\n	Osavõtuks vajalik registreerimine tel 5650 6109 või e-posti aadressil:  info@nouandla.ee \n\n	Korraldaja on Läänemaa Nõuandekeskus
URL:https://www.pikk.ee/sundmus/maaelu-arengukava-2014-2020-investeeringutoetused-2/
LOCATION:Läänemaa
CATEGORIES:Maaettevõtlus
END:VEVENT
BEGIN:VEVENT
DTSTART;VALUE=DATE:20150122
DTEND;VALUE=DATE:20150123
DTSTAMP:20260424T113705
CREATED:20171231T220000Z
LAST-MODIFIED:20171231T220000Z
UID:10007055-1421884800-1421971199@www.pikk.ee
SUMMARY:Scandagra talvine konverents „Turbulentsi trotsides“
DESCRIPTION:Tartumaa \nEesti Lennuakadeemias (Lennu 40\, Reola küla\, Ülenurme vald\, 61707 Tartumaa) \nTartumaa \n\nScandagra Eesti AS korraldab talvise konverentsi pealkirjaga „Turbulentsi trotsides“. \nÜritus toimub 22. jaanuaril Eesti Lennuakadeemias (Lennu 40\, Reola küla\, Ülenurme vald\, 61707 Tartumaa) algusega 10.00. \nHommikukohvi pakume alates kella 9.15-st ning konverentsi orienteeruvaks lõpuajaks on 15.45. \n  \nKonverentsil võetakse põgusalt kokku möödunud aasta ning jagatakse ettevõtte uudiseid ning muutusi uuel aastal. Ülevaate saab nii viljast\, väetistest\, taimekaitsevahenditest kui seemnest\, samuti huvitavat infot esinejatelt väljaspoolt ettevõtet. \nÜrituse täpsema ajakava leiate meie kodulehelt www.scandagra.ee. \nLisatud on ka ajakava pdf-versioonis\, mis avaneb siin \nÜritusel osalemiseks palume end registreerida hiljemalt 19. jaanuariks\nläbi veebikeskkonna http://bit.ly/sceetalvekonverents2015\, \nsamuti on võimalik seda teha e-maili või telefoni teel:\nkajari.virnhoff@scandagra.ee\, delia.randoja@scandagra.ee\,\n+372 506 9772\,  +372 504 9122. \n\n 
URL:https://www.pikk.ee/sundmus/scandagra-talvine-konverents-turbulentsi-trotsides/
LOCATION:Tartumaa\, Eesti
CATEGORIES:Muu
GEO:58.4057128;26.801576
END:VEVENT
BEGIN:VEVENT
DTSTART;VALUE=DATE:20150122
DTEND;VALUE=DATE:20150123
DTSTAMP:20260424T113705
CREATED:20171231T220000Z
LAST-MODIFIED:20171231T220000Z
UID:10007061-1421884800-1421971199@www.pikk.ee
SUMMARY:Nõuetele vastavus. Uued nõuded.
DESCRIPTION:Saaremaa \nKuressaare\, Tallinna  tn.27 Saarte Nõuandekeskuse õppeklassis. Algusega kell 10.00 \nSaaremaa \n\n	Teemad: Rohestamine ja maade deklareerimine. Nõuetele vastavuse nõuded uuel eelarveperioodil.Nõuetele vastavuse eesmärgid.Keskkonna-\,loomade heaolu\, rahva- ja taimetervise ning põllumajandusmaa heas korras hoidmise nõuded. \n\n	Lektod ; Veeve Kaasik ja Jekateria Näälik  \n\n	info mob. 56699168 \n\n	viitenumber:112013741020
URL:https://www.pikk.ee/sundmus/nouetele-vastavus-uued-nouded/
LOCATION:Saaremaa\, Saaremaa
CATEGORIES:Muu
GEO:58.3705526;22.6876383
END:VEVENT
BEGIN:VEVENT
DTSTART;VALUE=DATE:20150123
DTEND;VALUE=DATE:20150124
DTSTAMP:20260424T113705
CREATED:20171231T220000Z
LAST-MODIFIED:20171231T220000Z
UID:10005998-1421971200-1422057599@www.pikk.ee
SUMMARY:Infopäev "Toidukäitlemiseettevõtte enesekontrollisüsteem"
DESCRIPTION:Tartumaa \nTartu\, Eesti Maaülikooli tehnikamaja (Kreutzwaldi 56/1\, ruum 303\, Tartu) \nTartumaa \n	Eesti Maaülikool korraldab Eesti Maaelu arengukava 2007-2013 meetme 1.1.1 raames infopäeva\n	TOIDUKÄITLEMISETTEVÕTTE ENESEKONTROLLISÜSTEEM \n\n	  \n\n	Sihtrühm: põllumajandustoodete tootmise\, toidu tootmise või töötlemisega tegelevad füüsilised või eraõiguslikud juriidilised isikud ja tema töötajad\n	Maht: 7 akadeemilist tundi auditoorset tööd\n	Toimumisaeg ja -koht:  reede\, 23.01.2015\,  Eesti Maaülikooli tehnikamaja\, Kreutzwaldi 56/1\, ruum 303\, Tartu \n\n	\n	Käsitletavad teemad:\n	– enesekontroll\, plaan ja süsteem;\n	– enesekontrolliplaani koostamine;\n	– eeltingimusprogrammide väljatöötamine;\n	– HACCP põhimõtted (ohtude analüüs\, kriitilised kontrollpunktid\, seire\, kriitiliste piiride ja korrigeerivate tegevuste määramine);\n	– enesekontrolli dokumenteerimine ja ajakohastamine. \n\n	Õppejõud\n	Katrin Laikoja\, mag (tehn)\, Eesti Maaülikooli Veterinaarmeditsiini ja loomakasvatuse instituudi lektor \n\n	Ajakava \n	10.00 – 11.30 õppetöö\n	11.30 – 11.40 paus\n	11.40 – 13.10 õppetöö\n	13.10 – 13.40 kohvipaus\n	13.40 – 15.10 õppetöö\n	15.10 – 15.15 paus\n	15.15 – 16.00 õppetöö \n\n	Kursus on sihtrühmale tasuta. \n\n	Kohtade arv on piiratud\, vajalik eelregistreerimine \n	maaülikooli avatud ülikooli tel 731 3175; 731 3275; 731 3174 \n	või täites registreerumisvormi maaülikooli kodulehe aadressil \n	http://avatudylikool.emu.ee/taiendope/registreeru-kursusele/  \n	Infopäeva korraldamist toetab Euroopa Liit.\n	  \n\n	Infopäeva korraldab:\n	Eesti Maaülikooli Avatud ülikool\n	Tel 731 3174\,  731 3275\, 731 3175\n	avayl[A]emu.ee\n	http://avatudylikool.emu.ee/\n	Kreutzwaldi 56/1-304;306\n	51014 Tartu  \n	 
URL:https://www.pikk.ee/sundmus/infopaev-toidukaitlemiseettevotte-enesekontrollisusteem/
LOCATION:Tartumaa\, Eesti
CATEGORIES:Toiduainete tootmine
GEO:58.4057128;26.801576
END:VEVENT
END:VCALENDAR