BEGIN:VCALENDAR
VERSION:2.0
PRODID:-//PIKK.ee - ECPv6.13.2.1//NONSGML v1.0//EN
CALSCALE:GREGORIAN
METHOD:PUBLISH
X-WR-CALNAME:PIKK.ee
X-ORIGINAL-URL:https://www.pikk.ee
X-WR-CALDESC:Events for PIKK.ee
REFRESH-INTERVAL;VALUE=DURATION:PT1H
X-Robots-Tag:noindex
X-PUBLISHED-TTL:PT1H
BEGIN:VTIMEZONE
TZID:Europe/Tallinn
BEGIN:DAYLIGHT
TZOFFSETFROM:+0200
TZOFFSETTO:+0300
TZNAME:EEST
DTSTART:20150329T010000
END:DAYLIGHT
BEGIN:STANDARD
TZOFFSETFROM:+0300
TZOFFSETTO:+0200
TZNAME:EET
DTSTART:20151025T010000
END:STANDARD
END:VTIMEZONE
BEGIN:VEVENT
DTSTART;VALUE=DATE:20150216
DTEND;VALUE=DATE:20150217
DTSTAMP:20260425T152026
CREATED:20171231T220000Z
LAST-MODIFIED:20171231T220000Z
UID:10005932-1424044800-1424131199@www.pikk.ee
SUMMARY:Põllumajandustootja V kutseeksamieelsest ettevalmistusest lambakasvatajatele (koolitus 4päevaste tsüklitena)
DESCRIPTION:Järvamaa \nJärvamaa Kutsehariduskeskuse Särevere õppekohas \nJärvamaa \n\n	\n	  \n\n	Järvamaa Kutsehariduskeskuse Särevere õppekohas toimub  koolitus\n\n	 \n\n\n		Põllumajandustootja V kutseeksamieelsest ettevalmistusest LAMBAKASVATAJATELE\n		(taotlus 111014510579)- 336 tundi\n\n		\n		Algas sept.-okt\, järgmised koolituspäevad on planeeritud: \n		3-6. nov.; 24.-27.- nov.; 15.-18. dets.;\n		5.-8. jaan.2015; 26.- 29. jaan.; 16.-19. veebr.; \n\n		9.-12. Märts; 30.märts -2. Aprill; 20.-23. Aprill; 11. -14. Mai\n\n		 \n\n\n	\n	Algusega kell 9.00.\n\n	 \n\n	Koolitus on põllu- ja metsameestele\, toidutootjatele  ja – käitlejatele \n	Maaelu Arengu Euroopa Põllumajandusfondi finantseerimisel TASUTA. \n\n	 \n\n	 \n\n	Täiendav info ja registreerimine \n\n	Ruth Türk\n\n	ruth.turk@jkhk.ee\n\n	5329 2188\n\n	 www.jkhk.ee  \n	http://jkhk.ee/pages/taeiskasvanute-koolitus/tasuta-pria-kursused.php  \n	 
URL:https://www.pikk.ee/sundmus/pollumajandustootja-v-kutseeksamieelsest-ettevalmistusest-lambakasvatajatele-koolitus-4paevaste-tsuklitena-2/
LOCATION:Järvamaa\, Järvamaa\, Eesti
CATEGORIES:Loomakasvatus
GEO:58.8866713;25.5000624
END:VEVENT
BEGIN:VEVENT
DTSTART;VALUE=DATE:20150216
DTEND;VALUE=DATE:20150217
DTSTAMP:20260425T152026
CREATED:20171231T220000Z
LAST-MODIFIED:20171231T220000Z
UID:10007075-1424044800-1424131199@www.pikk.ee
SUMMARY:Taimekaitse aluskoolitus professionaalsele taimekaitsevahendite kasutajale
DESCRIPTION:Põlvamaa \nRäpina Aianduskool\, Pargi 32\, Räpina \nPõlvamaa \nRäpina Aianduskool korraldab 16.-18. veebruar Taimekaitse aluskoolituse professionaalsele taimekaitsevahendite kasutajale. \nKoolituse algus 9.00\, maht 30 h. \nKoolituste sihtgrupp: põllumajandustoodete tootmise\, toidu tootmise ja töötlemise või metsa majandamisega tegelevad füüsilised või eraõiguslikud juriidilised isikud ja tema töötajad ning koolituse läbiviimist toetab PRIA. Koolitus on sihtgruppi kuuluvatele inimestele/talunikele tasuta. \nKõik taimekaitse koolitused vastavad Põllumajandusministri määrusele 18.11.2013 nr.67\, mis jõustus 26.11.2013.\nKõikidele koolitustele vajalik eelregistreerimine. Registreerimine igale koolitusele lõpetatakse õppegrupi\ntäitumisel või 5 tööpäeva enne koolituse algust. Info ja koolitusele registreerimine Räpina Aianduskooli\nkodulehel www.aianduskool.ee või tel 7961 549 ja 53 461 209. \nInfo teiste taimekaitsekoolituste kohta \n  \nKoolituste kontaktisik\nEda Gross\nRäpina Aianduskooli täienduskoolituse metoodik \n  \n \n 
URL:https://www.pikk.ee/sundmus/taimekaitse-aluskoolitus-professionaalsele-taimekaitsevahendite-kasutajale-2/
LOCATION:Põlvamaa\, Põlvamaa\, Eesti
CATEGORIES:Taimekaitse
GEO:58.1160622;27.2066394
END:VEVENT
BEGIN:VEVENT
DTSTART;VALUE=DATE:20150217
DTEND;VALUE=DATE:20150218
DTSTAMP:20260425T152026
CREATED:20171231T220000Z
LAST-MODIFIED:20171231T220000Z
UID:10007128-1424131200-1424217599@www.pikk.ee
SUMMARY:Scandagra Eesti taimekaitse infopäev
DESCRIPTION:Harjumaa \nHarju Taluliit\, Üksnurme tee 8\, Saku \nHarjumaa \nScandagra Eesti korraldab veebruarikuu jooksul erinevates Eestimaa paikades põllumeestele suunatud infopäevad taimekaitsevahendite kasutusest ja nendega seotud uudistest.\nKaasatud on kõik huvitatud taimekaitsetootjate esindajad\, Nõuandeteenistuse konsulendid ning meie agronoom-nõustaja Tiiu Annuk. Infopäeva viib läbi Scandagra Eesti taimekaitsevahendite tootejuht Urmet Hiiekivi. \nJuhime tähelepanu\, et kohtade arv infopäevadel on piiratud ning võimalike ebamugavuste vältimiseks palume sobivale päevale eelnevalt registreeruda. \nTäpsem info www.scandagra.ee või piirkondliku müügiesindaja käest (Scandagra müügikontaktid: http://scandagra.ee/et/muuk). \nInfopäeva ajakava: \n  9:45 – 10:00  Kogunemine\, hommikukohv\n10:00 – 12:30  Ülevaade TK uudistoodetest\, olulised tooted ’2015\n12.45 – 14.00  Scandagra pakutavad lahendused – Tiiu Annuk\n14.00 – 14.30  Lõuna\n14.30 – 15.45  Uue MAK-i toetusvõimalused taimekasvatuses \n  \nInfopäeva toimumiskohaks Harju Taluliit\, Üksnurme tee 8\, Saku (http://www.hot.ee/h/htlnk/) \nEsinevad: Basf\, Bayer\, Berner\, Syngenta\, Agroskai \nRegistreeri infopäevale Harjumaal SIIN.
URL:https://www.pikk.ee/sundmus/scandagra-eesti-taimekaitse-infopaev-2/
LOCATION:Harjumaa\, Harjumaa\, Eesti
CATEGORIES:Taimekasvatus
END:VEVENT
BEGIN:VEVENT
DTSTART;VALUE=DATE:20150217
DTEND;VALUE=DATE:20150218
DTSTAMP:20260425T152026
CREATED:20171231T220000Z
LAST-MODIFIED:20171231T220000Z
UID:10006029-1424131200-1424217599@www.pikk.ee
SUMMARY:Koolitus "Mahetaimekasvatuse võimalused - II grupp"
DESCRIPTION:Järvamaa \nJärvamaa Kutsehariduskeskus\, Särevere õppekoht \nJärvamaa \nJärvamaa Kutsehariduskeskuse Särevere õppekohas toimub 2015 aastal  Maaelu Arengu Euroopa Põllumajandusfondi finantseerimisel TASUTA koolitus "Mahetaimekasvatuse võimalused – II grupp". \nSihtgrupp: põllu- ja metsamehed\, toidutootjad ja – käitlejad \nAlgus: kell 9:00 \nKestus: 24 tundi \n\nTäiendav info ja registreerimine\nRuth Türk\nruth.turk@jkhk.ee\n5329 2188\nwww.jkhk.ee
URL:https://www.pikk.ee/sundmus/koolitus-mahetaimekasvatuse-voimalused-ii-grupp/
LOCATION:Järvamaa\, Järvamaa\, Eesti
CATEGORIES:Taimekasvatus
GEO:58.8866713;25.5000624
END:VEVENT
BEGIN:VEVENT
DTSTART;VALUE=DATE:20150218
DTEND;VALUE=DATE:20150219
DTSTAMP:20260425T152026
CREATED:20171231T220000Z
LAST-MODIFIED:20171231T220000Z
UID:10006026-1424217600-1424303999@www.pikk.ee
SUMMARY:Taimekaitse aluskoolitus professionaalsele kasutajale (tasuta)
DESCRIPTION:Järvamaa \nJärvamaa Kutsehariduskeskus\, Särevere õppekoht \nJärvamaa \nJärvamaa Kutsehariduskeskuse Särevere õppekohas toimub 2015 aastal  Maaelu Arengu Euroopa Põllumajandusfondi finantseerimisel TASUTA koolitus "Taimekaitse aluskoolitus professionaalsele kasutajale". \nSihtgrupp: põllu- ja metsamehed\, toidutootjad ja – käitlejad \nAlgus: kell 9:00 \nKestus: 960 minutit \n\nTäiendav info ja registreerimine\nRuth Türk\nruth.turk@jkhk.ee\n5329 2188\nwww.jkhk.ee
URL:https://www.pikk.ee/sundmus/taimekaitse-aluskoolitus-professionaalsele-kasutajale-tasuta/
LOCATION:Järvamaa\, Järvamaa\, Eesti
CATEGORIES:Taimekaitse
GEO:58.8866713;25.5000624
END:VEVENT
BEGIN:VEVENT
DTSTART;VALUE=DATE:20150218
DTEND;VALUE=DATE:20150219
DTSTAMP:20260425T152026
CREATED:20171231T220000Z
LAST-MODIFIED:20171231T220000Z
UID:10006819-1424217600-1424303999@www.pikk.ee
SUMMARY:RISKIANALÜÜSI VIIS SAMMU ETTEVÕTJALE
DESCRIPTION:Harjumaa \nSakus Üksnurme tee 8  \nHarjumaa \n\n	Harju Taluliit korraldab MAK 2007-2013 meetme 1.1.2 raames koolituse "Riskianalüüsi viis sammu ettevõtjale"\, viitenumber 112013371160  1.õppepäeva. \n\n	Sihtrühm: põlumajanduse\, toidu tootmise või töötlemisega ja metsandusega tegelevad isikud \n\n	Koolitus toimub Sakus\, Üksnurme tee 8 Harjmaal algusega 10.00\, orienteeruv lõpp 14.30. \n\n	Käsitletavad teemad: seadusandlus\, tööohutusplan ja selle koostamineriskide hindamine ja riskianalüüsi koostamine\, ohuegurd\, esmaabi korraldamine ettevõttes. \n\n	Lektor: Agu Kötsi \n\n	Eelregistreerimine vajalik –  tel.56953743\, htl@hot.ee. \n\n	Kooltus sihtrühmale tasuta ja seda toetb EL
URL:https://www.pikk.ee/sundmus/riskianaluusi-viis-sammu-ettevotjale/
LOCATION:Harjumaa\, Harjumaa\, Eesti
CATEGORIES:Muu
END:VEVENT
BEGIN:VEVENT
DTSTART;VALUE=DATE:20150219
DTEND;VALUE=DATE:20150220
DTSTAMP:20260425T152026
CREATED:20171231T220000Z
LAST-MODIFIED:20171231T220000Z
UID:10007131-1424304000-1424390399@www.pikk.ee
SUMMARY:Scandagra Eesti taimekaitse infopäev
DESCRIPTION:Saaremaa \nKõljala Külamaja\, Pihtla vald \nSaaremaa \nScandagra Eesti korraldab veebruarikuu jooksul erinevates Eestimaa paikades põllumeestele suunatud infopäevad taimekaitsevahendite kasutusest ja nendega seotud uudistest.\nKaasatud on kõik huvitatud taimekaitsetootjate esindajad\, Nõuandeteenistuse konsulendid ning meie agronoom-nõustaja Tiiu Annuk. Infopäeva viib läbi Scandagra Eesti taimekaitsevahendite tootejuht Urmet Hiiekivi. \nJuhime tähelepanu\, et kohtade arv infopäevadel on piiratud ning võimalike ebamugavuste vältimiseks palume sobivale päevale eelnevalt registreeruda. \nTäpsem info www.scandagra.ee või piirkondliku müügiesindaja käest (Scandagra müügikontaktid: http://scandagra.ee/et/muuk). \nInfopäeva ajakava: \n  9:45 – 10:00  Kogunemine\, hommikukohv\n10:00 – 12:30  Ülevaade TK uudistoodetest\, olulised tooted ’2015\n12.45 – 14.00  Scandagra pakutavad lahendused – Tiiu Annuk\n14.00 – 14.30  Lõuna\n14.30 – 15.45  Uue MAK-i toetusvõimalused taimekasvatuses \n  \nInfopäeva toimumiskohaks Kõljala Külamaja Pihtla vallas. \nEsinevad: Bayer\, Berner\, Syngenta\, Agroskai \nRegistreeri infopäevale Saaremaal SIIN.
URL:https://www.pikk.ee/sundmus/scandagra-eesti-taimekaitse-infopaev-3/
LOCATION:Saaremaa\, Saaremaa
CATEGORIES:Taimekasvatus
GEO:58.3705526;22.6876383
END:VEVENT
BEGIN:VEVENT
DTSTART;VALUE=DATE:20150219
DTEND;VALUE=DATE:20150220
DTSTAMP:20260425T152026
CREATED:20171231T220000Z
LAST-MODIFIED:20171231T220000Z
UID:10007064-1424304000-1424390399@www.pikk.ee
SUMMARY:Infopäev "Lüpsikarja fertiilsus\, selle majandusliku tasuvuse analüüs"
DESCRIPTION:Tartumaa \nTartu\, Eesti Maaülikool (aadress: Kreutzwaldi 56\, tehnikamaja\, III korrus\, ruum 303) \nTartumaa \nEesti Maaülikool korraldab Eesti Maaelu arengukava 2007-2013 meetme 1.1.2 raames infopäeva\n"Lüpsikarja fertiilsus\, selle majandusliku tasuvuse analüüs" \nSihtrühm:  põllumajandustoodete tootmise\, toidutootmise või -töötlemisega tegelevad füüsilised või eraõiguslikud juriidilised isikud ja tema töötajad \nMaht:  7 akadeemilist tundi auditoorset tööd \nÕppejõud:  Kalle Kask\, PhD\, Eesti Maaülikooli Veterinaarmeditsiini ja loomakasvatuse instituudi dotsent \nTeemad:\n– Lehma piimatoodang ja selle seos fertiilsusega\n– Kinnisperiood ja selle toime poegimisjärgsele fertiilsusele\n– Sigivusega seotud toitumuslikud faktorid\n– Uuemad diagnostikameetodid poegimisjärgsete sigivusprobleemide teadvustamiseks\n– Sigivusprobleemide analüüs karja tasandil ja nende võimalikud lahendusteed \nAjakava:\n10.00 – 11.30 õppetöö\n11.30 – 11.40 paus\n11.40 – 13.10 õppetöö\n13.10 – 13.40 kohvipaus\n13.40 – 15.10 õppetöö\n15.10 – 15.15 paus\n15.15 – 16.00 õppetöö\n  \nKursus on sihtrühmale tasuta. \nKohtade arv on piiratud\, vajalik eelregistreerimine \nmaaülikooli avatud ülikooli tel 731 3175; 731 3275; 731 3174\nvõi täites registreerumisvormi maaülikooli kodulehe aadressil \nhttp://avatudylikool.emu.ee/taiendope/registreeru-kursusele/  \nInfopäeva korraldamist toetab Euroopa Liit. \n  \nInfopäevi korraldab:\nEesti Maaülikooli avatud ülikool\nTel 731 3174\,  731 3275\, 731 3175\navayl[A]emu.ee\nhttp://avatudylikool.emu.ee/\nKreutzwaldi 56/1\n51014 Tartu  \n 
URL:https://www.pikk.ee/sundmus/infopaev-lupsikarja-fertiilsus-selle-majandusliku-tasuvuse-analuus-2/
LOCATION:Tartumaa\, Eesti
CATEGORIES:Loomakasvatus
GEO:58.4057128;26.801576
END:VEVENT
BEGIN:VEVENT
DTSTART;VALUE=DATE:20150219
DTEND;VALUE=DATE:20150220
DTSTAMP:20260425T152026
CREATED:20171231T220000Z
LAST-MODIFIED:20171231T220000Z
UID:10007110-1424304000-1424390399@www.pikk.ee
SUMMARY:Infopäev "Toidukäitlemisettevõtte enesekontrollisüsteem"
DESCRIPTION:Viljandimaa \nViljandi\, Grand Hotel Viljandi (aadress: Tartu 11/Lossi 29\, Viljandi) \nViljandimaa \nEesti Maaülikool korraldab Eesti Maaelu arengukava 2007-2013 meetme 1.1.1 raames infopäeva\n"Toidukäitlemisettevõtte enesekontrollisüsteem" \nSihtrühm: põllumajandustoodete tootmise\, toidu tootmise või töötlemisega tegelevad füüsilised või eraõiguslikud juriidilised isikud ja tema töötajad \nMaht: 7 akadeemilist tundi auditoorset tööd \nKäsitletavad teemad:\n– enesekontroll\, plaan ja süsteem;\n– enesekontrolliplaani koostamine;\n– eeltingimusprogrammide väljatöötamine;\n– HACCP põhimõtted (ohtude analüüs\, kriitilised kontrollpunktid\, seire\, kriitiliste piiride ja korrigeerivate tegevuste määramine);\n– enesekontrolli dokumenteerimine ja ajakohastamine. \nÕppejõud: Katrin Laikoja\, mag (tehn)\, Eesti Maaülikooli Veterinaarmeditsiini ja loomakasvatuse instituudi lektor \nAjakava:\n10.00 – 11.30 õppetöö\n11.30 – 11.40 paus\n11.40 – 13.10 õppetöö\n13.10 – 13.40 kohvipaus\n13.40 – 15.10 õppetöö\n15.10 – 15.15 paus\n15.15 – 16.00 õppetöö \nKursus on sihtrühmale tasuta. \nKohtade arv on piiratud\, vajalik eelregistreerimine:\nMaaülikooli avatud ülikooli tel 731 3175; 731 3275; 731 3174 või täites registreerumisvormi maaülikooli kodulehe aadressil http://avatudylikool.emu.ee/taiendope/registreeru-kursusele/
URL:https://www.pikk.ee/sundmus/infopaev-toidukaitlemisettevotte-enesekontrollisusteem-5/
LOCATION:Viljandimaa\, Viljandimaa\, Eesti
CATEGORIES:Toiduainete tootmine
GEO:58.2821746;25.5752233
END:VEVENT
BEGIN:VEVENT
DTSTART;VALUE=DATE:20150220
DTEND;VALUE=DATE:20150221
DTSTAMP:20260425T152026
CREATED:20171231T220000Z
LAST-MODIFIED:20171231T220000Z
UID:10007117-1424390400-1424476799@www.pikk.ee
SUMMARY:Infopäev "Tootmishügieen ja sanitatsiooni korraldus"
DESCRIPTION:Harjumaa \nHotell Dzingel\, Männiku tee 89\, Tallinn \nHarjumaa \nEesti Maaülikool korraldab Eesti Maaelu arengukava 2007-2013 meetme 1.1.1 raames infopäeva\n"Tootmishügieen ja sanitatsiooni korraldus" \nSihtrühm: põllumajandustoodete tootmise\, toidu tootmise või töötlemisega tegelevad füüsilised või eraõiguslikud juriidilised isikud ja tema töötajad \nMaht: 7 akadeemilist tundi \nTeemad:\n• Tootmishügieen kui ettevõtte strateegia\n• Olulisemad toidupatogeenid ja nende seos ettevõtte tootmishügieeniga\n• Listeria monocytogenes tootmishügieeni mõjutava faktorina ning probleemi ennetamise ja likvideerimise võimalused\n• Toidu saastumine k.a ristsaastumine ja selle vältimise võimalused\n• Tootmisruumide ehituslikud aspektid ja nende seos ettevõtte toidu- ja tootmishügieeniga\n• Hügieenitsoonide vajalikkus ja selle seos personalihügieeniga\n• Toidupatogeenidest ja riknemist põhjustavast mikrofloorast koosnevate biokilede teke\, avastamine ja likvideerimine\n• Käitlemisettevõtte sanitatsiooni (puhastamine\, pesemine\, desinfitseerimine) põhimõtted ja korraldus \nÕppejõud: Mati Roasto\, professor\, Eesti Maaülikooli Veterinaarmeditsiini ja loomakasvatusinstituudi toiduhügieeni osakonna juhataja \nAjakava:\n10.00 – 11.30 õppetöö\n11.30 – 11.40 paus\n11.40 – 13.10 õppetöö\n13.10 – 13.40 kohvipaus\n13.40 – 15.10 õppetöö\n15.10 – 15.15 paus\n15.15 – 16.00 õppetöö \nKursus on sihtrühmale tasuta. \nKohtade arv on piiratud\, vajalik eelregistreerimine:\nMaaülikooli avatud ülikooli tel 731 3175; 731 3275; 731 3174 või täites registreerumisvormi maaülikooli kodulehe aadressil http://avatudylikool.emu.ee/taiendope/registreeru-kursusele/
URL:https://www.pikk.ee/sundmus/infopaev-tootmishugieen-ja-sanitatsiooni-korraldus-6/
LOCATION:Harjumaa\, Harjumaa\, Eesti
CATEGORIES:Toiduainete tootmine
END:VEVENT
BEGIN:VEVENT
DTSTART;VALUE=DATE:20150220
DTEND;VALUE=DATE:20150221
DTSTAMP:20260425T152026
CREATED:20171231T220000Z
LAST-MODIFIED:20171231T220000Z
UID:10007147-1424390400-1424476799@www.pikk.ee
SUMMARY:Infopäev „Teaduselt maheloomakasvatajale"
DESCRIPTION:Võrumaa \nVõru vallavalitsuse saal Võrumõisa tee 4a  \nVõrumaa \n\n	Tartumaa Põllumeeste Liit korraldab 20. veebruaril algusega 10.00 Võru vallavalitsuse saalis Võrumõisa tee 4a tasuta infopäeva „Teaduselt maheloomakasvatajale“. \n\n	Teemad: veiste söötmine; karjamaade majandamine; proteiinisöödad; linnukasvatuse mobiilsed lindlad. \n\n	Lektor on Margo Mansberg. \n\n	Soovitav eelregistreerimine ttl@kodu.ee või 736 6955.
URL:https://www.pikk.ee/sundmus/infopaev-teaduselt-maheloomakasvatajale-5/
LOCATION:Võrumaa\, Võrumaa
CATEGORIES:Loomakasvatus
GEO:57.7377372;27.1398938
END:VEVENT
BEGIN:VEVENT
DTSTART;VALUE=DATE:20150220
DTEND;VALUE=DATE:20150221
DTSTAMP:20260425T152026
CREATED:20171231T220000Z
LAST-MODIFIED:20171231T220000Z
UID:10007113-1424390400-1424476799@www.pikk.ee
SUMMARY:Koolitus "Loomade kaitse surmamisel. Tapahügieen" (teooria)
DESCRIPTION:Tartumaa \nEesti Maaülikooli tehnikamaja\, Kreutzwaldi 56/1 ruum 303\, Tartu \nTartumaa \nEesti Maaülikool korraldab Eesti Maaelu arengukava 2007-2013 meetme 1.1.2 raames infopäeva\n"Loomade kaitse surmamisel. Tapahügieen" \nSihtrühm: põllumajandustoodete tootmise\, toidu tootmise või töötlemisega tegelevad füüsilised või eraõiguslikud juriidilised isikud ja tema töötajad \nMaht:16 akadeemilist tundi (8 tundi auditoorset tööd ja 8 tundi praktikat) \nPraktikapäeval (27.02) kogunemine Atria Eesti AS väravas kell 9.30\nNB! Kaasa kindlasti korrektne sanitaarriietus\nPäeva lõpus toimub pädevuseksam!!! \n\nTeemad:\n• ülevaade Nõukogu Määrusest (EÜ) nr 1099/2009 loomade kaitse kohta surmamisel;\n• tapaloomade anatoomia\, füsioloogia;\n• tapaloomade käitumine;\n• tapaloomade stress\, loomade kannatused\, teadvuselolek ja tundlikkus;\n• nõuded loomade kohtlemisel tapamajas;\n• loomade liikumise mehhaanilise piiramise vahendid;\n• elusloomadele köidikahelate asetamine või nende üleriputamine;\n• uimastamine\, uimastamise tõhususe hindamine;\n• uimastamise ja/või surmamise varumeetodid;\n• tapaloomade veretustamine\, elusoleku tunnuste puudumise hindamine;\n• rituaaltapmine;\n• tapahügieen: uimastamisseadmete üldhooldus ja puhastamine\, veretustamisnugade nõuetekohane kasutamine ja hooldus;\n• uimastamine;\n• veretustamine. \nÕppejõud: Riina Soidla\, mag (teh)\, Eesti Maaülikooli veterinaarmeditsiini ja loomakasvatuse instituudi toiduteaduse ja toiduainete tehnoloogia osakonna lektor;\nDea Anton\, Eesti Maaülikooli veterinaarmeditsiini ja loomakasvatuse instituudi  toiduhügieeni osakonna doktorant \nAjakava:\n10.00 – 11.30 õppetöö\n11.30 – 11.40 kohvipaus\n11.40 – 13.10 õppetöö\n13.10 – 13.40 lõunapaus\n13.40 – 15.10 õppetöö\n15.10 – 15.15 paus\n15.15 – 16.45 õppetöö \nKursus on sihtrühmale tasuta. \nKohtade arv on piiratud\, vajalik eelregistreerimine:\nMaaülikooli avatud ülikooli tel 731 3175; 731 3275; 731 3174 või täites registreerumisvormi maaülikooli kodulehe aadressil http://avatudylikool.emu.ee/taiendope/registreeru-kursusele/
URL:https://www.pikk.ee/sundmus/koolitus-loomade-kaitse-surmamisel-tapahugieen-teooria/
LOCATION:Tartumaa\, Eesti
CATEGORIES:Loomakasvatus
GEO:58.4057128;26.801576
END:VEVENT
END:VCALENDAR