BEGIN:VCALENDAR
VERSION:2.0
PRODID:-//PIKK.ee - ECPv6.13.2.1//NONSGML v1.0//EN
CALSCALE:GREGORIAN
METHOD:PUBLISH
X-WR-CALNAME:PIKK.ee
X-ORIGINAL-URL:https://www.pikk.ee
X-WR-CALDESC:Events for PIKK.ee
REFRESH-INTERVAL;VALUE=DURATION:PT1H
X-Robots-Tag:noindex
X-PUBLISHED-TTL:PT1H
BEGIN:VTIMEZONE
TZID:Europe/Tallinn
BEGIN:DAYLIGHT
TZOFFSETFROM:+0200
TZOFFSETTO:+0300
TZNAME:EEST
DTSTART:20150329T010000
END:DAYLIGHT
BEGIN:STANDARD
TZOFFSETFROM:+0300
TZOFFSETTO:+0200
TZNAME:EET
DTSTART:20151025T010000
END:STANDARD
END:VTIMEZONE
BEGIN:VEVENT
DTSTART;VALUE=DATE:20150518
DTEND;VALUE=DATE:20150519
DTSTAMP:20260424T110834
CREATED:20171231T220000Z
LAST-MODIFIED:20171231T220000Z
UID:10007380-1431907200-1431993599@www.pikk.ee
SUMMARY:Otsetoetuste\, MAK 2007-2013 II telje ning MAK 2014-2020 keskkonnatoetuste tasuta infopäev
DESCRIPTION:Harjumaa \nHarju Taluliidu Nõuandekeskus\, Üksnurme tee 8\, Saku\, Harjumaa \nHarjumaa \n  \nHarju Taluliit MTÜ korraldab otsetoetuste\, MAK 2007-2013 II telje ning MAK 2014-2020 keskkonnatoetuste tasuta infopäeva: \n  \n• 18. mail 2015 algusega kell 10:00 Harju Taluliidu Nõuandekeskus\, Üksnurme tee 8\, Saku\, Harjumaa \n  \nLektorid: konsulendid Lilia Kulli ja Agu Kötsi \nEelregistreerimine kohustuslik telefonidel 604 2499\, 5647 5137 või 5695 3743. \n  \nInfopäevade eesmärgiks on selgitada põllumajandustootjatele 2015. aastal rakenduvate otsetoetuste ja MAK 2014-2020 pindala- ja loomatoetuste tingimusi ning nõuetelevastavuse nõudeid. Samal ajal jätkuvad kuni 2017. aastani ka MAK 2007-2013 II telje viieaastase kohustusega toetused\, infopäevadel tutvustatakse muudatusi õigusaktides. \n\nInfopäevade tellija Põllumajandusministeerium\, korraldamist toetab Euroopa Liit. \n \n  \n  \n 
URL:https://www.pikk.ee/sundmus/otsetoetuste-mak-2007-2013-ii-telje-ning-mak-2014-2020-keskkonnatoetuste-tasuta-infopaev-18/
LOCATION:Harjumaa\, Harjumaa\, Eesti
CATEGORIES:Muu
END:VEVENT
BEGIN:VEVENT
DTSTART;VALUE=DATE:20150518
DTEND;VALUE=DATE:20150519
DTSTAMP:20260424T110834
CREATED:20171231T220000Z
LAST-MODIFIED:20171231T220000Z
UID:10006124-1431907200-1431993599@www.pikk.ee
SUMMARY:Infopäev "Kitsekasvatus"
DESCRIPTION:Tartumaa \nTartumaa Põllumeeste Liit Jalaka 48 \nTartumaa \nTartumaa Põllumeeste Liit korraldab \n18. mail algusega 10.00 \nTartumaa Põllumeeste Liidus\, Jalaka 48 \n  \ntasuta infopäeva \n„Kitsekasvatus“. \nLektor on dots Peep Piirsalu EMÜst. \n  \nTeemad: piima-ja lihakitsetõud; kitsepiim ja kitseliha; piimakitsede söötmisnormid\, \nsöötade toiteväärtus\, piimakitsede ja noorkitsede söötmise korraldus; \nkitsede karjatamise korraldus ja tarastamine; mahekitsekasvatus. \n  \nSoovitav eelregistreerimine ttl@kodu.ee\, märkides ära infopäeva toimumise \nkuupäeva ja koha või 736 6955.
URL:https://www.pikk.ee/sundmus/infopaev-kitsekasvatus-8/
LOCATION:Tartumaa\, Eesti
CATEGORIES:Loomakasvatus
GEO:58.4057128;26.801576
END:VEVENT
BEGIN:VEVENT
DTSTART;VALUE=DATE:20150519
DTEND;VALUE=DATE:20150520
DTSTAMP:20260424T110834
CREATED:20171231T220000Z
LAST-MODIFIED:20171231T220000Z
UID:10007417-1431993600-1432079999@www.pikk.ee
SUMMARY:Infopäev „Keskkonnanõuded põllumajandusettevõtetele ELi uuel eelarveperioodil“.
DESCRIPTION:Tartumaa \nTartumaa Põllumeeste Liit Jalaka 48  \nTartumaa \n\n	Tartumaa Põllumeeste Liit korraldab 19. mail algusega 10.00 Tartumaa põllumeeste liidus Jalaka 48 tasuta infopäeva „Keskkonnanõuded põllumajandusettevõtetele ELi uuel eelarveperioodil“. \n\n	Teemad; rohestamise nõuded; veeseadusest tulenevad nõuded (sh vee erikasutusluba\, kaitsevööndid); jäätmeseadusest ja pakendiseadusest tulenevad nõuded (sh probleemtoode); väetiseseadus\, väetise pakendi märgistamine\, põhinõuded taimekaitsevahendite turustamisel ja kasutamisel; välisõhu kaitse seadus; nõuded söötade järelvalve valdkonnas; loomade heaolu nõuded (loomade pidamine\, kaitse\, ehitised); nõuetele vastavuse rikkumiste TOP 2012/2013. \n\n	Õpetame ka selle aasta otsetoetuste taotlemist. \n\n	Lektorid on Merry Aart ja Indrek Keres. \n\n	Soovitav eelregistreerimine ttl@kodu.ee või 736 6955
URL:https://www.pikk.ee/sundmus/infopaev-keskkonnanouded-pollumajandusettevotetele-eli-uuel-eelarveperioodil-3/
LOCATION:Tartumaa\, Eesti
CATEGORIES:Keskkond
GEO:58.4057128;26.801576
END:VEVENT
BEGIN:VEVENT
DTSTART;VALUE=DATE:20150519
DTEND;VALUE=DATE:20150520
DTSTAMP:20260424T110834
CREATED:20171231T220000Z
LAST-MODIFIED:20171231T220000Z
UID:10006170-1431993600-1432079999@www.pikk.ee
SUMMARY:Tiinuse testi tutvustav seminar
DESCRIPTION:Tartumaa \nETKÜ saal\, Aretuse 2\, Märja\, Tartumaa \nTartumaa \nEesti Põllumajandusloomade Jõudluskontrolli AS korraldab tiinuse testi tutvustava seminari 19. mail 2015.  \n"Tiinuse test piimast" põhimõtteid tutvustab IDEXXi esindaja Miroslav Ribic. Teenuse EPJ-poolset korraldust selgitab Aire Pentjärv. \n  \nSeminar toimub Märjal\, ETKÜ saalis. Algus kell 11\, orienteeriv lõpp kell 15. Ingliskeelsel ettekandel on tõlge. Seminar on tasuta. \nSeminarist osavõtuks palun end registreerida aadressil http://epj.signupsheet.com/. Vajaduse korral info ja abi telefonil 738 7700.
URL:https://www.pikk.ee/sundmus/tiinuse-testi-tutvustav-seminar/
LOCATION:Tartumaa\, Eesti
CATEGORIES:Loomakasvatus
GEO:58.4057128;26.801576
END:VEVENT
BEGIN:VEVENT
DTSTART;VALUE=DATE:20150520
DTEND;VALUE=DATE:20150521
DTSTAMP:20260424T110834
CREATED:20171231T220000Z
LAST-MODIFIED:20171231T220000Z
UID:10007421-1432080000-1432166399@www.pikk.ee
SUMMARY:Infopäev „Keskkonnanõuded põllumajandusettevõtetele ELi uuel eelarveperioodil“.
DESCRIPTION:Põlvamaa \nPesa hotell \nPõlvamaa \n\n	Tartumaa Põllumeeste Liit korraldab 20. mail algusega 10.00 Põlvas Pesa hotellis tasuta infopäeva „Keskkonnanõuded põllumajandusettevõtetele ELi uuel eelarveperioodil“. \n\n	Teemad; rohestamise nõuded; veeseadusest tulenevad nõuded (sh vee erikasutusluba\, kaitsevööndid); jäätmeseadusest ja pakendiseadusest tulenevad nõuded (sh probleemtoode); väetiseseadus\, väetise pakendi märgistamine\, põhinõuded taimekaitsevahendite turustamisel ja kasutamisel; välisõhu kaitse seadus; nõuded söötade järelvalve valdkonnas; loomade heaolu nõuded (loomade pidamine\, kaitse\, ehitised); nõuetele vastavuse rikkumiste TOP 2012/2013. \n\n	Õpetame ka selle aasta otsetoetuste taotlemist. \n\n	Lektorid on Merry Aart ja Indrek Keres. \n\n	Soovitav eelregistreerimine ttl@kodu.ee või 736 6955
URL:https://www.pikk.ee/sundmus/infopaev-keskkonnanouded-pollumajandusettevotetele-eli-uuel-eelarveperioodil-4/
LOCATION:Põlvamaa\, Põlvamaa\, Eesti
CATEGORIES:Keskkond
GEO:58.1160622;27.2066394
END:VEVENT
BEGIN:VEVENT
DTSTART;VALUE=DATE:20150521
DTEND;VALUE=DATE:20150522
DTSTAMP:20260424T110834
CREATED:20171231T220000Z
LAST-MODIFIED:20171231T220000Z
UID:10007405-1432166400-1432252799@www.pikk.ee
SUMMARY:Koolitussari: „Teadmised praktikasse“
DESCRIPTION:Tartumaa \nKreutzwaldi 56/1\, Tartu \nTartumaa \nKoolitussari: „Teadmised praktikasse“ \n„Teadmised praktikasse“ koolituse eesmärk on koolitaja juhendamisel  viia läbi oma ettevõtte karjatervise andmete analüüs\, leida üles erinevate karjatervise valdkondade riskitegurid ning välja töötada võimalikud lahendusteed. Koolitussari koosneb kahepäevastest erinevatel teemadel läbi viidud koolitusest. \nKoolituse esimene päev on internetipõhine ja  elektrooniliselt saadetud õppematerjalide järgi toimub oma ettevõttes iseseisev õppimine. Koolituse teine päev toimub õppeklassis. \nÜhe mooduli maht: 12 akadeemilist tundi\, milles 6 akadeemilist tundi õppeklassis ja 6 akadeemilist tundi iseseisva õppena. \n• Esimene moodul: Kas kliiniliste udarapõletike vähendamine minu karjas on võimalik? neljapäeval\, 21. mail 2015 Tartus\, Kreutzwaldi 56/1\, õppejõud:  Piret Kalmus\, PhD\, Eesti Maaülikooli veterinaarmeditsiini ja loomakasvatuse instituudi dotsent \n• Teine moodul: Kas lonkavate lehmade arvu vähendamine minu karjas on võimalik? septembris 2015 Tartus\, õppejõud: Kalmer Kalmus\, Eesti Maaülikooli loomakliiniku juhataja \n• Kolmas moodul: Kas noorkarja haigestumist on võimalik minu karjas vähendada? novembris 2015 Tartus\, õppejõud:  Kerli Raaperi\, Eesti Maaülikooli veterinaarmeditsiini ja loomakasvatuse instituudi dotsent \nKoolitussarja õpiväljundid:\n-osaleja oskab analüüsida rutiinseid karjatervise andmeid ning nende põhjal otsuseid  langetada\n– oskab läbi viia peamisi võtteid lüpsihügieeni hindamiseks\n– teab sõrahaiguste põhjuseid ning oskab hinnata peamisi riskitegureid\n-oskab läbi viia vasikate tervislikku seisundi hindamise ning hinnata vasikate haiguste peamisi riskitegureid \nEsimene moodul: Kas kliiniliste udarapõletike vähendamine minu karjas on võimalik? \nKliiniliste udarapõletike hetkeolukorra analüüsimine oma karja andmete põhjal.  Kas farmis kogutud andmed näitavad tegelikku olukorda?\nKliiniliste udarapõletike avastamine ning sellele järgnevad tegevused. Kas rutiinsed tööjuhiseid aitavad minu karja?\nVõtted kliiniliste udarapõletike kontrolli all hoidmiseks. Kas kliinilisi udarapõletikke on minu karjas võimalik vähendada ja kuidas teha teha?\nKoolitusele on oodatud kõik huvilised\, kes soovivad  osaleda kliinilistest udarapõletikest põhjustatud probleemide üle arutleda ning saada uusi mõtteid ja ideid\, mida enda karjas rakendada. \nÜhe mooduli hind 175 eurot. \nKoolituse maksumus sisaldab elektroonilisi õppematerjale\, farmiandmetest lähtuvat analüüsi\,  kohvi- ja lõunapausi\, tunnistust. \nKohtade arv on piiratud\, vajalik eelregistreerimine hiljemalt 12. mai 2015!\nmaaülikooli avatud ülikooli tel 731 3175; 731 3275; 731 3174 või täites registreerumisvormi maaülikooli kodulehe aadressil http://avatudylikool.emu.ee/taiendope/registreeru-kursusele/
URL:https://www.pikk.ee/sundmus/koolitussari-teadmised-praktikasse/
LOCATION:Tartumaa\, Eesti
CATEGORIES:Loomakasvatus
GEO:58.4057128;26.801576
END:VEVENT
BEGIN:VEVENT
DTSTART;VALUE=DATE:20150521
DTEND;VALUE=DATE:20150522
DTSTAMP:20260424T110834
CREATED:20171231T220000Z
LAST-MODIFIED:20171231T220000Z
UID:10006130-1432166400-1432252799@www.pikk.ee
SUMMARY:Infopäev "Toiduhügieen"
DESCRIPTION:Tartumaa \nEesti Maaülikool\, Kreutzwaldi 56\, III korrus\, ruum 303\, Tartu \nTartumaa \nToimumisaeg ja -koht: \n21.05.2015 (N)\, Tartus Eesti Maaülikoolis\, Kreutzwaldi 56\, III korrus\, ruum 303\, kell 10-15 \n \nMaht:        6 akadeemilist tundi auditoorset tööd (üks koolituspäev) \nTeemad \n– Toitu käsitlevad õigusaktid\n– Toiduhügieeni põhimõtted\n– Mikroorganismid ja nende kasvu ja paljunemist mõjutavad tegurid\n– Toiduainete kaudu levivad haigused\, toidumürgistused ja -infektsioonid\n– Toidu füüsikaline\, keemiline ja mikrobioloogiline saastumine ja selle vältimine\n– Toidu säilitamise viisid ja tingimused ning temperatuuri kontroll\n– Puhastamine\, desinfitseerimine\n– Isiklik hügieen\n– Enesekontrolli põhimõtted\n– Toitu käsitleva töötaja kohustused ja vastutus \nÕppejõud \nKatrin Laikoja\, mag (tehn)\, Eesti Maaülikooli veterinaarmeditsiini ja loomakasvatuse instituudi lektor \nÕppeteenustasu 25 EUR \nAjakava\n10.00 – 11.30 õppetöö\n11.30 – 11.45 kohvipaus\n11.45 – 13.15 õppetöö\n13.15 – 13.30 paus\n13.30 – 15.00 õppetöö \nVajalik eelregistreerimine tel 731 3175\, 731 3275\, 731 3174 või täites registreerumisvormi maaülikooli kodulehe aadressil http://avatudylikool.emu.ee/taiendope/registreeru-kursusele/ \nNB! Võimalus tellida koolitus asutusse kohapeale. Küsi pakkumist! \n\nKoolitust korraldab:\nEesti Maaülikooli Avatud ülikool\nTel 731 3174\, 731 3275\, 731 3175\navayl@emu.ee\nKreutzwaldi 56-304;306\n51014 Tartu
URL:https://www.pikk.ee/sundmus/infopaev-toiduhugieen-8/
LOCATION:Tartumaa\, Eesti
CATEGORIES:Toiduainete tootmine
GEO:58.4057128;26.801576
END:VEVENT
BEGIN:VEVENT
DTSTART;VALUE=DATE:20150521
DTEND;VALUE=DATE:20150522
DTSTAMP:20260424T110834
CREATED:20171231T220000Z
LAST-MODIFIED:20171231T220000Z
UID:10006166-1432166400-1432252799@www.pikk.ee
SUMMARY:Infopäev „Keskkonnanõuded põllumajandusettevõtetele ELi uuel eelarveperioodil“
DESCRIPTION:Valgamaa \nMaavalitsuse I k saal\, Kesk 12 \nValgamaa \n\n	Tartumaa Põllumeeste Liit korraldab 21. mail algusega 10.00 Valga maavalitsuse I k saalis tasuta infopäeva „Keskkonnanõuded põllumajandusettevõtetele ELi uuel eelarveperioodil“. \n\n	Teemad; rohestamise nõuded; veeseadusest tulenevad nõuded (sh vee erikasutusluba\, kaitsevööndid); jäätmeseadusest ja pakendiseadusest tulenevad nõuded (sh probleemtoode); väetiseseadus\, väetise pakendi märgistamine\, põhinõuded taimekaitsevahendite turustamisel ja kasutamisel; välisõhu kaitse seadus; nõuded söötade järelvalve valdkonnas; loomade heaolu nõuded (loomade pidamine\, kaitse\, ehitised); nõuetele vastavuse rikkumiste TOP 2012/2013. \n\n	Õpetame ka selle aasta otsetoetuste taotlemist. \n\n	Lektorid on Merry Aart ja Indrek Keres. \n\n	Soovitav eelregistreerimine ttl@kodu.ee või 736 6955
URL:https://www.pikk.ee/sundmus/infopaev-keskkonnanouded-pollumajandusettevotetele-eli-uuel-eelarveperioodil-5/
LOCATION:Eesti
CATEGORIES:Keskkond
END:VEVENT
BEGIN:VEVENT
DTSTART;VALUE=DATE:20150521
DTEND;VALUE=DATE:20150522
DTSTAMP:20260424T110834
CREATED:20171231T220000Z
LAST-MODIFIED:20171231T220000Z
UID:10007289-1432166400-1432252799@www.pikk.ee
SUMMARY:Infopäev "Kitsekasvatus"
DESCRIPTION:Võrumaa \nVõru vallavalitsuse saali Võrumõisa tee 4a \nVõrumaa \nTartumaa Põllumeeste Liit korraldab \n21. mail algusega 10.00 \nVõru vallavalitsuses\, Võrumõisa tee 4a \n  \ntasuta infopäeva \n„Kitsekasvatus“. \nLektor on dots Peep Piirsalu EMÜst. \n  \nTeemad: piima-ja lihakitsetõud; kitsepiim ja kitseliha; piimakitsede söötmisnormid\, \nsöötade toiteväärtus\, piimakitsede ja noorkitsede söötmise korraldus; \nkitsede karjatamise korraldus ja tarastamine; mahekitsekasvatus. \n  \nSoovitav eelregistreerimine ttl@kodu.ee\, märkides ära infopäeva toimumise \nkuupäeva ja koha või 736 6955.
URL:https://www.pikk.ee/sundmus/infopaev-kitsekasvatus-9/
LOCATION:Võrumaa\, Võrumaa
CATEGORIES:Loomakasvatus
GEO:57.7377372;27.1398938
END:VEVENT
BEGIN:VEVENT
DTSTART;VALUE=DATE:20150522
DTEND;VALUE=DATE:20150523
DTSTAMP:20260424T110834
CREATED:20171231T220000Z
LAST-MODIFIED:20171231T220000Z
UID:10007221-1432252800-1432339199@www.pikk.ee
SUMMARY:Tasuta infopäev "Tootmishügieen ja sanitatsiooni korraldus"
DESCRIPTION:Võrumaa \nHotell Tamula\, Vee tn 4\, Võru \nVõrumaa \n\n	Eesti Maaülikool korraldab Eesti Maaelu arengukava 2007-2013 meetme 1.1.1 raames infopäeva\n	TOOTMISHÜGIEEN JA SANITATSIOONI KORRALDUS \n\n	Sihtrühm: põllumajandustoodete tootmise\, toidu tootmise või töötlemisega tegelevad füüsilised või eraõiguslikud juriidilised isikud  ja tema töötajad \n\n	Maht: 7 akadeemilist tundi \n\n	Toimumisaeg ja -koht: reede\, 22.05.2015 hotell Tamula\, Vee tn 4\, Võru \n\n	Teemad\n	• Tootmishügieen kui ettevõtte strateegia\n	• Olulisemad toidupatogeenid ja nende seos ettevõtte tootmishügieeniga\n	• Listeria monocytogenes tootmishügieeni mõjutava faktorina ning probleemi ennetamise ja likvideerimise võimalused\n	• Toidu saastumine k.a ristsaastumine ja selle vältimise võimalused\n	• Tootmisruumide ehituslikud aspektid ja nende seos ettevõtte toidu- ja tootmishügieeniga\n	• Hügieenitsoonide vajalikkus ja selle seos personalihügieeniga\n	• Toidupatogeenidest ja riknemist põhjustavast mikrofloorast koosnevate biokilede teke\, avastamine ja likvideerimine\n	• Käitlemisettevõtte sanitatsiooni (puhastamine\, pesemine\, desinfitseerimine) põhimõtted ja korraldus \n\n	Õppejõud\n	Mati Roasto\, professor\, Eesti Maaülikooli Veterinaarmeditsiini ja loomakasvatusinstituudi toiduhügieeni osakonna juhataja \n\n	Ajakava \n	10.00 – 11.30 õppetöö\n	11.30 – 11.40 paus\n	11.40 – 13.10 õppetöö\n	13.10 – 13.40 kohvipaus\n	13.40 – 15.10 õppetöö\n	15.10 – 15.15 paus\n	15.15 – 16.00 õppetöö \n\n	Kursus on sihtrühmale tasuta. \n\n	Kohtade arv on piiratud\, vajalik eelregistreerimine maaülikooli avatud ülikooli tel 731 3175; 731 3275; 731 3174\n	või täites registreerumisvormi maaülikooli kodulehe aadressil http://avatudylikool.emu.ee/taiendope/registreeru-kursusele/ \n\n	  \n\n	Infopäeva korraldab:\n	Eesti Maaülikooli avatud ülikool\n	Tel 731 3174\,  731 3275\, 731 3175\n	avayl@emu.ee\n	http://avatudylikool.emu.ee/\n	Kreutzwaldi 56/1\n	51014 Tartu
URL:https://www.pikk.ee/sundmus/tasuta-infopaev-tootmishugieen-ja-sanitatsiooni-korraldus/
LOCATION:Võrumaa\, Võrumaa
CATEGORIES:Toiduainete tootmine
GEO:57.7377372;27.1398938
END:VEVENT
BEGIN:VEVENT
DTSTART;VALUE=DATE:20150522
DTEND;VALUE=DATE:20150523
DTSTAMP:20260424T110834
CREATED:20171231T220000Z
LAST-MODIFIED:20171231T220000Z
UID:10007246-1432252800-1432339199@www.pikk.ee
SUMMARY:Infopäev "Enesekontrolliplaani nõuete- ja kasutuskohasuse tõendamine"
DESCRIPTION:Harjumaa \nPK Ilmarine Hotel\, Põhja pst 21b\, Tallinn \nHarjumaa \n\n	Eesti Maaülikool korraldab Eesti Maaelu arengukava 2007-2013 meetme 1.1.1 raames infopäeva\n	ENESEKONTROLLIPLAANI NÕUETE- JA KASUTUSKOHASUSE TÕENDAMINE  \n\n	  \n\n	Sihtrühm: põllumajandustoodete tootmise\, toidu tootmise või töötlemisega tegelevad füüsilised või eraõiguslikud juriidilised isikud ja tema töötajad\n	Maht: 7 akadeemilist tundi auditoorset tööd \n\n	Toimumisaeg ja -koht:   reede\, 22.05.2015\, PK Ilmarine Hotell\, Põhja pst 21b\, Tallinn \n\n	Teemad:\n	– nõuetekohasuse tõendamine;\n	– proovide võtmine ja analüüsimine (jälgitavus\, mikrobioloogilised nõuded\, märgistus);\n	– auditi põhimõtted;\n	– eeltingimusprogrammide/heade hügieenitavade auditeerimine;\n	– HACCP põhimõtete auditeerimine;\n	– kasutuskohasuse tõendamine;\n	– mõõteriistade kalibreerimine/taatlemine;\n	– kestvuskatsete läbiviimine. \n\n	Õppejõud\n	Katrin Laikoja\, mag (tehn)\, Eesti Maaülikooli Veterinaarmeditsiini ja loomakasvatuse instituudi lektor \n\n	Ajakava \n	10.00 – 11.30 õppetöö\n	11.30 – 11.40 paus\n	11.40 – 13.10 õppetöö\n	13.10 – 13.40 kohvipaus\n	13.40 – 15.10 õppetöö\n	15.10 – 15.15 paus\n	15.15 – 16.00 õppetöö \n\n	Kursus on sihtrühmale tasuta. \n\n	Kohtade arv on piiratud\, vajalik eelregistreerimine \n	maaülikooli avatud ülikooli tel 731 3175; 731 3275; 731 3174 või täites registreerumisvormi maaülikooli kodulehe aadressilhttp://avatudylikool.emu.ee/taiendope/registreeru-kursusele/ \n\n	 
URL:https://www.pikk.ee/sundmus/infopaev-enesekontrolliplaani-nouete-ja-kasutuskohasuse-toendamine-3/
LOCATION:Harjumaa\, Harjumaa\, Eesti
CATEGORIES:Loomakasvatus
END:VEVENT
END:VCALENDAR