BEGIN:VCALENDAR
VERSION:2.0
PRODID:-//PIKK.ee - ECPv6.13.2.1//NONSGML v1.0//EN
CALSCALE:GREGORIAN
METHOD:PUBLISH
X-WR-CALNAME:PIKK.ee
X-ORIGINAL-URL:https://www.pikk.ee
X-WR-CALDESC:Events for PIKK.ee
REFRESH-INTERVAL;VALUE=DURATION:PT1H
X-Robots-Tag:noindex
X-PUBLISHED-TTL:PT1H
BEGIN:VTIMEZONE
TZID:Europe/Tallinn
BEGIN:DAYLIGHT
TZOFFSETFROM:+0200
TZOFFSETTO:+0300
TZNAME:EEST
DTSTART:20150329T010000
END:DAYLIGHT
BEGIN:STANDARD
TZOFFSETFROM:+0300
TZOFFSETTO:+0200
TZNAME:EET
DTSTART:20151025T010000
END:STANDARD
END:VTIMEZONE
BEGIN:VEVENT
DTSTART;VALUE=DATE:20150904
DTEND;VALUE=DATE:20150905
DTSTAMP:20260424T124109
CREATED:20171231T220000Z
LAST-MODIFIED:20171231T220000Z
UID:10006193-1441324800-1441411199@www.pikk.ee
SUMMARY:Giidi õpe
DESCRIPTION:Viljandimaa \nOlustvere Teenindus- ja Maamajanduskool \nViljandimaa \nOlustvere Teenindus- ja Maamajanduskool asub 18. septembrist õpetama giide täiendatud õppekavaga – oleme lisanud matkatarkused ja individuaalse esinemiskoolituse. \nKooliaeg tundub alati pikk. Koolitöö tahab tegemist ja kohalkäimist.\nOmeti\, kui see annab enesekindlust\, esinemisoskust ja teadmisi\, kuidas tutvustada linna\, ajalooperioodi või üksikobjekti\, pole see mahavisatud aeg.\nLisaks kohtutakse samahuviliste inimestega üle Eesti\, luuakse sõprussuhteid\, võetakse koos ette väljasõite. \nTäpsem info õppekava kodulehel: http://www.olustvere.edu.ee/wordpress/?page_id=236 \nOlustvere on õpikohana  väike Eesti mõisaidüll. Matka sinna võib endale lubada ka  kohaga tutvumiseks. \nKutsun 4. septembril kell 14.00 kooli ja erialaga tutvuma. Eelnevalt\ntelefonitsi minuga kokku leppides: 53419415.\nGiidi eriala õpetaja Aino Saavaste
URL:https://www.pikk.ee/sundmus/giidi-ope/
LOCATION:Viljandimaa\, Viljandimaa\, Eesti
CATEGORIES:Muu
GEO:58.2821746;25.5752233
END:VEVENT
END:VCALENDAR