BEGIN:VCALENDAR
VERSION:2.0
PRODID:-//PIKK.ee - ECPv6.13.2.1//NONSGML v1.0//EN
CALSCALE:GREGORIAN
METHOD:PUBLISH
X-WR-CALNAME:PIKK.ee
X-ORIGINAL-URL:https://www.pikk.ee
X-WR-CALDESC:Events for PIKK.ee
REFRESH-INTERVAL;VALUE=DURATION:PT1H
X-Robots-Tag:noindex
X-PUBLISHED-TTL:PT1H
BEGIN:VTIMEZONE
TZID:Europe/Tallinn
BEGIN:DAYLIGHT
TZOFFSETFROM:+0200
TZOFFSETTO:+0300
TZNAME:EEST
DTSTART:20160327T010000
END:DAYLIGHT
BEGIN:STANDARD
TZOFFSETFROM:+0300
TZOFFSETTO:+0200
TZNAME:EET
DTSTART:20161030T010000
END:STANDARD
END:VTIMEZONE
BEGIN:VEVENT
DTSTART;VALUE=DATE:20160927
DTEND;VALUE=DATE:20160928
DTSTAMP:20260420T121524
CREATED:20171231T220000Z
LAST-MODIFIED:20171231T220000Z
UID:10006373-1474934400-1475020799@www.pikk.ee
SUMMARY:Kompostide tootmine ja kasutamine
DESCRIPTION:Sihtrühm:\n	Põllumajandustootjad ja töötlejad\n	\n	NB! Tegemist on Eesti maaelu arengukava 2014 – 2020 ühise põllumajanduspoliitika kohase maaelu arengu teadmussiirde ja teavituse toetusega (meede 1) Tartu maakonnas – see tähendab\, et koolituse lõppkasusaajad peavad olema Tartumaa põllumajandustootjad.\n	  \n\n	Sihtrühmale on koolitus tasuta. \n\n	Sisu: \n\n					* kompostimise tähtsus orgaaniliste jäätmete utiliseerimise\, võimaliku keskkonnaohu vähendamise ja kohalike ressursside optimaalse (taas)kasutamise tagamiseks;\n					* kompostide lähtematerjalid\, nende ressurss ja kasutusvõimalused lähtuvalt kvaliteedist;\n					* kompostimise tehnoloogiad (aunad\, sundõhustatud\, reaktorid\, vermikompostimine jne)\, seadmed ja protsessid;\n					* kompostide kasutamine väetise ja mullaparandajana\, kasutusnormid ja keskkonnakaitselised aspektid;\n					* komposti omadused\, neid iseloomustavad näitajad;\n					* Kompostide kvaliteedinõuded ja valdkonnaga seotud seadusandlik regulatsioon\, sertifitseerimine. \n\n\n	Ajakava 27.09.\n	11.00 – 12.30 õppetöö\n	12.30 – 13.00 paus\n	13.00 – 14.30 õppetöö\n	14.30 – 14.45 paus\n	14.45 – 16.15 õppetöö\n	\n	Ajakava 28.09.\n	10.00 – 11.30 õppetöö\n	11.30 – 12.00 paus\n	12.00 – 13.30 õppetöö\n	13.30 – 13.45 paus\n	13.45 – 15.15 õppetöö \n\n	\n	Õppejõud: Mait Kriipsalu\, Alar Astover\n	  \n\n	Registreerumine kestab kuni registreerumisaja lõpuni (19.09.)\, juhul kui grupp täitub varem\, siis grupi täitumiseni. Juhul\, kui grupp ei täitu\, jääb koolitus ära ja registreerunuid teavitatakse.\n	  \n\n	Registreeru maaülikooli kodulehelt: http://avatudylikool.emu.ee/taiendope/tahtis/
URL:https://www.pikk.ee/sundmus/kompostide-tootmine-ja-kasutamine/
LOCATION:Muu\, Eesti
CATEGORIES:Aiandus
GEO:58.595272;25.0136071
END:VEVENT
BEGIN:VEVENT
DTSTART;VALUE=DATE:20160927
DTEND;VALUE=DATE:20160928
DTSTAMP:20260420T121524
CREATED:20171231T220000Z
LAST-MODIFIED:20171231T220000Z
UID:10006404-1474934400-1475020799@www.pikk.ee
SUMMARY:Õunviljaliste mahekasvatus ja töötlemisvõimalused
DESCRIPTION:Eesti Mahepõllumajanduse Sihtasutus korraldab infopäeva mahetootjatele \n\n	„Õunviljaliste mahekasvatus ja töötlemisvõimalused“ \n\n	Aeg: 27. september 2016\, kell 10-15. \n\n	Koht: Eesti Maaülikooli Polli Aiandusuuringute keskuse peahoone \n\n	Polli küla\, Karksi vald\, Viljandimaa\, polli.emu.ee \n\n	Päevakava \n\n	10.00-12.00 Õuna- ja pirnisordid mahekasvatuses. Mahekasvatusse sobivad alused;  Kersti Kahu\,Toivo Univer \n\n	12.00-12.20 Kohvipaus \n\n	12.20-14.00 Mahekasvatustehnoloogiad. Koristustehnoloogiad ja säilitamine; Kersti Kahu\,Toivo Univer \n\n	14.00-15.00 Tootearenduse võimalustest; Uko Bleive \n\n	Infopäev läheb arvesse mahepõllumajandusliku tootmise toetuse saamise kohustusliku koolitusena (6 tundi). \n\n	Koolitused on tasuta\, osalemiseks vajalik eelregistreerumine  https://goo.gl/forms/dPKXi9oOTSPPIB4H3   (eelistatult) või 56620955; kohtade arv on piiratud\, registreerumine lõpetatakse kohtade täitumisel. \n\n	Toetab Euroopa Liit. \n\n	Vaata koolituste infot www.maheklubi.ee sündmuste kalendrist.
URL:https://www.pikk.ee/sundmus/ounviljaliste-mahekasvatus-ja-tootlemisvoimalused/
LOCATION:Muu\, Eesti
CATEGORIES:Taimekasvatus
GEO:58.595272;25.0136071
END:VEVENT
BEGIN:VEVENT
DTSTART;VALUE=DATE:20160930
DTEND;VALUE=DATE:20161001
DTSTAMP:20260420T121524
CREATED:20171231T220000Z
LAST-MODIFIED:20171231T220000Z
UID:10006409-1475193600-1475279999@www.pikk.ee
SUMMARY:Infopäev "Õunviljaliste mahekasvatus ja töötlemisvõimalused"
DESCRIPTION:Eesti Maaülikooli Polli Aiandusuuringute keskuses \n\n	Eesti Mahepõllumajanduse Sihtasutus korraldab infopäeva mahetootjatele \n\n	„Õunviljaliste mahekasvatus ja töötlemisvõimalused“ \n\n	Aeg: 30. september 2016\, kell 12.00-16.45. \n\n	Koht: Kõljala külamaja\, Kõljala küla\, Pihtla vald\, Saaremaa  \n\n	Päevakava \n\n	12.00-14.00 Õuna- ja pirnisordid mahekasvatuses\, mahekasvatusse\n	sobivad alused\,  Kersti Kahu\n	14.00-14.20 Kohvipaus\n	14.20-15.30 Mahekasvatustehnoloogiad\, õunaaia vaatlus ja lõikamine\, Kersti Kahu\n	15.30-16.45 Koristustehnoloogiad ja säilitamine. Tootearenduse\n	võimalustest\, Uko Bleive  \n\n	Infopäev läheb arvesse mahepõllumajandusliku tootmise toetuse saamise kohustusliku koolitusena (6 tundi). \n\n	Koolitused on tasuta\, osalemiseks vajalik eelregistreerumine   https://goo.gl/forms/zPSzcTTztWpUWMPN2   (eelistatult) või 56620955; kohtade arv on piiratud\, registreerumine lõpetatakse kohtade täitumisel. \n\n	Toetab Euroopa Liit. \n\n	Vaata koolituste infot www.maheklubi.ee sündmuste kalendrist.
URL:https://www.pikk.ee/sundmus/infopaev-ounviljaliste-mahekasvatus-ja-tootlemisvoimalused/
LOCATION:Muu\, Eesti
CATEGORIES:Taimekasvatus
GEO:58.595272;25.0136071
END:VEVENT
BEGIN:VEVENT
DTSTART;VALUE=DATE:20160930
DTEND;VALUE=DATE:20161001
DTSTAMP:20260420T121524
CREATED:20171231T220000Z
LAST-MODIFIED:20171231T220000Z
UID:10006411-1475193600-1475279999@www.pikk.ee
SUMMARY:Mahepõllumajanduslik põllukultuuride kasvatus
DESCRIPTION:Infopäev: mahepõllumajanduslik põllukultuuride kasvatus \n\n	Eesti Maaülikool korraldab 30. septembril Jõgevamaal infopäeva teemal vahekultuurid kui põllukultuuride mullaparandajad. \n\n	Aeg: 30. september 2016\, kell 10-15 \n\n	Asukoht: Mustvee Kultuurimaja\, Tartu tn 12\, 49603 Mustvee; Väljaotsa OÜ põllud Ruskaveres \n\n	  \n\n	Päevakava \n\n	10.00-11.15 Vahekultuuride tähtsus\, erinevad tüübid ning kasutusvõimalused – Liina Talgre \n\n	11.15-12.00 Vahekultuurid külvikorras\, FertilCrop katsete tulemused – Anne Luik \n\n	12.00-12.30 Energiapaus \n\n	12.30-15.00 Erinevate vahekultuuride segude vaatlused ja mulla olukorra hindamine  Väljaotsa OÜ põldudel Ruskaveres – Margus Ess\, Anne Luik\, Liina Talgre \n\n	\n	Infopäevale registreerumine on lõppenud. \n\n	Infopäev läheb arvesse mahepõllumajandusliku tootmise toetuse saamise kohustusliku koolitusena (6 tundi). \n\n	Lisainfo:\n	Elen Peetsmann\n	tel: 53044003 \n\n	Infopäev toimub "Teadmussiirde pikaajaline programm mahepõllumajanduse tegevusvaldkonnas" raames\, toetab Euroopa Liit.
URL:https://www.pikk.ee/sundmus/mahepollumajanduslik-pollukultuuride-kasvatus-6/
LOCATION:Muu\, Eesti
CATEGORIES:Taimekasvatus
GEO:58.595272;25.0136071
END:VEVENT
BEGIN:VEVENT
DTSTART;VALUE=DATE:20160930
DTEND;VALUE=DATE:20161001
DTSTAMP:20260420T121524
CREATED:20171231T220000Z
LAST-MODIFIED:20171231T220000Z
UID:10006417-1475193600-1475279999@www.pikk.ee
SUMMARY:Tehnika Teeviit 2016. Eesti künnimeistrivõistlused 2016
DESCRIPTION:Reedel 30.09.2016 \n  7.30 – 12.30         Künnivõistluste ettevalmistused ja meistrite klassi proovikünd \n11.00 – 18.00         Tehnika Teeviit 2016. Põllumajandustehnika\, rasketehnika\, veotehnika\, Kaitseliidu ja Päästeameti demonstratsioonid\, masinate proovid ja sõidukite proovisõidud\, laada-ala\, lasteala \n10.00 – 12.30         Kehtna Rasketehnika Kompetentsikeskuse (RIKS) seminar (Staadioni 12) \n11.00 – 12.00         Künnikoolitus \n12.50 – 13.00         Masinate rivistamine avatseremooniaks \n13.00 – 13.25         EESTI KÜNNIMEISTRIVÕISTLUSTE AVAMINE \n13.40 – 17.20         Künnivõistlus kõrretüül meistrite klassis\, noorte ja vabaklassi proovikünd\, uunik-traktorite proovikünd. \n14.00 – 15.00         VIP künnivõistlus \n14.00                      Helikopterilennud \n14.30                      Pulling e. traktorite veotõmbedemonstratsioonid \n15.00; 16.00 ja 17.00 Ekskursioonid \nKehtna Mõisa OÜ piimafarmi \nEesti Tõuloomakasvatajate Ühistu farmi \nKehtna Kutsehariduskeskusesse \n15.30                      Ekskavaatorijuhtide võistlus\, traktori vigursõidu proovisõidud \n17.30 – 18.00         Masinate korrastamine ja parkimine põllul \n__________________________________________________ \nLaupäeval 01.10.2016 \n  9.00 – 12.50         Võistluskünd meistrite ja noorte klassis rohumaal ning vabaklassis kõrretüül \n10.00 – 16.00         Tehnika Teeviit 2015. Põllumajandustehnika\, rasketehnika\, veotehnika\, Kaitseliidu ja Päästeameti demonstratsioonid\, masinate proovid ja sõidukite proovisõidud\, laada-ala\, lasteala \n10.00 – 11.00         Hobukünni demo ja võistlejate proovikünd\, uunik-traktorite künnivõistlus \n11.00                      Helikopterilennud\, Politsei eritehnika demo \n11.20                      Traktori vigursõidu võistlus \n12.00 – 14.00         Hobukünnivõistlus \n13.00                      Ekskavaatorijuhtide võistlus \n13.30                      Politsei eritehnika demo \n14.00                      Pulling e. traktorite veotõmbevõistlus \n15.00 – 16.00         Hobuvõistlusrakendi demo \n16.00                      Eesti künnimeistrivõistluste lõpetamine\, autasustamine \n  \nLugupidamisega\, Marko Valgma.\nKehtna Kutsehariduskeskus \npraktilise väljaõppekeskuse juht\ntehnikavaldkonna õpetaja\n5571333
URL:https://www.pikk.ee/sundmus/tehnika-teeviit-2016-eesti-kunnimeistrivoistlused-2016/
LOCATION:Muu\, Eesti
CATEGORIES:Muu
GEO:58.595272;25.0136071
END:VEVENT
END:VCALENDAR