BEGIN:VCALENDAR
VERSION:2.0
PRODID:-//PIKK.ee - ECPv6.13.2.1//NONSGML v1.0//EN
CALSCALE:GREGORIAN
METHOD:PUBLISH
X-ORIGINAL-URL:https://www.pikk.ee
X-WR-CALDESC:Events for PIKK.ee
REFRESH-INTERVAL;VALUE=DURATION:PT1H
X-Robots-Tag:noindex
X-PUBLISHED-TTL:PT1H
BEGIN:VTIMEZONE
TZID:Europe/Tallinn
BEGIN:DAYLIGHT
TZOFFSETFROM:+0200
TZOFFSETTO:+0300
TZNAME:EEST
DTSTART:20160327T010000
END:DAYLIGHT
BEGIN:STANDARD
TZOFFSETFROM:+0300
TZOFFSETTO:+0200
TZNAME:EET
DTSTART:20161030T010000
END:STANDARD
END:VTIMEZONE
BEGIN:VEVENT
DTSTART;VALUE=DATE:20161011
DTEND;VALUE=DATE:20161012
DTSTAMP:20260423T053325
CREATED:20171231T220000Z
LAST-MODIFIED:20171231T220000Z
UID:10008005-1476144000-1476230399@www.pikk.ee
SUMMARY:Noorlooma tervishoid lihaveisekasvatuses
DESCRIPTION:  \nMaaelu Edendamise Sihtasutus korraldab 11. oktoobril Haapsalus\, Põllumajandusameti saalis\, Jaani 10\, infopäeva Noorlooma tervishoid lihaveisekasvatuses. \nInfopäeva algus kell 11.00 \nLektorid loomakasvatuse konsulent Marika Oeselg ja EMÜ loomakliiniku vanemloomaarst Alar Onoper. \n  \nVajalik etteregistreerimine marika.oeselg@gmail.com \n  \n 
URL:https://www.pikk.ee/sundmus/noorlooma-tervishoid-lihaveisekasvatuses-2/
LOCATION:Muu\, Eesti
GEO:58.595272;25.0136071
END:VEVENT
BEGIN:VEVENT
DTSTART;VALUE=DATE:20161011
DTEND;VALUE=DATE:20161012
DTSTAMP:20260423T053325
CREATED:20171231T220000Z
LAST-MODIFIED:20171231T220000Z
UID:10007996-1476144000-1476230399@www.pikk.ee
SUMMARY:Noorlooma tervishoid lihaveisekasvatuses
DESCRIPTION:  \nMaaelu Edendamise Sihtasutus korraldab 11. oktoobril Haapsalus\, Põllumajandusameti saalis\, Jaani 10\, infopäeva Noorlooma tervishoid lihaveisekasvatuses. \nInfopäeva algus kell 11.00\, orienteeruv lõpp 16.00. \nOodatud on kõik lihaveisekasvatajad sõltumata kasvatatavast loomatõust ja karja kasvatamise kogemustest.  \n  \nInfopäeva teemad: \nNoorloomade peamiste terviseprobleemide vältimine. Bioturvalisus. Parasiitidega nakatumine karjamaadel. \nNoorloomade söödad ja söötmine. \nPraktilised kogemused. \nVeise karjatamise mõjud ökosüsteemile. \nArutelu uuest veeseaduse eelnõust. \n  \nLektorid loomakasvatuse konsulent Marika Oeselg ja EMÜ loomakliiniku vanemloomaarst Alar Onoper. \nKülalislektor SA Eestimaa Looduse Fondi ekspert Aleksei Lotman \n  \nOsalemiseks palun eelregistreerida hiljemalt 10. oktoobriks e-mailil marika.oeselg@gmail.com või saata sms tel. 513 6242 (osaleja nimi\, koolituse kuupäev ja koht) \n  \n 
URL:https://www.pikk.ee/sundmus/noorlooma-tervishoid-lihaveisekasvatuses/
LOCATION:Muu\, Eesti
CATEGORIES:Loomakasvatus
GEO:58.595272;25.0136071
END:VEVENT
BEGIN:VEVENT
DTSTART;VALUE=DATE:20161014
DTEND;VALUE=DATE:20161015
DTSTAMP:20260423T053325
CREATED:20171231T220000Z
LAST-MODIFIED:20171231T220000Z
UID:10007992-1476403200-1476489599@www.pikk.ee
SUMMARY:Infopäev: mahepõllumajanduslik põllukultuuride kasvatus
DESCRIPTION:Infopäev: mahepõllumajanduslik põllukultuuride kasvatus \n\n	Eesti Maaülikool korraldab 14. oktoobril Tartus infopäeva teemal vahekultuurid kui põllukultuuride mullaparandajad. \n\n	Aeg: 14.oktoober 2016\, kell 10-15 \n\n	Asukoht: Eesti Maaülikooli Mahekeskus\, Õssu küla\, Ülenurme vald\, Tartumaa (http://mahekeskus.emu.ee/uldinfo/kontakt/) \n\n	Päevakava \n\n	10.00-11.15 Vahekultuuride tähtsus\, erinevad tüübid ning kasutusvõimalused – Liina Talgre\, Eesti Maaülikool \n\n	11.15-12.00 Vahekultuurid külvikorras\, FertilCrop katsete tulemused – Anne Luik\, Eesti Maaülikool \n\n	12.00-12.30 Energiapaus \n\n	12.30-14.00 Teravilja õpiringi kogemusi – Anne Luik \n\n	14.00-15.00 FertilCrop katsete vaatlus ja mulla olukorra hindamine – Anne Luik\, Liina Talgre \n\n	Infopäevale registreerimine on lõppenud! \n\n	Infopäev läheb arvesse mahepõllumajandusliku tootmise toetuse saamise kohustusliku koolitusena (6 tundi). \n\n	Lisainfo:\n	Elen Peetsmann\n	tel: 53044003 \n\n	Infopäev toimub "Teadmussiirde pikaajaline programm mahepõllumajanduse tegevusvaldkonnas" raames\, toetab Euroopa Liit.
URL:https://www.pikk.ee/sundmus/infopaev-mahepollumajanduslik-pollukultuuride-kasvatus-2/
LOCATION:Muu\, Eesti
CATEGORIES:Taimekasvatus
GEO:58.595272;25.0136071
END:VEVENT
END:VCALENDAR