BEGIN:VCALENDAR
VERSION:2.0
PRODID:-//PIKK.ee - ECPv6.13.2.1//NONSGML v1.0//EN
CALSCALE:GREGORIAN
METHOD:PUBLISH
X-WR-CALNAME:PIKK.ee
X-ORIGINAL-URL:https://www.pikk.ee
X-WR-CALDESC:Events for PIKK.ee
REFRESH-INTERVAL;VALUE=DURATION:PT1H
X-Robots-Tag:noindex
X-PUBLISHED-TTL:PT1H
BEGIN:VTIMEZONE
TZID:Europe/Tallinn
BEGIN:DAYLIGHT
TZOFFSETFROM:+0200
TZOFFSETTO:+0300
TZNAME:EEST
DTSTART:20170326T010000
END:DAYLIGHT
BEGIN:STANDARD
TZOFFSETFROM:+0300
TZOFFSETTO:+0200
TZNAME:EET
DTSTART:20171029T010000
END:STANDARD
END:VTIMEZONE
BEGIN:VEVENT
DTSTART;VALUE=DATE:20170124
DTEND;VALUE=DATE:20170125
DTSTAMP:20260424T100151
CREATED:20171231T220000Z
LAST-MODIFIED:20171231T220000Z
UID:10006479-1485216000-1485302399@www.pikk.ee
SUMMARY:Seleeni olulisus piimakasrjakasvatuses - Rakveres
DESCRIPTION:  \nEesti Põllumeeste Keskliit kutsub seminaridele \nSELEENI OLULISUS PIIMAKARJAKASVATUSES \n24. jaanuaril Rakveres\, AQVA Hotel & Spa (Parkali 4\, Rakvere)\nSeminari algus 10:00 (tervituskohv 09:45) \n25. jaanuaril Kuressaares\, Arensburgi Meedla Koda (Lossi 6\, Kuressaare)\nSeminari algus: 12:00 (tervituskohv 11:45) \n26. jaanuaril Tartus\, Dorpat Konverentsikeskus (Soola 6\, Tartu)\nSeminari algus: 10:00 (tervituskohv 09:45) \nSeminari läbivateks teemadeks on:\n* Piim\, kui väärtuslik toiduaine – toorpiima kvaliteet\, koostis ja seleeni osatähtsus.\n* Innovatiivsus piimatootmises\, orgaanilise seleeni olulisus looma tervisele\, tootmise tasuvusele ja  mõju piimatoodetele.\n* Seleeni madal tase Eesti piimakarjades\, orgaanilise seleeni võimalused seleenitaseme tõstmiseks piimatootmises. \nSeminariteemasid käsitlevad:\n* Väino Poikalainen\, toiduteaduse doktor\n* Maria Agovino\, Itaalia veisekasvatusekspert\, CowSignals koolitaja\n* Pilleriin Puskar\, karjatervise- ja söötmisnõustaja \n  \nSeminaril osalemiseks palume kindlasti eelnevalt registreerida SIIN! \nLisainfo telefonil +372 508 4431(Martin Vilen) või +372 505 2846 (Katrin Teder) \nSeminar on osaliselt inglisekeelne koos eestikeelse sünkroontõlkega. \n  \nTuruarendustoetuse abiga rahastatud tegevus \n  \n 
URL:https://www.pikk.ee/sundmus/seleeni-olulisus-piimakasrjakasvatuses-rakveres/
LOCATION:Muu\, Eesti
CATEGORIES:Loomakasvatus
GEO:58.595272;25.0136071
END:VEVENT
BEGIN:VEVENT
DTSTART;VALUE=DATE:20170124
DTEND;VALUE=DATE:20170125
DTSTAMP:20260424T100151
CREATED:20171231T220000Z
LAST-MODIFIED:20171231T220000Z
UID:10006480-1485216000-1485302399@www.pikk.ee
SUMMARY:Seleeni olulisus piimakasrjakasvatuses
DESCRIPTION:  \nEesti Põllumeeste Keskliit kutsub seminaridele \nSELEENI OLULISUS PIIMAKARJAKASVATUSES \n24. jaanuaril Rakveres\, AQVA Hotel & Spa (Parkali 4\, Rakvere)\nSeminari algus 10:00 (tervituskohv 09:45) \n25. jaanuaril Kuressaares\, Arensburgi Meedla Koda (Lossi 6\, Kuressaare)\nSeminari algus: 12:00 (tervituskohv 11:45) \n26. jaanuaril Tartus\, Dorpat Konverentsikeskus (Soola 6\, Tartu)\nSeminari algus: 10:00 (tervituskohv 09:45) \nSeminari läbivateks teemadeks on:\n* Piim\, kui väärtuslik toiduaine – toorpiima kvaliteet\, koostis ja seleeni osatähtsus.\n* Innovatiivsus piimatootmises\, orgaanilise seleeni olulisus looma tervisele\, tootmise tasuvusele ja  mõju piimatoodetele.\n* Seleeni madal tase Eesti piimakarjades\, orgaanilise seleeni võimalused seleenitaseme tõstmiseks piimatootmises. \nSeminariteemasid käsitlevad:\n* Väino Poikalainen\, toiduteaduse doktor\n* Maria Agovino\, Itaalia veisekasvatusekspert\, CowSignals koolitaja\n* Pilleriin Puskar\, karjatervise- ja söötmisnõustaja \n  \nSeminaril osalemiseks palume kindlasti eelnevalt registreerida SIIN! \nLisainfo telefonil +372 508 4431(Martin Vilen) või +372 505 2846 (Katrin Teder) \nSeminar on osaliselt inglisekeelne koos eestikeelse sünkroontõlkega. \n  \nTuruarendustoetuse abiga rahastatud tegevus \n  \n 
URL:https://www.pikk.ee/sundmus/seleeni-olulisus-piimakasrjakasvatuses/
LOCATION:Muu\, Eesti
GEO:58.595272;25.0136071
END:VEVENT
BEGIN:VEVENT
DTSTART;VALUE=DATE:20170125
DTEND;VALUE=DATE:20170126
DTSTAMP:20260424T100151
CREATED:20171231T220000Z
LAST-MODIFIED:20171231T220000Z
UID:10008128-1485302400-1485388799@www.pikk.ee
SUMMARY:Suurloomade esmaabikoolitus "Terve loom - suurem kasum"
DESCRIPTION:Järvamaa Kutsehariduskeskuse Särevere õppekohas\, (peahoones\,  Tehnikumi 1) algavad 2017 aastal  Maaelu Arengu Euroopa Põllumajandusfondi finantseerimisel TASUTA koolitused põllu- ja metsameestele: \n12.-13.jaanuar 2017 algab suurloomade esmaabikoolitus "Terve loom-suurem kasum" (80 tundi)\, II grupp (taotlus 611015510002) algus kell 10.00. Lektor Ulvi Martin\, järgmised koolituspäevad toimuvad 25.-28. jaanuar  ja 4.-5. veebruar 2017. \nTäiendav info ja registreerimine \nRuth Türk\nruth.turk@jkhk.ee\n5329 2188\n www.jkhk.ee \n 
URL:https://www.pikk.ee/sundmus/suurloomade-esmaabikoolitus-terve-loom-suurem-kasum-2/
LOCATION:Muu\, Eesti
CATEGORIES:Loomakasvatus
GEO:58.595272;25.0136071
END:VEVENT
BEGIN:VEVENT
DTSTART;VALUE=DATE:20170125
DTEND;VALUE=DATE:20170126
DTSTAMP:20260424T100151
CREATED:20171231T220000Z
LAST-MODIFIED:20171231T220000Z
UID:10008135-1485302400-1485388799@www.pikk.ee
SUMMARY:Scandagra Eesti Talvekonverents 2017
DESCRIPTION:Konverentsil võetakse kokku möödunud aasta\, jagatakse ettevõtte uudiseid ning muutusi uuel aastal. Põnevaid ettekandeid kuuleb ja näeb nii meilt kui külalisesinejatelt. Ürituse täpsema kirjeldus peagi leitav meie kodulehelt www.scandagra.ee. \nÜritusele saab end kirja panna hiljemalt 23. jaanuariks läbi aadressi http://bit.ly/sceekonverents2017\, samuti e-mailidel berit.nugis@scandagra.ee ja delia.randoja@scandagra.ee või telefonidel +372  514 7683 ja\n+372 504 9122 \nKorraldaja Scandagra Eesti AS.
URL:https://www.pikk.ee/sundmus/scandagra-eesti-talvekonverents-2017/
LOCATION:Muu\, Eesti
CATEGORIES:Muu
GEO:58.595272;25.0136071
END:VEVENT
BEGIN:VEVENT
DTSTART;VALUE=DATE:20170125
DTEND;VALUE=DATE:20170126
DTSTAMP:20260424T100151
CREATED:20171231T220000Z
LAST-MODIFIED:20171231T220000Z
UID:10008142-1485302400-1485388799@www.pikk.ee
SUMMARY:Väetusplaani praktiline koostamine
DESCRIPTION:Õppepäevade lektor on Indrek Keres\, EMÜ taimekasvatuse ja rohumaaviljeluse osakond. \n\n\n\n\n9:30 – 10:00 \n\n\nRegistreerimine\, kohv \n\n\n\n\n10:00 – 10:05 \n\n\nSissejuhatus – Ann Riisenberg\, EPKK keskkonnavaldkonna juht \n\n\n\n\n10:00 – 12:00 \n\n\nMuudatused seadusandluses – Veeseadus\, määrus nr 288  – \n\n\n\n\nEesti muldade seis – toitainete bilanss \n\n\n\n\nMullaproovide võtmisest\, nende vajalikkusest ning tulemustest \n\n\n\n\nVäetamine – saagiga eemaldatavad kogused ja väetistega tagastatavad kogused \n\n\n\n\n12:00 – 13:00 \n\n\nLõuna \n\n\n\n\n13:00 – 15:00 \n\n\nPraktiline väetusplaani koostamine \n\n\n\n\n15:00 – 15:30 \n\n\nKohvipaus \n\n\n\n\n15:30 – 16:30 \n\n\nPraktiline väetusplaani koostamine \n\n\n\n\nHea põllumees registreeri ennast koolitusele hiljemalt 18. jaanuariks 2017 SIIN \nTäpsem info – Ann Riisenberg\, tel 52 45 875\, ann.riisenberg@epkk.ee \nAsukoha info: (asukoht kaardil). \n  \nÕppepäevad on organiseeritud projekti “GreenAgri” CB272 raames ja finantseeritud Kesk-Läänemere programmist 2014-2020  ning Eesti Põllumajandus-Kaubanduskoja poolt.
URL:https://www.pikk.ee/sundmus/vaetusplaani-praktiline-koostamine/
LOCATION:Muu\, Eesti
CATEGORIES:Taimekasvatus
GEO:58.595272;25.0136071
END:VEVENT
BEGIN:VEVENT
DTSTART;VALUE=DATE:20170125
DTEND;VALUE=DATE:20170126
DTSTAMP:20260424T100151
CREATED:20171231T220000Z
LAST-MODIFIED:20171231T220000Z
UID:10006481-1485302400-1485388799@www.pikk.ee
SUMMARY:Seleeni olulisus piimakasrjakasvatuses - Kuressaares
DESCRIPTION:  \nEesti Põllumeeste Keskliit kutsub seminaridele \nSELEENI OLULISUS PIIMAKARJAKASVATUSES \n25. jaanuaril Kuressaares\, Arensburgi Meedla Koda (Lossi 6\, Kuressaare)\nSeminari algus: 12:00 (tervituskohv 11:45) \n26. jaanuaril Tartus\, Dorpat Konverentsikeskus (Soola 6\, Tartu)\nSeminari algus: 10:00 (tervituskohv 09:45) \nSeminari läbivateks teemadeks on:\n* Piim\, kui väärtuslik toiduaine – toorpiima kvaliteet\, koostis ja seleeni osatähtsus.\n* Innovatiivsus piimatootmises\, orgaanilise seleeni olulisus looma tervisele\, tootmise tasuvusele ja  mõju piimatoodetele.\n* Seleeni madal tase Eesti piimakarjades\, orgaanilise seleeni võimalused seleenitaseme tõstmiseks piimatootmises. \nSeminariteemasid käsitlevad:\n* Väino Poikalainen\, toiduteaduse doktor\n* Maria Agovino\, Itaalia veisekasvatusekspert\, CowSignals koolitaja\n* Pilleriin Puskar\, karjatervise- ja söötmisnõustaja \n  \nSeminaril osalemiseks palume kindlasti eelnevalt registreerida SIIN! \nLisainfo telefonil +372 508 4431(Martin Vilen) või +372 505 2846 (Katrin Teder) \nSeminar on osaliselt inglisekeelne koos eestikeelse sünkroontõlkega. \n  \nTuruarendustoetuse abiga rahastatud tegevus \n  \n 
URL:https://www.pikk.ee/sundmus/seleeni-olulisus-piimakasrjakasvatuses-kuressaares/
LOCATION:Muu\, Eesti
CATEGORIES:Loomakasvatus
GEO:58.595272;25.0136071
END:VEVENT
BEGIN:VEVENT
DTSTART;VALUE=DATE:20170126
DTEND;VALUE=DATE:20170127
DTSTAMP:20260424T100151
CREATED:20171231T220000Z
LAST-MODIFIED:20171231T220000Z
UID:10006477-1485388800-1485475199@www.pikk.ee
SUMMARY:Bioenergia\, kui võimalus ressursside säästlikuks kasutamiseks põllumajanduses
DESCRIPTION:Kava ja esinejad: \n10:00-10:30 Kogunemine\, registreerimine\, hommikukohv \n10:30-11:30 Bioenergia kasutusvõimalused põllumajandusettevõttes. Kristo Vaher\, Bioenergia ​projektijuht \n11:30-12:00 Kogemused teraviljakuivati üleviimisest bioküttele. Raigo Villemson\, Suitsu Suurtalu OÜ \n12:00-12:30 Kogemused teraviljakuivatite üleviimisest bioküttele Soome kogemused. Indrek Saare \n12:30-13:00 Lõunakohv ja suupisted \n13:00-13:40 Investeeringutoetuse kasutamise võimalused bioenergias erinevate fondide näitel. Triin Luksepp\, konsulent​ \n13:40-14:30 Päikesepaneelide kasutusvõimalused põllumajandusettevõttes. Priit Pikk\, energiaaudiitor \n14:30-15:20 Pelletite kasutusvõimalused põllumajandusettevõttes. Priit Kotli\n                                              \nRegistreerimise aadress: bioenergiapaev@gmail.com \nInfopäev toimub "Teadmussiire ja teavitus toetus maakondliku ulatusega tegevused " toetusmeetme raames\, tegevust toetab Euroopa Liit.\n 
URL:https://www.pikk.ee/sundmus/bioenergia-kui-voimalus-ressursside-saastlikuks-kasutamiseks-pollumajanduses-2/
LOCATION:Muu\, Eesti
GEO:58.595272;25.0136071
END:VEVENT
BEGIN:VEVENT
DTSTART;VALUE=DATE:20170126
DTEND;VALUE=DATE:20170127
DTSTAMP:20260424T100151
CREATED:20171231T220000Z
LAST-MODIFIED:20171231T220000Z
UID:10006482-1485388800-1485475199@www.pikk.ee
SUMMARY:Seleeni olulisus piimakasrjakasvatuses - Tartus
DESCRIPTION:  \nEesti Põllumeeste Keskliit kutsub seminaridele \nSELEENI OLULISUS PIIMAKARJAKASVATUSES \n26. jaanuaril Tartus\, Dorpat Konverentsikeskus (Soola 6\, Tartu)\nSeminari algus: 10:00 (tervituskohv 09:45) \nSeminari läbivateks teemadeks on:\n* Piim\, kui väärtuslik toiduaine – toorpiima kvaliteet\, koostis ja seleeni osatähtsus.\n* Innovatiivsus piimatootmises\, orgaanilise seleeni olulisus looma tervisele\, tootmise tasuvusele ja  mõju piimatoodetele.\n* Seleeni madal tase Eesti piimakarjades\, orgaanilise seleeni võimalused seleenitaseme tõstmiseks piimatootmises. \nSeminariteemasid käsitlevad:\n* Väino Poikalainen\, toiduteaduse doktor\n* Maria Agovino\, Itaalia veisekasvatusekspert\, CowSignals koolitaja\n* Pilleriin Puskar\, karjatervise- ja söötmisnõustaja \n  \nSeminaril osalemiseks palume kindlasti eelnevalt registreerida SIIN! \nLisainfo telefonil +372 508 4431(Martin Vilen) või +372 505 2846 (Katrin Teder) \nSeminar on osaliselt inglisekeelne koos eestikeelse sünkroontõlkega. \n  \nTuruarendustoetuse abiga rahastatud tegevus \n  \n 
URL:https://www.pikk.ee/sundmus/seleeni-olulisus-piimakasrjakasvatuses-tartus/
LOCATION:Muu\, Eesti
CATEGORIES:Loomakasvatus
GEO:58.595272;25.0136071
END:VEVENT
BEGIN:VEVENT
DTSTART;VALUE=DATE:20170127
DTEND;VALUE=DATE:20170128
DTSTAMP:20260424T100151
CREATED:20171231T220000Z
LAST-MODIFIED:20171231T220000Z
UID:10008160-1485475200-1485561599@www.pikk.ee
SUMMARY:Täppisviljeluse praktiline arvutikoolitus-infopäev
DESCRIPTION:  \nTäppisviljeluse praktiline arvutikoolitus – infopäev \n\n27. jaanuar 2017  kell 10:00 kuni 16:00\nKoolitus on ette nähtud ülevaate andmiseks ja praktiliste oskuste arendamiseks senistele ja potentsiaalsetele täppisviljeluse tarkvarakasutajatele.\nKoolitus toimub Eesti Maaülikooli arvutiklassis\, kus igale osalejale on kavandatud arvutikoht koos installeeritud tarkvaraga. Koolituse raames saab osaleja lahendada konkreetseid praktilisi ülesandeid. Seoses sellega on osalejate arv piiratud. \nPäevakava\n10:00 – 10:15    Sissejuhatus\n10:15 – 11:15    Täppisviljeluse võimalused ja andmete kogumine põllutöödel.\n11:15 – 12:00    Sissejuhatus tarkvarasse (installeerimine\, litsentsid\, uuendused\, ühilduvus\, varundamine\, kasutussoovitused).\n12:00 – 12:15    Paus.\n12:15 – 13:15    Ettevõtte struktuur\, andmevahetus\, masinandmete import\, kaardikihtide ülevaade\, koostamine\, kohandamine\, parandamine.\n13:15 – 14:00    Lõuna.\n14:00 – 14:45    Töö erinevate andmekihtidega.\n14:45 – 15:30    Masinatele töökaartide koostamine.\n15:30 – 16:00    Aruanded\, graafikud. \nLektorid: Toomas Tõrra ja Jaanus Kilgi \nÜritus on osalejatele tasuta\, toimub "Teadmussiirde pikaajaline programm taimekasvatuse tegevusvaldkonnas" raames\, toetab Euroopa Maaelu Arengu Põllumajandusfond. \nToimumiskoht:\nEMÜ Metsamaja arvutiklass 0A7\nKreutzwaldi 5\, Tartu 51014 \nOsalemiseks palume eelnevalt registreeruda: https://goo.gl/forms/zf81xJ1HO2qolvoE2 \n\n 
URL:https://www.pikk.ee/sundmus/tappisviljeluse-praktiline-arvutikoolitus-infopaev/
LOCATION:Muu\, Eesti
CATEGORIES:Taimekaitse,Taimekasvatus
GEO:58.595272;25.0136071
END:VEVENT
END:VCALENDAR