BEGIN:VCALENDAR
VERSION:2.0
PRODID:-//PIKK.ee - ECPv6.13.2.1//NONSGML v1.0//EN
CALSCALE:GREGORIAN
METHOD:PUBLISH
X-ORIGINAL-URL:https://www.pikk.ee
X-WR-CALDESC:Events for PIKK.ee
REFRESH-INTERVAL;VALUE=DURATION:PT1H
X-Robots-Tag:noindex
X-PUBLISHED-TTL:PT1H
BEGIN:VTIMEZONE
TZID:Europe/Tallinn
BEGIN:DAYLIGHT
TZOFFSETFROM:+0200
TZOFFSETTO:+0300
TZNAME:EEST
DTSTART:20170326T010000
END:DAYLIGHT
BEGIN:STANDARD
TZOFFSETFROM:+0300
TZOFFSETTO:+0200
TZNAME:EET
DTSTART:20171029T010000
END:STANDARD
END:VTIMEZONE
BEGIN:VEVENT
DTSTART;VALUE=DATE:20170306
DTEND;VALUE=DATE:20170307
DTSTAMP:20260426T064528
CREATED:20171231T220000Z
LAST-MODIFIED:20171231T220000Z
UID:10008261-1488758400-1488844799@www.pikk.ee
SUMMARY:Infopäev "Sertifitseeritud seemne kasutamise vajalikkus ja võimalused teraviljakasvatuses"
DESCRIPTION:Infopäev "Sertifitseeritud seemne kasutamise vajalikkus ja võimalused teraviljakasvatuses"\n  \n6.03 Võrumaal Maamehe Golfi Talus Tiri külas (https://www.facebook.com/Maamehe-golf-494515107370755/?fref=ts ) \n7.03 Rapla Keskraamatukogu (http://www.raplakrk.ee/ ) \n  \n10.00-12.00 Sert.seemne kasutamise nõuded toetusmeetmetes. Saagikus. Väetamine. Taimekaitse. Kuivatamine. Seemne kvaliteet. Sordid. Lilia Kulli\, MES taimekasvatuskonsulent \n12:00-13:00 Põllumajandusameti tööprotsessid seoses seemnete sertifitseerimisega. Ülevaade seemnekasvatusest. Tuulekaer. Piia Puusepp\, Põllumajandusameti Seemne büroo juhataja \nLõuna \n14:00-14:30 Põldtunnustamise nõuded ja kontroll. Kristina Soon\, Põllumajandusameti Seemne büroo peaspetsialist \n14:30-15:30 Tavaseemne ja sertifitseeritud seemne rahaline arvutus näidiskultuuri baasil ja tasuvusanalüüs. Meelis Värnik\, Kevili TÜ agronoom \n15:30-16:00 Eesti Seemneliidu funktsioon sertifitseeritud seemne valdkonnas\, OTS-deklaratsioonide täitmine\, sordikaitse\, OTS-tasu määrad\, kaitsealused sordid ja OTS-tasude kogumine\, seadusandlus. Christel Mölder\, Eesti Seemneliit MTÜ tegevjuht \n  \nÕppepäev sobib ka algajale seemnekasvatajale. \n  \nRegistreerimine aadressil seemneliit@seemneliit.ee \n  \nInfopäev toimub „Teadmussiire ja teavitus toetus maakondliku ulatusega tegevused“ raames\, tegevust toetab Euroopa Liit. \n  \n 
URL:https://www.pikk.ee/sundmus/infopaev-sertifitseeritud-seemne-kasutamise-vajalikkus-ja-voimalused-teraviljakasvatuses/
LOCATION:Muu\, Eesti
CATEGORIES:Taimekaitse,Taimekasvatus
GEO:58.595272;25.0136071
END:VEVENT
BEGIN:VEVENT
DTSTART;VALUE=DATE:20170306
DTEND;VALUE=DATE:20170307
DTSTAMP:20260426T064528
CREATED:20171231T220000Z
LAST-MODIFIED:20171231T220000Z
UID:10006519-1488758400-1488844799@www.pikk.ee
SUMMARY:Tasuta infopäev „Põllumajandustoodete ja toiduainete kvaliteedikavad ning Euroopa Liidu geograafilised tähised“
DESCRIPTION:  \nEesti Põllumajandus-Kaubanduskoda korraldab Maaeluministeeriumi tellimusel tasuta infopäeva teemal \n„Põllumajandustoodete ja toiduainete kvaliteedikavad ning Euroopa Liidu geograafilised tähised“ \nInfopäevad on suunatud põllumajandustoodete tootmise ja töötlemise ning põllumajandustoodetest mittepõllumajandustoodete töötlemisega tegelevatele isikutele.\nInfopäevadele on oodatud ka konsulendid. \n06. märtsil toimub infopäev Tallinnas\, Tallinna Teeninduskooli õppeklassis (Majaka 2\, Tallinn) algusega kell 10.00. \n\nKavas ettekanded:\nEuroopa Liidu kvaliteedikavad – Ülle Eplik\, Maaeluministeerium \nViime Eesti traditsioonilise süldi Euroopasse (EL kvaliteedimärgi GTT taotleja senine kogemus) – Ülle Jukk\, Jõgevamaa Koostöökoda \nEL-i kvaliteedikavades ja siseriiklikult tunnustatud kvaliteedikavades osalemine ning nende raames toodetud toodete teavitamis- ja müügiedendustegevused – Jaanus Joasoo\, Maaeluministeerium \nInfopäev kestab 4 akadeemilist tundi tundi. \nInfopäeval osalemiseks palume kindlasti REGISTREERIDA SIIN. \nNB! Eelregistreerimine on tingimata vajalik\, lõpeb 3 päeva enne infopäeva toimumist ning on oluline lisapaberite vormistamiseks (vajadusel) ning toitlustamise tellimiseks! \n\nLisainformatsioon ja küsimused info@epkk.ee või tel 600 9349 (juhiabi Maire Vimb) \nInfopäevade korraldamist toetab Euroopa Liit \n\n 
URL:https://www.pikk.ee/sundmus/tasuta-infopaev-pollumajandustoodete-ja-toiduainete-kvaliteedikavad-ning-euroopa-liidu-geograafilised-tahised-2/
LOCATION:Muu\, Eesti
CATEGORIES:Maaettevõtlus,Muu,Toiduainete tootmine,Turundus
GEO:58.595272;25.0136071
END:VEVENT
BEGIN:VEVENT
DTSTART;VALUE=DATE:20170306
DTEND;VALUE=DATE:20170307
DTSTAMP:20260426T064528
CREATED:20171231T220000Z
LAST-MODIFIED:20171231T220000Z
UID:10006526-1488758400-1488844799@www.pikk.ee
SUMMARY:Tasuta infopäev teemal: „Alustav ühistu – tutvustav osa ja praktiku vaade“
DESCRIPTION:Eesti Maaülikool korraldab “Teadmussiirde pikaajaline programm ühistegevuse tegevusvaldkonnas” raames tasuta infopäeva teemal: „Alustav ühistu – tutvustav osa ja praktiku vaade “. Antud programm kestab 4 aastat ning selle raames toimub mitmeid infopäevi\, täienduskoolitusi\, õpiringe\, konverentse ning ettevõtete külastusi nii Eestis kui ka välisriikides.\n  \nInfopäevale on oodatud kõik ühistegevuse huvilised nii põllumajanduse– kui ka metsanduse sektorist. Eriti ootame osalema alustavaid ühistuid ning juba toimivate ühistute uusi liikmeid. \n06. märtsil toimub infopäev Tartus\, algusega kell 11.00. \n  \nInfopäeva ajakava: \n11:00-11:30 Tutvumine\, tervituskohvi ja registreerimine \n11:30-11:45 Ühistegevuse pikaajalise programmi tutvustus ja tegevused \n11:45-13:15 Ühistu loomise protsess\, ühistu toimimise põhimõtted\, liikmete õigused ja kohustused \n13:15-13:30 Kohvipaus \n13:30-14:15 Tugi ja toetusvõimalused alustavale ühistule\, kapitali kaasamine \n14:15-15:00 Tegutsevate ühistute kogemused algusaastatest \n15:00-15:15 Tagasiside \nLektoriteks on Maaettevõtluse ja finantsmajanduse konsulent Lembit Ostra\, Eesti Põllumajandus-Kaubanduskoja Nõukogu esimees Olav Kreen\, Eesti Maaülikooli professor Rando Värnik ja Tulundusühistu Farm In juhatuse liige Urmas Pallon. \n  \nEelregistreerimine toimub kuni 03.03.2017\, osalejate arv on piiratud. Lisainfo saamiseks ja eelregistreerimiseks palume saata e-mail programmi assistendile: liis.volli[A]emu.ee. Eelregistreerimiseks palume osalejatel saata järgnev informatsioon: ettevõtlusvorm ja nimi; ettevõtlusvaldkond; reg. number; osaleja nimi; osaleja ametikoht; osaleja isikukood.\n  \nNB! Eelregistreerimine on tingimata vajalik! \nLisainformatsioon ja küsimused: liis.volli@emu.ee või tel: +372 51 92 9840 (programmi assistent Liis Võlli).\n  \nInfopäeva materjalid:\nTegutsevate ühistute kogemused TÜ Farm IN\nTugi ja toetusvõimalused alustavale ühistule\, kapitali kaasamine\nÜhistegevuse arendamine\nTegutsevate ühistute kogemused\nÜhistu loomise protsess\, ühistu toimimise põhimõtted\, liikmete õigused ja kohustused\n  \n  \nInfopäeva korraldamist toetab Euroopa Maaelu Arengu Põllumajandusfond. \n \n 
URL:https://www.pikk.ee/sundmus/tasuta-infopaev-teemal-alustav-uhistu-tutvustav-osa-ja-praktiku-vaade/
LOCATION:Muu\, Eesti
CATEGORIES:Aiandus,Bioenergia ja biomajandus,Finantsmajandus,Keskkond,Loomakasvatus,Maaettevõtlus,Metsandus,Taimekaitse,Taimekasvatus,Toiduainete tootmine,Turundus,Ühistegevus
GEO:58.595272;25.0136071
END:VEVENT
BEGIN:VEVENT
DTSTART;VALUE=DATE:20170307
DTEND;VALUE=DATE:20170308
DTSTAMP:20260426T064528
CREATED:20171231T220000Z
LAST-MODIFIED:20171231T220000Z
UID:10008262-1488844800-1488931199@www.pikk.ee
SUMMARY:Infopäev "Sertifitseeritud seemne kasutamise vajalikkus ja võimalused teraviljakasvatuses"
DESCRIPTION:Infopäev "Sertifitseeritud seemne kasutamise vajalikkus ja võimalused teraviljakasvatuses"\n  \n6.03 Võrumaal Maamehe Golfi Talus Tiri külas (https://www.facebook.com/Maamehe-golf-494515107370755/?fref=ts ) \n7.03 Rapla Keskraamatukogu (http://www.raplakrk.ee/ ) \n  \n10.00-12.00 Sert.seemne kasutamise nõuded toetusmeetmetes. Saagikus. Väetamine. Taimekaitse. Kuivatamine. Seemne kvaliteet. Sordid. Lilia Kulli\, MES taimekasvatuskonsulent \n12:00-13:00 Põllumajandusameti tööprotsessid seoses seemnete sertifitseerimisega. Ülevaade seemnekasvatusest. Tuulekaer. Piia Puusepp\, Põllumajandusameti Seemne büroo juhataja \nLõuna \n14:00-14:30 Põldtunnustamise nõuded ja kontroll. Kristina Soon\, Põllumajandusameti Seemne büroo peaspetsialist \n14:30-15:30 Tavaseemne ja sertifitseeritud seemne rahaline arvutus näidiskultuuri baasil ja tasuvusanalüüs. Meelis Värnik\, Kevili TÜ agronoom \n15:30-16:00 Eesti Seemneliidu funktsioon sertifitseeritud seemne valdkonnas\, OTS-deklaratsioonide täitmine\, sordikaitse\, OTS-tasu määrad\, kaitsealused sordid ja OTS-tasude kogumine\, seadusandlus. Christel Mölder\, Eesti Seemneliit MTÜ tegevjuht \n  \nÕppepäev sobib ka algajale seemnekasvatajale. \n  \nRegistreerimine aadressil seemneliit@seemneliit.ee \n  \nInfopäev toimub „Teadmussiire ja teavitus toetus maakondliku ulatusega tegevused“ raames\, tegevust toetab Euroopa Liit. \n  \n 
URL:https://www.pikk.ee/sundmus/infopaev-sertifitseeritud-seemne-kasutamise-vajalikkus-ja-voimalused-teraviljakasvatuses-2/
LOCATION:Muu\, Eesti
CATEGORIES:Taimekaitse,Taimekasvatus
GEO:58.595272;25.0136071
END:VEVENT
BEGIN:VEVENT
DTSTART;VALUE=DATE:20170307
DTEND;VALUE=DATE:20170308
DTSTAMP:20260426T064528
CREATED:20171231T220000Z
LAST-MODIFIED:20171231T220000Z
UID:10008206-1488844800-1488931199@www.pikk.ee
SUMMARY:Täienduskoolitus: Lüpsikarja fertiilsuse parandamise võimalused ja uute efektiivsete metoodikate rakendamine sigivuses NB! 7. märtsi koolitus jääb ära (vt osalemisvõimalust aprillis)
DESCRIPTION:NB! 7. märtsi koolitus jääb ära! Vaata koolitusvõimalust aprillis! \n\n	Sihtrühm:\n	Põllumajandustoodete tootjad ja töötlejad. \n	NB! Tegevusest võivad osa võtta sihtrühma kuulujad üle Eesti.\n	  \n\n	Sisu:\n\n	Piimaveiste reproduktiivsus: selle hetkeolukord ja trendid nii Eestis\, kui maailmas.\n	Sigivusega seotud majanduslik kahju ja selle vältimise võimalused.\n	Uuemate sigivusega seotud teadusuuringute tulemused.\n	Uute metoodikate rakendamine sigivuse parandamiseks.\n	Sigivusprobleemide analüüs karja tasandil ja nende võimalikud lahendusteed.\n	 \n\n	Ajakava:\n	10.00 – 11.30 õppetöö\n	11.30 – 12.00 paus\n	12.00 – 13.30 õppetöö\n	13.30 – 13.45 paus\n	13.45 – 15.15 õppetöö \n\n		Koolitus on sihtrühma kuulujale tasuta. \n\n		Registreerumine ja lähem info maaülikooli avatud ülikooli kodulehel:\n		http://avatudylikool.emu.ee/taiendope/priauler2016/ \n\n		Koolituse korraldaja:\n		Eesti Maaülikooli avatud ülikool\n		Fr. R. Kreutzwaldi 56 (III korrus\, ruumid 303-306)\, 51014 Tartu\, tel 731 3174\, 731 3175\, 731 3275\, 534 41844  või e-post: avayl[A]emu.ee \n\n\n	 
URL:https://www.pikk.ee/sundmus/taienduskoolitus-lupsikarja-fertiilsuse-parandamise-voimalused-ja-uute-efektiivsete-metoodikate-rakendamine-sigivuses-nb-7-martsi-koolitus-jaab-ara-vt-osalemisvoimalust-aprillis/
LOCATION:Muu\, Eesti
CATEGORIES:Loomakasvatus
GEO:58.595272;25.0136071
END:VEVENT
BEGIN:VEVENT
DTSTART;VALUE=DATE:20170308
DTEND;VALUE=DATE:20170309
DTSTAMP:20260426T064528
CREATED:20171231T220000Z
LAST-MODIFIED:20171231T220000Z
UID:10006527-1488931200-1489017599@www.pikk.ee
SUMMARY:Tasuta infopäev teemal: „Alustav ühistu – tutvustav osa ja praktiku vaade“
DESCRIPTION:Eesti Maaülikool korraldab “Teadmussiirde pikaajaline programm ühistegevuse tegevusvaldkonnas” raames tasuta infopäeva teemal: „Alustav ühistu – tutvustav osa ja praktiku vaade “. Antud programm kestab 4 aastat ning selle raames toimub mitmeid infopäevi\, täienduskoolitusi\, õpiringe\, konverentse ning ettevõtete külastusi nii Eestis kui ka välisriikides.\n  \nInfopäevale on oodatud kõik ühistegevuse huvilised nii põllumajanduse– kui ka metsanduse sektorist. Eriti ootame osalema alustavaid ühistuid ning juba toimivate ühistute uusi liikmeid. \n08. märtsil toimub infopäev Paides\, algusega kell 11.00. \n  \nInfopäeva ajakava: \n11:00-11:30 Tutvumine\, tervituskohvi ja registreerimine \n11:30-11:45 Ühistegevuse pikaajalise programmi tutvustus ja tegevused \n11:45-13:15 Ühistu loomise protsess\, ühistu toimimise põhimõtted\, liikmete õigused ja kohustused \n13:15-13:30 Kohvipaus \n13:30-14:15 Tugi ja toetusvõimalused alustavale ühistule\, kapitali kaasamine \n14:15-15:00 Tegutsevate ühistute kogemused algusaastatest \n15:00-15:15 Tagasiside \nLektoriteks on Maaettevõtluse ja finantsmajanduse konsulent Lembit Ostra\, Eesti Põllumajandus-Kaubanduskoja Nõukogu esimees Olav Kreen\, Eesti Maaülikooli professor Rando Värnik ja Tulundusühistu Farm In juhatuse liige Urmas Pallon. \n  \nEelregistreerimine toimub kuni 03.03.2017\, osalejate arv on piiratud. Lisainfo saamiseks ja eelregistreerimiseks palume saata e-mail programmi assistendile: liis.volli[A]emu.ee. Eelregistreerimiseks palume osalejatel saata järgnev informatsioon: ettevõtlusvorm ja nimi; ettevõtlusvaldkond; reg. number; osaleja nimi; osaleja ametikoht; osaleja isikukood.\n  \nNB! Eelregistreerimine on tingimata vajalik! \nLisainformatsioon ja küsimused: liis.volli@emu.ee või tel: +372 51 92 9840 (programmi assistent Liis Võlli).\n  \nInfopäeva materjalid: \nTegutsevate ühistute kogemused TÜ Farm IN\nTugi ja toetusvõimalused alustavale ühistule\, kapitali kaasamine\nÜhistegevuse arendamine\nTegutsevate ühistute kogemused\nÜhistu loomise protsess\, ühistu toimimise põhimõtted\, liikmete õigused ja kohustused \nInfopäeva korraldamist toetab Euroopa Maaelu Arengu Põllumajandusfond. \n \n 
URL:https://www.pikk.ee/sundmus/tasuta-infopaev-teemal-alustav-uhistu-tutvustav-osa-ja-praktiku-vaade-2/
LOCATION:Muu\, Eesti
CATEGORIES:Aiandus,Bioenergia ja biomajandus,Finantsmajandus,Keskkond,Loomakasvatus,Maaettevõtlus,Metsandus,Taimekaitse,Taimekasvatus,Toiduainete tootmine,Turundus,Ühistegevus
GEO:58.595272;25.0136071
END:VEVENT
BEGIN:VEVENT
DTSTART;VALUE=DATE:20170309
DTEND;VALUE=DATE:20170310
DTSTAMP:20260426T064528
CREATED:20171231T220000Z
LAST-MODIFIED:20171231T220000Z
UID:10008209-1489017600-1489103999@www.pikk.ee
SUMMARY:Täienduskoolitus: Toidu mikrobioloogilise ohutuse tagamine
DESCRIPTION:Sihtrühm:\n	Põllumajandustoodete tootjad ja töötlejad. \n	NB! Tegevusest võivad osa võtta sihtrühma kuulujad üle Eesti.\n	  \n\n	Sisu:\n	Toiduainete mikrobioloogia olulisus;\n	Mikroorganismide grupeerimine;\n	Mikrobioloogilise toiduohutuse tagamine;\n	Mikrobioloogilised toiduohutuskriteeriumid;\n	Mikrobioloogilised tootmisprotsessi hügieenikriteeriumid;\n	Soovituslikud toidu mikrobioloogilised piirväärtused;\n	Toidu mikrobioloogiline säilivus.\n	 \n\n	Ajakava:\n	 \n				10.00 – 11.30 õppetöö\n				11.30 – 11.45 paus\n				11.45 – 13.15 õppetöö\n				13.15 – 13.45 paus\n				13.45 – 15.15 õppetöö\n				15.15 – 15.30 paus\n				15.30 – 16.15 õppetöö \n\n					Koolitus on sihtrühma kuulujale tasuta. \n\n					Registreerumine ja lähem info maaülikooli avatud ülikooli kodulehel:\n					http://avatudylikool.emu.ee/taiendope/priauler2016/ \n\n					Koolituse korraldaja:\n					Eesti Maaülikooli avatud ülikool\n					Fr. R. Kreutzwaldi 56 (III korrus\, ruumid 303-306)\, 51014 Tartu\, tel 731 3174\, 731 3175\, 731 3275\, 534 41844  või e-post: avayl@emu.ee \n\n	 
URL:https://www.pikk.ee/sundmus/taienduskoolitus-toidu-mikrobioloogilise-ohutuse-tagamine/
LOCATION:Muu\, Eesti
CATEGORIES:Toiduainete tootmine
GEO:58.595272;25.0136071
END:VEVENT
BEGIN:VEVENT
DTSTART;VALUE=DATE:20170309
DTEND;VALUE=DATE:20170310
DTSTAMP:20260426T064528
CREATED:20171231T220000Z
LAST-MODIFIED:20171231T220000Z
UID:10006501-1489017600-1489103999@www.pikk.ee
SUMMARY:Täienduskoolitus: Nitraat ja nitrit põllumajandustoodete tootmisel ja töötlemisel NB! uus toimumisaeg
DESCRIPTION:NB! 9.märtsile kavandatud toimumine teoks ei saa\, uus toimumisaeg on 9.mai. \n\n	Sihtrühm:\n	Põllumajandustoodete tootmise või töötlemise\, põllumajandusmaa hooldamise\, põllumajandustoodetest mittepõllumajandustoodete töötlemise või metsa majandamisega tegelev füüsiline isik\, füüsilisest isikust ettevõtja ja tema töötaja ning eraõigusliku juriidilise isiku osanik\, aktsionär\, liige\, juhtorgani liige ja tema töötaja. \n	NB! Tegevusest võivad osa võtta sihtrühma kuulujad üle Eesti.\n	  \n\n	Sisu:\n	 \n\n	Nitraadist ja nitritist üldiselt;\n	Nitraadi ja nitriti kasulikud omadused;\n	Nitraadi ja nitriti kahjulikud omadused;\n	Nitraadi ja nitriti esinemine köögiviljades ja köögiviljatoodetes;\n	Nitraadi ja nitriti esinemine lihas ja lihatoodetes;\n	Nitraadi ja nitriti saadavus toidust ning seadusandlus;\n	Nitraadi ja nitriti vähendamisvõimalused toodetes. \n	Ajakava:\n	9.15 – 10.45 õppetöö\n	10.45 – 11.00 paus\n	11.00 – 12.30 õppetöö\n	12.30 – 13.00 paus\n	13.00 – 14.30 õppetöö\n	  \n\n	Koolitus on sihtrühma kuulujale tasuta. \n\n	Registreerumine ja lähem info maaülikooli avatud ülikooli kodulehel:\n	http://avatudylikool.emu.ee/taiendope/priauler2016/ \n\n	Koolituse korraldaja:\n	Eesti Maaülikooli avatud ülikool\n	Fr. R. Kreutzwaldi 56 (III korrus\, ruumid 303-306)\, 51014 Tartu\, tel 731 3174\, 731 3175\, 731 3275\, 534 41844  või e-post: avayl[A]emu.ee \n\n	 
URL:https://www.pikk.ee/sundmus/taienduskoolitus-nitraat-ja-nitrit-pollumajandustoodete-tootmisel-ja-tootlemisel-nb-uus-toimumisaeg/
LOCATION:Muu\, Eesti
CATEGORIES:Keskkond
GEO:58.595272;25.0136071
END:VEVENT
BEGIN:VEVENT
DTSTART;VALUE=DATE:20170309
DTEND;VALUE=DATE:20170310
DTSTAMP:20260426T064528
CREATED:20171231T220000Z
LAST-MODIFIED:20171231T220000Z
UID:10008257-1489017600-1489103999@www.pikk.ee
SUMMARY:Infopäev: Mahepõllumajanduslik põllukultuuride kasvatus Võrumaal
DESCRIPTION:Eesti Mahepõllumajanduse Sihtasutus korraldab infopäeva \n\n		"Mahepõllumajanduslik põllukultuuride kasvatus" \n\n		Aeg: 9. märts 2017 kell 10:00-14:45 \n\n		Koht: Võru Vallavalitsus\, Võrumõisa tee 4a\, Võru\, 65605 Võru maakond \n\n\n	 \n\n	Kava:\n\n	10:00 Vahekultuurid. Biopreparaatide kasutamine vahekultuuridel.\n	Vahekultuuride segud.\n	Külvisenormi mõju mahe teravilja\, kaunviljade ja talirüpsi kasvatamisel.\n	12:15 Kohvipaus\n	12:30 Eestis katsetatud maheväetised ja nende kasutamine tootmises\n	Umbrohtude tõrjumise kogemused Väljaotsa OÜ-s\n	14:45 Lõpp \n\n	 \n\n\n		Lektorid Margus Ess (Väljaotsa OÜ)\, Merili Toom (Eesti Taimekasvatuse Instituut) \n\n		  \n\n		Infopäeval osalemine on tasuta. Osalemiseks on kindlasti vajalik eelregistreerimine siin: https://goo.gl/forms/VQ1ln3II3N8Wv8J93 (eelistatult) või telefonil 5662 0955. Kohtade arv on piiratud\, registreerimine lõpetatakse kohtade täitumisel. \n\n		  \n\n		Infopäev läheb arvesse mahepõllumajandusliku tootmise toetuse saamise kohustusliku koolitusena (6 tundi). \n\n		Infopäev toimub "Teadmussiirde pikaajaline programm mahepõllumajanduse tegevusvaldkonnas" raames\, toetab Euroopa Liit. \n\n		  \n\n\n	 
URL:https://www.pikk.ee/sundmus/infopaev-mahepollumajanduslik-pollukultuuride-kasvatus-vorumaal/
LOCATION:Muu\, Eesti
CATEGORIES:Taimekasvatus
GEO:58.595272;25.0136071
END:VEVENT
BEGIN:VEVENT
DTSTART;VALUE=DATE:20170310
DTEND;VALUE=DATE:20170311
DTSTAMP:20260426T064528
CREATED:20171231T220000Z
LAST-MODIFIED:20171231T220000Z
UID:10006473-1489104000-1489190399@www.pikk.ee
SUMMARY:Koolitus Mesindus
DESCRIPTION:Maht \n\n	6 akadeemilist tundi  \n\n	Toimumise ajakava ja lisainfo \n\n	10.00-11.30 õppetöö\n	11.30-12.00 paus\n	12.00-13.30 õppetöö\n	13.30-13.45 paus\n	13.45-15.15 õppetöö \n\n	Õppekeel eesti keel \n\n	Hind  49 eurot \n\n	Tasumine toimub arve alusel. Arve väljastab maaülikooli rahandusosakond\, kui grupp on komplekteerunud ja koolituse toimumine kindel (enamasti mõned päevad enne koolitust). \n\n	Sihtrühm mesinduse huvilised \n\n	Maksimaalne osalejate arv 26 \n\n	Eesmärk saada teadmised mesilaste pidamisest ja oskused väikemesila hooldamiseks \n\n	Õpiväljundid kursuse läbinu oskab valida mesilaspere\, rajada mesilat võtta mett\, teab mesilastõugudest\, kevadistest töödest mesilas\, perede paljundamisest. \n\n	Sisu     \n\n	* mesila rajamine\, tarutüübi valik;\n	* mesilasperede muretsemine\, mesilastõugudest;\n	* kevadised tööd mesilas\, perede paljundamine;\n	* suvi mesilas\, sülemlemine\, meevõtt;\n	* sügis mesilas\, mesilaste talveks ettevalmistamine;\n	* talvitumine. \n\n	Õppejõud Taimi Paal \n\n	  \n\n	Kursus toimub\, kui osalejaid on vähemalt 10 \n\n	Registreerumise tähtaeg 01.03.2017 \n\n	Registreerumise lisainfo \n\n	Registreerumisega avaldate soovi osaleda käesoleval tasulisel koolitusel.\n	Registreerumine on aluseks täiendusõppijaks arvamisel ja arve väljastamisele. \n	Registreerumine on avatud kuni registreerumisaja lõpuni või kuni grupi täitumiseni. \n	Kui grupp on täitunud\, saate oma osalemissoovist teada anda e-posti aadressil: avayl@emu.ee (saame Teid sõltuvalt olukorrast jätta ootelehele või avada uue grupi). \n	Juhul\, kui grupp ei komplekteeru\, jääb koolitus ära ja registreerunud osalejaid teavitatakse. \n	Täiendusõppest loobumise korral teavitada kirjalikku taasesitamist võimaldaval\n	viisil täiendusõppe korraldajat hiljemalt kolm tööpäeva enne õppe alguskuupäeva\n	Juhul kui täiendusõppija teavitab koolituse korraldajat õppimisest loobumisest\n	vähem kui kolm tööpäeva enne koolituse algust\, jääb õppeteenustasu tasumise kohustus\n	jõusse. \n\n	Lähem teave ja registreerumine: https://ois.emu.ee/pls/ois/!tere.tulemast?leht=OK.AY.VP&id_ay_programm=330&id_ay_toimumine=9463&systeemi_seaded=3\,1\,12\,1\,  \n\n	Eesti Maaülikooli avatud ülikool\n	Fr. R. Kreutzwaldi 56 (III korrus\, ruumid 303-306)\, 51014 Tartu\, tel 731 3174\, 731 3175\, 731 3275\, 534 41844  või e-post: avayl@emu.ee
URL:https://www.pikk.ee/sundmus/koolitus-mesindus-2/
LOCATION:Muu\, Eesti
CATEGORIES:Aiandus,Loomakasvatus
GEO:58.595272;25.0136071
END:VEVENT
BEGIN:VEVENT
DTSTART;VALUE=DATE:20170310
DTEND;VALUE=DATE:20170311
DTSTAMP:20260426T064528
CREATED:20171231T220000Z
LAST-MODIFIED:20171231T220000Z
UID:10006502-1489104000-1489190399@www.pikk.ee
SUMMARY:Täienduskoolitus: Mullateadus ja metsakasvatus NB! jääb ära\, uus aeg 9. juuni 2017
DESCRIPTION:Sihtrühm:\n	Põllumajandustoodete tootmise või töötlemise\, põllumajandusmaa hooldamise\, põllumajandustoodetest mittepõllumajandustoodete töötlemise või metsa majandamisega tegelev füüsiline isik\, füüsilisest isikust ettevõtja ja tema töötaja ning eraõigusliku juriidilise isiku osanik\, aktsionär\, liige\, juhtorgani liige ja tema töötaja. \n	NB! Tegevusest võivad osa võtta sihtrühma kuulujad üle Eesti.\n	NB! Teavitame!\n	Antud koolitustegevuses osalemine on osaleja jaoks vähese tähtsusega abi. \n\n	 \n\n	Sisu:\n	Mullale sobiva puuliigi valik:\n	– metsa rajamisel ja uuendamisel;\n	– mahajäetud põllumaade metsastamisel;\n	– lageraiejärgse metsa uuendamisel.\n	 \n\n	 \n\n	Õppetöö ajakava\n	10.15 – 11.45 õppetöö\n	11.45 – 12.15 paus\n	12.15 – 13.45 õppetöö\n	13.45 – 14.00 paus\n	14.00 – 15.30 õppetöö\n	15.30 – 15.45 paus\n	15.45 – 16.30 õppetöö \n\n	Koolitus on sihtrühma kuulujale tasuta. \n\n	Registreerumine ja lähem info maaülikooli avatud ülikooli kodulehel:\n	http://avatudylikool.emu.ee/taiendope/priauler2016/ \n\n	Koolituse korraldaja:\n	Eesti Maaülikooli avatud ülikool\n	Fr. R. Kreutzwaldi 56 (III korrus\, ruumid 303-306)\, 51014 Tartu\, tel 731 3174\, 731 3175\, 731 3275\, 534 41844  või e-post: avayl[A]emu.ee \n\n	 
URL:https://www.pikk.ee/sundmus/taienduskoolitus-mullateadus-ja-metsakasvatus-nb-jaab-ara-uus-aeg-9-juuni-2017/
LOCATION:Muu\, Eesti
CATEGORIES:Metsandus
GEO:58.595272;25.0136071
END:VEVENT
BEGIN:VEVENT
DTSTART;VALUE=DATE:20170310
DTEND;VALUE=DATE:20170311
DTSTAMP:20260426T064528
CREATED:20171231T220000Z
LAST-MODIFIED:20171231T220000Z
UID:10008289-1489104000-1489190399@www.pikk.ee
SUMMARY:Taimekaitsevahendite professionaalse kasutaja täiendkoolitus
DESCRIPTION:9.00 – 11.20    Integreeritud taimekaiste + turule lubatud taimekaitsevahendid\, nende liigitamine  + praktika\n11.20 -11.30     KOHVIPAUS\n11.30 – 13.00 Etiketi lugemine + taimekahjustajad\, nende tõrje + illegaalsed taimekaitsevahendid\n13.00- 13.45  LÕUNASÖÖK\n13.45 – 15.25  Ohutusnõuded taimekaitsevahendite kasutamisel\, taimekaitse-vahendi tühja pakendi\, pesuvee\, pritsimislahuse ja taimekaitsevahendi jääkide käitlemine + praktika: pritsi kontroll ja ettevalmistamine tööks\, kulunormide arvutamine\n15.25-15.40   KOHVIPAUS\n15.40 – 19.10 Seadusandlus\, isikukaitsevahendid + esmaabi + pritsi tüübid ja nende käitlemine\, EKSAM. \nLektor Kaja Marrandi. \nVajalik eelnev registreerimine:  http://jkhk.ee/pages/taeienduskoolitused/tasuta-pria-kursused.php \n  \nRuth Türk\nJKHK koolitusjuht\nruth.turk@jkhk.ee\n5329 2188 \nKoolitused toimuvad "Teadmussiirde pikaajaline programm taimekasvatuse tegevusvaldkonnas" raames\, toetab Euroopa Liit.
URL:https://www.pikk.ee/sundmus/taimekaitsevahendite-professionaalse-kasutaja-taiendkoolitus-6/
LOCATION:Muu\, Eesti
CATEGORIES:Taimekasvatus
GEO:58.595272;25.0136071
END:VEVENT
BEGIN:VEVENT
DTSTART;VALUE=DATE:20170310
DTEND;VALUE=DATE:20170311
DTSTAMP:20260426T064528
CREATED:20171231T220000Z
LAST-MODIFIED:20171231T220000Z
UID:10008170-1489104000-1489190399@www.pikk.ee
SUMMARY:Mesindusalane täienduskoolitus veterinaararstidele
DESCRIPTION:  \nOlustvere Teenindus- ja Maamajanduskoolis toimub PRIA toetusest rahastatav koolitus "Mesindusalane täienduskoolitus veterinaararstidele" (viitenumber 611015840090).  \nKoolitus toimub 10.märtsil ning 5. ja 6.mail kella 9.00 – 18.00 aadressil Talli 5\, Olustvere. \n  \nTäpsem info Marika Šadeiko marika.shadeiko@olustvere.edu.ee \n  \n 
URL:https://www.pikk.ee/sundmus/mesindusalane-taienduskoolitus-veterinaararstidele-5/
LOCATION:Muu\, Eesti
CATEGORIES:Loomakasvatus,Muu
GEO:58.595272;25.0136071
END:VEVENT
END:VCALENDAR