BEGIN:VCALENDAR
VERSION:2.0
PRODID:-//PIKK.ee - ECPv6.13.2.1//NONSGML v1.0//EN
CALSCALE:GREGORIAN
METHOD:PUBLISH
X-WR-CALNAME:PIKK.ee
X-ORIGINAL-URL:https://www.pikk.ee
X-WR-CALDESC:Events for PIKK.ee
REFRESH-INTERVAL;VALUE=DURATION:PT1H
X-Robots-Tag:noindex
X-PUBLISHED-TTL:PT1H
BEGIN:VTIMEZONE
TZID:Europe/Tallinn
BEGIN:DAYLIGHT
TZOFFSETFROM:+0200
TZOFFSETTO:+0300
TZNAME:EEST
DTSTART:20170326T010000
END:DAYLIGHT
BEGIN:STANDARD
TZOFFSETFROM:+0300
TZOFFSETTO:+0200
TZNAME:EET
DTSTART:20171029T010000
END:STANDARD
END:VTIMEZONE
BEGIN:VEVENT
DTSTART;VALUE=DATE:20170502
DTEND;VALUE=DATE:20170503
DTSTAMP:20260424T094513
CREATED:20171231T220000Z
LAST-MODIFIED:20171231T220000Z
UID:10008351-1493683200-1493769599@www.pikk.ee
SUMMARY:Infopäev „Toidualase teabe esitamine“
DESCRIPTION:Eesti Toiduainetööstuse Liit korraldab 2 infopäev teemal „Toidualase teabe esitamine“ \n\n	11.04 Tartus\, Eesti Maaülikooli tehnikamajas\, Kreutzwaldi 56/1\, ruum A-303 (avatud ülikooli ruumid) \n\n	02.05 Tallinnas\, Kreutzwald hotelli Kalevi saalis\, Endla 23  \n\n	Käsitletakse erinevaid toidualase teabe esitamise ja märgistamise nõudeid. Infopäev algab kehtivate nõuete meelde tuletamisega. Seejärel keskendutakse toitumisalase teabe ning toitumis- ja tervisealaste väidete esitamise nõuetele. Infopäev lõpeb praktilise osaga\, kus osavõtjad saavad analüüsida etteantud näidismärgistusi ning esitada küsimusi ja jagada kogemusi. \n\n	Infopäevad toimuvad MAK 2014-2020 meetme „Teadmussiirde pikaajaline programm toiduohutuse valdkonnas“ raames\, läbiviimist toetab Euroopa Liit. \n\n	Infopäev on sihtrühmale tasuta (kui vähese tähtsusega abi määr ei ole ületatud). Infopäevade sihtrühmaks on toidu tootmise ja töötlemisega ning toidu töötlemisega tegelevad füüsilised isikud ja ettevõtted (v.a kala- ja kalatoodete valdkond). Tegemist on vähese tähtsusega abiga\, abisumma on 72 eurot ühe osaleva inimese kohta. \n\n	Ajakava: \n\n	10.00-10.30 Kogunemine\, registreerimine\, hommikukohv  \n\n	10.30 – 11.30 Toidualase teabe esitamise nõuded erinevates õigusaktides \n\n	Külli Johanson ja Külli Suurvarik\, Maaeluministeeriumi toiduohutuse osakonna toidu üldnõuete büroo peaspetsialistid \n\n	11.30-12.00 Toitumisalase teabe esitamine \n\n	Külli Johanson\, Maaeluministeeriumi toidu üldnõuete büroo peaspetsialist \n\n	12.00-12.30 NutriData andmebaasi kasutamine toidu toitainelise koostise leidmisel \n\n	Kristin Salupuu ja Ann Jõeleht\, Tervise Arengu Instituudi seire ja hindamise osakonna projektijuhid \n\n	12.30-13.15 Lõuna \n\n	13.15-14.00 Tõenduspõhised toitumis- ja tervisealased väited \n\n	Siret Dreyersdorff\, Maaeluministeeriumi toiduohutuse osakonna toidu üldnõuete büroo peaspetsialist \n\n	14.00 – 14.30 Tähelepanekuid toidualase teabe esitamisest ja pakendite märgistusest \n\n	Tiiu Rand\, Veterinaar- ja Toiduameti toiduosakonna peaspetsialist \n\n	14.30-15.00 Kohvipaus \n\n	15.00-17.00 Praktiline osa ja küsimused \n\n	Lektorite poolt ettevalmistatud teoreetilise märgistusnäite analüüsimine. Osavõtjad jagatakse gruppidesse\, iga grupp saab analüüsida ühe märgistuse näidise ja esitleda analüüsi tulemusi. Lektorid juhendavad ja vastavad küsimustele. Osavõtjad on oodatud ka esitama küsimusi\, avaldama arvamust ning jagama kogemusi käsitletud teemadel. \n\n	Registreerimine: Tallinn https://goo.gl/forms/W4Vaemcp73ZjOUMj2 \n\n	Kohtade arv on piiratud. Palume registreerumise korral kindlasti osaleda või vabastada koht teistele soovijatele. \n\n	Info: inge@toiduliit.ee\, tel 6 484 978
URL:https://www.pikk.ee/sundmus/infopaev-toidualase-teabe-esitamine-2/
LOCATION:Muu\, Eesti
CATEGORIES:Toiduainete tootmine
GEO:58.595272;25.0136071
END:VEVENT
BEGIN:VEVENT
DTSTART;VALUE=DATE:20170503
DTEND;VALUE=DATE:20170504
DTSTAMP:20260424T094513
CREATED:20171231T220000Z
LAST-MODIFIED:20171231T220000Z
UID:10006599-1493769600-1493855999@www.pikk.ee
SUMMARY:Infopäev: mahepõllumajanduslike taimekasvatussaaduste töötlemine
DESCRIPTION:Eesti Maaülikool korraldab kaks infopäeva Leedu põllumajanduse ja metsanduse uurimisinstituudi lektoritega\, kus teemaks on mahepõllumajanduslik töötlemine – taimekasvatussaadustest toodete valmistamine. Infopäeval tutvustatakse uudseid tehnoloogiad puu- ja köögiviljade töötlemisel\, kõrvalsaaduste kasutamist ja funktsionaalsete toodete arendamist. \n\n	\n	* 3. mai 2017\, Polli küla\, Karksi vald\, Viljandimaa (polli.emu.ee )\n	Eesti Maaülikooli Polli aiandusuuringute keskus\n	* 4. mai 2017\, EMÜ Mahekeskus\, Õssu küla\, Ülenurme vald\, Tartumaa (http://mahekeskus.emu.ee/uldinfo/kontakt/) \n\n	Päevakava\n	10.00-12.00 Puu- ja köögiviljade töötlemise tehnoloogiate modelleerimine tootearenduses – Pranas Viškelis\n	12.00-12.30 Energiapaus\n	12.30-13.30 Põllumajanduslikud kõrvalsaadused\, väärtuslikud koostisosad ja nende võimalik kasutus – Ramunė Bobinaitė\, Pranas Viškelis\n	13.30-14.15 Superkriitilise ekstraktsiooni tehnoloogia funktsionaalsete toodete tootearenduses – Dalia Urbonavičienė\, Pranas Viškelis\n	14.15-15.00  Pulseerivate elektriväljade tehnoloogia kasutamine puu- ja köögiviljade   töötlemisel- Ramunė Bobinaitė \n\n	Prof Pranas Viškelis omab pikaajalist kogemust puu- ja köögiviljade töötlemise tehnoloogiate arendamises. Vanemteadur Ramunė Bobinaitė tegeleb funktsionaalsete toodete arendamisega. Teadur Dalia Urbonavičienė tegeleb bioaktiivsete ühendite ja ekstraktsiooni tehnoloogiatega. \n\n	Infopäeval osalemine on tasuta\, registreerimine lõppeb kohtade täitumisel. \n\n	Osalemiseks on kindlasti vajalik registreerimine hiljemalt 28. aprilliks siin: \n\n	3. mai Viljandimaal: https://goo.gl/forms/F6uaydQIBZkXg4IA2\n	4. mai Tartumaa: https://goo.gl/forms/gYKrPYRH5cTBnnCe2\n	(eelistatult) või telefonil 53044003. Kohtade arv on piiratud. \n\n	Infopäeva töökeeleks on vene ja inglise keel\, millele tehakse järeltõlge. \n\n	Infopäev läheb arvesse mahepõllumajandusliku tootmise toetuse saamise kohustusliku koolitusena (6 tundi). \n\n	\n	Infopäev toimub "Teadmussiirde pikaajaline programm mahepõllumajanduse tegevusvaldkonnas" raames\, toetab Euroopa Liit. \n\n	 
URL:https://www.pikk.ee/sundmus/infopaev-mahepollumajanduslike-taimekasvatussaaduste-tootlemine/
LOCATION:Muu\, Eesti
CATEGORIES:Aiandus,Toiduainete tootmine
GEO:58.595272;25.0136071
END:VEVENT
BEGIN:VEVENT
DTSTART;VALUE=DATE:20170503
DTEND;VALUE=DATE:20170504
DTSTAMP:20260424T094513
CREATED:20171231T220000Z
LAST-MODIFIED:20171231T220000Z
UID:10008193-1493769600-1493855999@www.pikk.ee
SUMMARY:Täienduskoolitus: Liha ja lihatoodete hügieen ja ohutus
DESCRIPTION:Koolituse sihtrühm on Saaremaa põllumajandustootjad ja töötlejad\n	NB! Tegemist on Eesti maaelu arengukava 2014 – 2020 ühise põllumajanduspoliitika kohase maaelu arengu teadmussiirde ja teavituse toetusega (meede 1) Saare maakonnas – see tähendab\, et koolituse lõppkasusaajad peavad olema Saaremaa põllumajandustootjad ja töötlejad.\n	  \n\n	Sisu:\n	Liha ja lihatoodetega üle kanduvad toidupatogeenid;\n	Liha riknemine ja selle kontroll;\n	Inimtoiduks kõlblik ja mitte kõlblik liha;\n	Liha ja lihatoodete hügieenilise töötlemise alused k.a. käitleja isiklik hügieen;\n	Rümpadelt proovide võtmise põhimõtted;\n	Liha ja lihatoodete säilimisaja määramise põhimõtted.\n	 \n\n	Ajakava:\n	9.00 – 10.30 õppetöö\n	10.30 – 10.45 paus\n	10.45 – 12.15 õppetöö\n	12.15 – 12.45 paus\n	12.45 – 14.15 õppetöö\n	14.15 – 14.30 paus\n	14.30 – 16.00 õppetöö\n	 \n\n\n		Koolitus on sihtrühma kuulujale tasuta. \n\n		 Registreerumine ja lähem info maaülikooli avatud ülikooli kodulehel:\n		http://avatudylikool.emu.ee/taiendope/priamaakondlik2016/ \n\n		Koolituse korraldaja:\n		Eesti Maaülikooli avatud ülikool\n		Fr. R. Kreutzwaldi 56 (III korrus\, ruumid 303-306)\, 51014 Tartu\, tel 731 3174\, 731 3175\, 731 3275\, 534 41844  või e-post: avayl[A]emu.ee \n\n		  \n\n\n	 
URL:https://www.pikk.ee/sundmus/taienduskoolitus-liha-ja-lihatoodete-hugieen-ja-ohutus/
LOCATION:Muu\, Eesti
CATEGORIES:Toiduainete tootmine
GEO:58.595272;25.0136071
END:VEVENT
BEGIN:VEVENT
DTSTART;VALUE=DATE:20170503
DTEND;VALUE=DATE:20170504
DTSTAMP:20260424T094513
CREATED:20171231T220000Z
LAST-MODIFIED:20171231T220000Z
UID:10008332-1493769600-1493855999@www.pikk.ee
SUMMARY:Infopäev piimakarjakasvatajatele ja jõudlusandmete kogujatele
DESCRIPTION:Eesti Põllumajandusloomade Jõudluskontrolli AS (EPJ) korraldab koostöös Eesti Tõuloomakasvatajate Ühistuga (ETKÜ) sel kevadel piimakarjakasvatajatele ja jõudlusandmete kogujatele kokku viis infopäeva: \nKolmapäeval\, 3. mail 2017 kell 11.00 Kõljala külamajas\, Kõljala\, Saaremaa. \nInfopäeva päevakava: \n\nJõudluskontrollist. Andmete registreerimine – ajasääst või ajakulu — Aire Pentjärv\, EPJ\nTõuaretusalased nõuanded piimakarjakasvatajale — Tõnu Põlluäär\, ETKÜ\nKuidas vähendada terviseprobleeme piimaveisekarjas — Hertta Pirkkalainen\, Eesti Maaülikool (EMÜ)\n\n  \nSama infopäev toimub veel: \n\nTüri kultuurikeskuses\, Hariduse 1\, Türi\, Järvamaa – neljapäeval\, 6. aprillil 2017 kell 11.00\nPühajärve Spa & Puhkekeskuse konverentsikeskuses\, Pühajärve\, Valgamaa – reedel\, 7. aprillil 2017 kell 11.00\nHotell Wesenbergh’i konverentsikeskuses\, Tallinna 25\, Rakvere – teisipäeval\, 18. aprillil 2017 kell 10.30\nViiking Spaa Hotellis\, Sadama 15\, Pärnu – neljapäeval\, 4. mail 2017 kell 11.00\n\nOotame Teid infopäevale – valige endale sobiv aeg ja koht ja registreeruge! Osavõtjatel palume registreeruda hiljemalt 5 päeva enne sobivat infopäeva: \nEvi Prins\, 520 6231\, evi.prins@epj.ee\n	Ludmilla Aan\, 516 7816\, ludmilla.aan@epj.ee\n	Maila Kirs\, 509 4675\, maila.kirs@epj.ee\n	Maire Tamm\, 5332 4204\, maire.tamm@epj.ee\n	Merle Lillik\, 516 7868\, merle.lillik@epj.ee\n	Saive Kase\, 524 0147\, saive.kase@epj.ee \nvõi EPJ peamaja tel 738 7700\, epj@epj.ee \nInfopäev saab toetust Eesti Maaelu Arengukavast. \n\n 
URL:https://www.pikk.ee/sundmus/infopaev-piimakarjakasvatajatele-ja-joudlusandmete-kogujatele-4/
LOCATION:Muu\, Eesti
CATEGORIES:Loomakasvatus
GEO:58.595272;25.0136071
END:VEVENT
BEGIN:VEVENT
DTSTART;VALUE=DATE:20170503
DTEND;VALUE=DATE:20170504
DTSTAMP:20260424T094513
CREATED:20171231T220000Z
LAST-MODIFIED:20171231T220000Z
UID:10006509-1493769600-1493855999@www.pikk.ee
SUMMARY:Täienduskoolitus: Kompostide tootmine ja kasutamine (kahepäevane koolitus) NB! Koolitus jääb ära
DESCRIPTION:Sihtrühm:\n	Põllumajandustoodete tootjad ja töötlejad.\n	NB! Tegevusest võivad osa võtta sihtrühma kuulujad üle Eesti.\n	  \n\n	Sisu:\n	* kompostimise tähtsus orgaaniliste jäätmete utiliseerimise\, võimaliku keskkonnaohu vähendamise ja kohalike ressursside optimaalse (taas)kasutamise tagamiseks;\n	* kompostide lähtematerjalid\, nende ressurss ja kasutusvõimalused lähtuvalt kvaliteedist;\n	* kompostimise tehnoloogiad (aunad\, sundõhustatud\, reaktorid\, vermikompostimine jne)\, seadmed ja protsessid;\n	* kompostide kasutamine väetise ja mullaparandajana\, kasutusnormid ja keskkonnakaitselised aspektid;\n	* komposti omadused\, neid iseloomustavad näitajad;\n	* Kompostide kvaliteedinõuded ja valdkonnaga seotud seadusandlik regulatsioon\, sertifitseerimine.\n	 \n\n	Ajakava:\n	I õppepäeval\n	9.15 – 10.45 õppetöö\n	10.45 – 11.00 paus\n	11.00 – 12.30 õppetöö\n	12.30 – 13.00 paus\n	13.00 – 14.30 õppetöö\n	14.30 – 14.45 paus\n	14.45 – 15.30 õppetöö \n	II õppepäeval\n	10.00 – 11.30 õppetöö\n	11.30 – 12.00 paus\n	12.00 – 13.30 õppetöö\n	13.30 – 13.45 paus\n	13.45 – 14.30 õppetöö\n\n	 \n\n\n		Koolitus on sihtrühma kuulujale tasuta. \n\n		Registreerumine ja lähem info maaülikooli avatud ülikooli kodulehel:\n		http://avatudylikool.emu.ee/taiendope/priauler2016/ \n\n		Koolituse korraldaja:\n		Eesti Maaülikooli avatud ülikool\n		Fr. R. Kreutzwaldi 56 (III korrus\, ruumid 303-306)\, 51014 Tartu\, tel 731 3174\, 731 3175\, 731 3275\, 534 41844  või e-post: avayl[A]emu.ee \n\n\n	 
URL:https://www.pikk.ee/sundmus/taienduskoolitus-kompostide-tootmine-ja-kasutamine-kahepaevane-koolitus-nb-koolitus-jaab-ara/
LOCATION:Muu\, Eesti
CATEGORIES:Keskkond
GEO:58.595272;25.0136071
END:VEVENT
BEGIN:VEVENT
DTSTART;VALUE=DATE:20170504
DTEND;VALUE=DATE:20170505
DTSTAMP:20260424T094513
CREATED:20171231T220000Z
LAST-MODIFIED:20171231T220000Z
UID:10008335-1493856000-1493942399@www.pikk.ee
SUMMARY:Infopäev piimakarjakasvatajatele ja jõudlusandmete kogujatele
DESCRIPTION:Eesti Põllumajandusloomade Jõudluskontrolli AS (EPJ) korraldab koostöös Eesti Tõuloomakasvatajate Ühistuga (ETKÜ) sel kevadel piimakarjakasvatajatele ja jõudlusandmete kogujatele kokku viis infopäeva: \nneljapäeval\, 4. mail 2017 kell 11.00 Viiking Spaa Hotellis\, Sadama 15\, Pärnu. \nInfopäeva päevakava: \n\nJõudluskontrollist. Andmete registreerimine – ajasääst või ajakulu — Aire Pentjärv\, EPJ\nTõuaretusalased nõuanded piimakarjakasvatajale — Tõnu Põlluäär\, ETKÜ\nKuidas vähendada terviseprobleeme piimaveisekarjas — Hertta Pirkkalainen\, Eesti Maaülikool (EMÜ)\n\n  \nSama infopäev toimub veel: \n\nTüri kultuurikeskuses\, Hariduse 1\, Türi\, Järvamaa – neljapäeval\, 6. aprillil 2017 kell 11.00\nPühajärve Spa & Puhkekeskuse konverentsikeskuses\, Pühajärve\, Valgamaa – reedel\, 7. aprillil 2017 kell 11.00\nHotell Wesenbergh’i konverentsikeskuses\, Tallinna 25\, Rakvere – teisipäeval\, 18. aprillil 2017 kell 10.30\nKõljala külamajas\, Kõljala\, Saaremaa – kolmapäeval\, 3. mail 2017 kell 11.00\n\nOotame Teid infopäevale – valige endale sobiv aeg ja koht ja registreeruge! Osavõtjatel palume registreeruda hiljemalt 5 päeva enne sobivat infopäeva: \nEvi Prins\, 520 6231\, evi.prins@epj.ee\n	Ludmilla Aan\, 516 7816\, ludmilla.aan@epj.ee\n	Maila Kirs\, 509 4675\, maila.kirs@epj.ee\n	Maire Tamm\, 5332 4204\, maire.tamm@epj.ee\n	Merle Lillik\, 516 7868\, merle.lillik@epj.ee\n	Saive Kase\, 524 0147\, saive.kase@epj.ee \nvõi EPJ peamaja tel 738 7700\, epj@epj.ee \n\n	Infopäev saab toetust Eesti Maaelu Arengukavast. \n\n 
URL:https://www.pikk.ee/sundmus/infopaev-piimakarjakasvatajatele-ja-joudlusandmete-kogujatele-5/
LOCATION:Muu\, Eesti
CATEGORIES:Loomakasvatus
GEO:58.595272;25.0136071
END:VEVENT
BEGIN:VEVENT
DTSTART;VALUE=DATE:20170504
DTEND;VALUE=DATE:20170505
DTSTAMP:20260424T094513
CREATED:20171231T220000Z
LAST-MODIFIED:20171231T220000Z
UID:10008408-1493856000-1493942399@www.pikk.ee
SUMMARY:Infopäev: mahepõllumajanduslike taimekasvatussaaduste töötlemine
DESCRIPTION:Eesti Maaülikool korraldab kaks infopäeva Leedu põllumajanduse ja metsanduse uurimisinstituudi lektoritega\, kus teemaks on mahepõllumajanduslik töötlemine – taimekasvatussaadustest toodete valmistamine. Infopäeval tutvustatakse uudseid tehnoloogiad puu- ja köögiviljade töötlemisel\, kõrvalsaaduste kasutamist ja funktsionaalsete toodete arendamist. \n\n	\n	* 3. mai 2017\, Polli küla\, Karksi vald\, Viljandimaa (polli.emu.ee )\n	Eesti Maaülikooli Polli aiandusuuringute keskus\n	* 4. mai 2017\, EMÜ Mahekeskus\, Õssu küla\, Ülenurme vald\, Tartumaa (http://mahekeskus.emu.ee/uldinfo/kontakt/) \n\n	Päevakava\n	10.00-12.00 Puu- ja köögiviljade töötlemise tehnoloogiate modelleerimine tootearenduses – Pranas Viškelis\n	12.00-12.30 Energiapaus\n	12.30-13.30 Põllumajanduslikud kõrvalsaadused\, väärtuslikud koostisosad ja nende võimalik kasutus – Ramunė Bobinaitė\, Pranas Viškelis\n	13.30-14.15 Superkriitilise ekstraktsiooni tehnoloogia funktsionaalsete toodete tootearenduses – Dalia Urbonavičienė\, Pranas Viškelis\n	14.15-15.00  Pulseerivate elektriväljade tehnoloogia kasutamine puu- ja köögiviljade   töötlemisel- Ramunė Bobinaitė \n\n	Prof Pranas Viškelis omab pikaajalist kogemust puu- ja köögiviljade töötlemise tehnoloogiate arendamises. Vanemteadur Ramunė Bobinaitė tegeleb funktsionaalsete toodete arendamisega. Teadur Dalia Urbonavičienė tegeleb bioaktiivsete ühendite ja ekstraktsiooni tehnoloogiatega. \n\n	Infopäeval osalemine on tasuta\, registreerimine lõppeb kohtade täitumisel. \n\n	Osalemiseks on kindlasti vajalik registreerimine hiljemalt 28. aprilliks siin: \n\n	3. mai Viljandimaal: https://goo.gl/forms/F6uaydQIBZkXg4IA2\n	4. mai Tartumaa: https://goo.gl/forms/gYKrPYRH5cTBnnCe2\n	(eelistatult) või telefonil 53044003. Kohtade arv on piiratud. \n\n	Infopäeva töökeeleks on vene ja inglise keel\, millele tehakse järeltõlge. \n\n	Infopäev läheb arvesse mahepõllumajandusliku tootmise toetuse saamise kohustusliku koolitusena (6 tundi). \n\n	\n	Infopäev toimub "Teadmussiirde pikaajaline programm mahepõllumajanduse tegevusvaldkonnas" raames\, toetab Euroopa Liit.
URL:https://www.pikk.ee/sundmus/infopaev-mahepollumajanduslike-taimekasvatussaaduste-tootlemine-2/
LOCATION:Muu\, Eesti
CATEGORIES:Aiandus,Toiduainete tootmine
GEO:58.595272;25.0136071
END:VEVENT
BEGIN:VEVENT
DTSTART;VALUE=DATE:20170505
DTEND;VALUE=DATE:20170506
DTSTAMP:20260424T094513
CREATED:20171231T220000Z
LAST-MODIFIED:20171231T220000Z
UID:10008168-1493942400-1494028799@www.pikk.ee
SUMMARY:Mesindusalane täienduskoolitus veterinaararstidele
DESCRIPTION:  \nOlustvere Teenindus- ja Maamajanduskoolis toimub PRIA toetusest rahastatav koolitus "Mesindusalane täienduskoolitus veterinaararstidele" (viitenumber 611015840090).  \nKoolitus toimub 10.märtsil ning 5. ja 6.mail kella 9.00 – 18.00 aadressil Talli 5\, Olustvere. \n  \nTäpsem info Marika Šadeiko marika.shadeiko@olustvere.edu.ee \n  \n 
URL:https://www.pikk.ee/sundmus/mesindusalane-taienduskoolitus-veterinaararstidele-4/
LOCATION:Muu\, Eesti
CATEGORIES:Loomakasvatus,Muu
GEO:58.595272;25.0136071
END:VEVENT
BEGIN:VEVENT
DTSTART;VALUE=DATE:20170505
DTEND;VALUE=DATE:20170506
DTSTAMP:20260424T094513
CREATED:20171231T220000Z
LAST-MODIFIED:20171231T220000Z
UID:10006511-1493942400-1494028799@www.pikk.ee
SUMMARY:Täienduskoolitus: Põllumajandusloomade tapatoimingute pädevustaseme koolitus I osa NB! Koolitus lükkub edasi 13.10.2017
DESCRIPTION:Sihtrühm: Põllumajandustoodete tootjad ja töötlejad. \n \n\n	Sisu:\n	Ülevaade Nõukogu Määrusest (EÜ) nr 1099/2009\, 24. september 2009\, loomade kaitse kohta surmamisel\n	Tapaloomade anatoomia\, füsioloogia\n	Tapaloomade käitumine\n	Tapaloomade stress\, loomade kannatused\, teadvuselolek ja tundlikkus\n	Nõuded loomade kohtlemisel tapamajas\n	Loomade liikumise mehhaanilise piiramise vahendid\n	Elusloomadele köidikahelate asetamine või nende üleriputamine\n	Uimastamine\, uimastamise tõhususe hindamine\n	Uimastamise ja/või surmamise varumeetodid\n	Uimastamisseadmete üldhooldus ja puhastamine\n	Tapaloomade veretustamine\, elusoleku tunnuste puudumise hindamine\n	Tapahügieen\n	Veretustamisnugade nõuetekohane kasutamine ja hooldu\n	Õppefilm: uimastamine\, veretustamine \n	Praktiline õpe loomade käitlemise ja nende liikumise piiramise praktilised aspektid uimastamine uimastamise tõhususe hindamine veretustamine\n	ädevustaseme eksam\n	 \n\n	Ajakava:\n	 \n\n	Tegemist on koolituse I osaga – teooria päev (praktilise õppepäeva toimumisaeg ja -koht täpsustub)\n	Tunnistuse saamiseks on vaja edukalt läbida nii teooria kui praktika. \n	Toimumine I õppepäeval\n	09.15 – 10.45 õppetöö\n	10.45 – 11.00 paus\n	11.00 – 12.30 õppetöö\n	12.30 – 13.00 paus\n	13.00 – 14.30 õppetöö\n	14.30 – 14.45 paus\n	14.45 – 16.15 õppetöö\n	  \n\n	Koolitus on sihtrühma kuulujale tasuta. \n\n	Registreerumine ja lähem info maaülikooli avatud ülikooli kodulehel:\n	http://avatudylikool.emu.ee/taiendope/priauler2016/ \n\n	Koolituse korraldaja:\n	Eesti Maaülikooli avatud ülikool\n	Fr. R. Kreutzwaldi 56 (III korrus\, ruumid 303-306)\, 51014 Tartu\, tel 731 3174\, 731 3175\, 731 3275\, 534 41844  või e-post: avayl[A]emu.ee \n\n	 \n\n	 
URL:https://www.pikk.ee/sundmus/taienduskoolitus-pollumajandusloomade-tapatoimingute-padevustaseme-koolitus-i-osa-nb-koolitus-lukkub-edasi-13-10-2017/
LOCATION:Muu\, Eesti
CATEGORIES:Toiduainete tootmine
GEO:58.595272;25.0136071
END:VEVENT
BEGIN:VEVENT
DTSTART;VALUE=DATE:20170505
DTEND;VALUE=DATE:20170506
DTSTAMP:20260424T094513
CREATED:20171231T220000Z
LAST-MODIFIED:20171231T220000Z
UID:10006589-1493942400-1494028799@www.pikk.ee
SUMMARY:Toiduhügieen ja -ohutus\, algaste
DESCRIPTION:Toimumiskoha info \n\n					Autoga koolitusele saabujatele – parkida saab maaülikooli spordihoone parklas või tehnikamaja tornühiselamupoolses parklas. NB! Jälgige parkimist korraldavaid märke \n\n					Ajakava  \n\n					10.00 – 11.30 õppetöö\n					11.30 – 12.00 paus\n					12.00 – 13.30 õppetöö\n					13.30 – 13.45 paus\n					13.45 – 15.15 õppetöö \n					Antud koolitustegevuses osalemine on osaleja jaoks vähese tähtsusega abi. \n\n					  \n\n					Õppetöö vorm \n\n					auditoorne õpe \n\n					Õppekeel \n\n					eesti keel \n\n					Õppejõud \n\n					Katrin Laikoja \n\n					Eesti Maaülikooli Veterinaarmeditsiini ja loomakasvatusinstituudi toiduhügieeni osakonna lektor\, mag (tehn) \n				  \n				  \n				  \n				  \n				  \n				  \n				  \n				  \n				  \n				  \n				  \n\n					  \n\n					Hinnainfo \n\n					Tegevust finantseeritakse\n					Eesti maaelu arengukava 2014-2020 meetme 1 "Teadmussiire ja teavitus" tegevuse "Pikaajalised programmid" raames ja on sihtrühma kuulujatele tasuta. \n\n					Sihtrühm \n\n					Täienduskoolitusest võivad osa võtta põllumajandustoodete tootmise ja töötlemise\, põllumajandusmaa hooldamise\, põllumajandustoodetest mittepõllumajandustoodete töötlemise või metsa majandamisega tegelev füüsilisest isikust ettevõtja ja tema töötaja ning eraõigusliku juriidilise isiku osanik\, aktsionär\, liige\, juhtorgani liige ja tema töötaja. \n\n					  \n\n					  \n\n					Õpiväljundid \n\n					koolitusel osalenu teab toiduhügieeni põhimõtteid\, toitu käsitlevaid õigusakte\, toitainete kaudu levivaid haigusi\, toidu säilitamise viise\, enesekontrolli põhimõtteid\, toitu käsitleva töötaja kohustusi ja vastutust. \n\n					  \n\n					Sisu \n\n					– toitu käsitlevad õigusaktid;\n					– toiduhügieeni põhimõtted;\n					– toidukäitleja kohustused (toidu ohutus\, enesekontroll\, jälgitavus jne) ja vastutus;\n					– enesekontrolli põhimõtted\, eeltingimusprogrammid ja HACCP;\n					– mikroorganismid ja nende kasvu ja paljunemist mõjutavad tegurid;\n					– toiduainete kaudu levivad haigused\, toidumürgistused ja -infektsioonid;\n					– toidu füüsikaline\, keemiline ja mikrobioloogiline saastumine ja selle vältimine;\n					– puhastamine\, desinfitseerimine;\n					– tootmisruumide korrashoid;\n					– kahjuritõrje;\n					– isiklik hügieen. \n				  \n				  \n				  \n				  \n				  \n				  \n				  \n				  \n\n					  \n\n					Vajalik eelregistreerumine  \n\n					https://ois.emu.ee/pls/ois/!tere.tulemast?leht=OK.AY.VP&id_ay_programm=7722&id_ay_toimumine=9824&systeemi_seaded=3\,1\,12\,1\, \n\n					Koolituse korraldaja \n\n					Eesti Maaülikooli avatud ülikool\n					Fr. R. Kreutzwaldi 56 (III korrus\, ruumid 303-306)\, 51014 Tartu\, tel 731 3174\, 731 3175\, 731 3275\, \n\n					534 41844  või e-post: avayl@emu.ee \n\n	 
URL:https://www.pikk.ee/sundmus/toiduhugieen-ja-ohutus-algaste/
LOCATION:Muu\, Eesti
CATEGORIES:Toiduainete tootmine
GEO:58.595272;25.0136071
END:VEVENT
END:VCALENDAR