BEGIN:VCALENDAR
VERSION:2.0
PRODID:-//PIKK.ee - ECPv6.13.2.1//NONSGML v1.0//EN
CALSCALE:GREGORIAN
METHOD:PUBLISH
X-ORIGINAL-URL:https://www.pikk.ee
X-WR-CALDESC:Events for PIKK.ee
REFRESH-INTERVAL;VALUE=DURATION:PT1H
X-Robots-Tag:noindex
X-PUBLISHED-TTL:PT1H
BEGIN:VTIMEZONE
TZID:Europe/Tallinn
BEGIN:DAYLIGHT
TZOFFSETFROM:+0200
TZOFFSETTO:+0300
TZNAME:EEST
DTSTART:20170326T010000
END:DAYLIGHT
BEGIN:STANDARD
TZOFFSETFROM:+0300
TZOFFSETTO:+0200
TZNAME:EET
DTSTART:20171029T010000
END:STANDARD
END:VTIMEZONE
BEGIN:VEVENT
DTSTART;VALUE=DATE:20170828
DTEND;VALUE=DATE:20170829
DTSTAMP:20260425T193706
CREATED:20171231T220000Z
LAST-MODIFIED:20171231T220000Z
UID:10006664-1503878400-1503964799@www.pikk.ee
SUMMARY:Täiendkoolitus Põllumajandusloomade heaolu - hobusekasvatus
DESCRIPTION:Täiendkoolitus toimub MAK 2014-2020 meetme „Teadmussiirde pikaajaline programm loomakasvatuse tegevusvaldkonnas II “ raames\, rahastamisallikas: riigieelarve\, Euroopa Maaelu Põllumajandusfond (EAFRD). \nKoolitus on sihtrühmale tasuta. Koolitusest võivad osa võtta põllumajandustoodete tootmise ja töötlemise\, põllumajandusmaa hooldamise\, põllumajandustoodetest mittepõllumajandustoodete töötlemise või metsa majandamisega tegelev füüsiline isik\, füüsilisest isikust ettevõtja\, mittepõllumajandusliku ettevõtlusega tegelev mikroettevõtja ja tema töötaja ning eraõigusliku juriidilise isiku osanik\, aktsionär\, liige\, juhtorgani liige ja tema töötaja või isik\, kellele on antud kutseseaduses sätestatud alusel ja korras konsulendi kutse või kes tegeleb põllu- või maamajandusliku nõustamisteenuse osutamisega. ((Teadmussiirde pikaajaliste programmide rakendamise toetus. Vastu võetud 28.04.2015 nr 46 RT I\, 30.04.2015\, 1) \nKoolitus toimub esmaspäeval 28 august 2017.a. Olustvere Teenindus ja Maamajanduskoolis\, ruum nr.244 II korrus\, praktikum kooli tallihoones. \nAjakava: \n9.00- 9.30 Kogunemine\, registreerimine \n09.30 – 11.00  Õppetöö: \nSöötmine ja pidamine: üldpõhimõtted\, seedimisest. Kehakonditsiooni skaala (Henneke 9 punkti skaala). \n11.00 -11.15 Paus \n11.15- 12.45 Õppetöö \nSöötmise ja pidamisega seotud haigused: seedeelundkonna\, hingamisteede haigused. Ülekaal ja sellest tingitud probleemid. Terve hobuse tunnused. Valukäitumine – tõulised\, ealised ja individuaalsed erinevused. \n12.45 – 13.30 Lõuna kooli sööklas ( tasuline) \n13.30 – 15.00 Õppetöö \nLoeng ja praktikum tallis: Hobuse kliiniline ülevaatus\, palpeerimine\, süstekohad\, ravimite manustamise põhimõtted. Hobuse kehakonditsiooni hindamine\, hobuse jälgimine boksis. \n15.15 – 15.30 Paus \n15: 30- 17:00 Praktikum tallis\, hobuse kliinilisest ülevaatusest. \nTauditõrje põhimõtted ( praktiline arutelu). \n  \nLektor Reet Herm  Eesti Maaülikooli hobusekliiniku pealoomaarst \nKoolitusel osalemiseks on vajalik eelregistreerimine kuni 23 august või kuni grupi komplekteerumiseni koolitus@olustvere.edu.ee  või tel.4374290 . Info koolituse koha tel 513 6242 \n  \nPalume kaasa võtta vahetusriided\, millega tallis praktikumis osaleda!
URL:https://www.pikk.ee/sundmus/taiendkoolitus-pollumajandusloomade-heaolu-hobusekasvatus/
LOCATION:Muu\, Eesti
CATEGORIES:Loomakasvatus
GEO:58.595272;25.0136071
END:VEVENT
BEGIN:VEVENT
DTSTART;VALUE=DATE:20170828
DTEND;VALUE=DATE:20170829
DTSTAMP:20260425T193706
CREATED:20171231T220000Z
LAST-MODIFIED:20171231T220000Z
UID:10008407-1503878400-1503964799@www.pikk.ee
SUMMARY:Täienduskoolitus Tootmishügieen ja sanitatsiooni korraldus
DESCRIPTION:  \n\n	Autoga saabujatel palume jälgida liiklust korraldavaid märke. Ülikoolilinnakus on võimalik parkida spordihoone või tehnikamaja parklas. (Veenduge\, et ei pargiks lubadega piirkonda – trahvioht on täiesti olemas!) \n\n	Ajakava  \n\n	10.00 – 11.30 õppetöö\n	11.30 – 12.00 kohvipaus\n	12.00 – 13.30 õppetöö\n	13.30 – 13.40 paus\n	13.40 – 15.10 õppetöö \n\n	  \n\n	Õppetöö vorm \n\n	auditoorne õpe \n\n	Õppekeel \n\n	eesti keel \n\n	Õppejõud \n\n	Mati Roasto\, Eesti Maaülikooli professor\, dr (vet-med) toiduhügieeni osakonna juhataja \n\n	                      \n\n	Hinnainfo \n\n	Tegevust finantseeritakse\n	Eesti maaelu arengukava 2014-2020 meetme 1 "Teadmussiire ja teavitus" tegevuse "Pikaajalised programmid" raames ja on sihtrühma kuulujatele tasuta. \n	NB! Teavitame!\n	Antud koolitustegevuses osalemine on osaleja jaoks vähese tähtsusega abi. \n\n	Sihtrühm \n\n	Täienduskoolitusest võib osa võtta põllumajandustoodetest mittepõllumajandustoodete töötlemisega tegelev füüsilisest isikust ettevõtja ja tema töötaja ning eraõigusliku juriidilise isiku osanik\, aktsionär\, liige\, juhtorgani liige ja tema töötaja. \n\n	Eesmärk \n\n	Saada ülevaade tootmishügieeni mõjutavatest teguritest ning toidu käitlemisettevõtte sanitatsiooni (koristamine\, desinfitseerimine jms.) korraldamise alustest. \n\n	  \n\n	Õpingute alustamise tingimused \n\n	Kuulumine sihtrühma \n\n	  \n\n	Sisu \n\n	Seadusandlusest tulenevad nõuded tootmishügieenile ja toidu ohutusele;\n	Tootmishügieeni eesmärgid\, korraldus ja head tavad;\n	Tootmishügieeni seosed toidu ohutuse ja -kvaliteediga;\n	Tootmishügieeni mõjutavad faktorid;\n	Personali hügieeni tähtsus tootmishügieeni tagamisel;\n	Seadmete ja hoonete hügieeniline disain\, hügieenitsoonide vajalikkus;\n	Biokirmed tootmiskeskkonnas ja nende tuvastamise ja hävitamise võimalused;\n	Tootmishügieeniga enim seotud mikrobiolooglised ohud;\n	Toidu ohutust enim mõjutavad toidupatogeenid;\n	Tootmiskeskkonnas puhtuse tagamine\, sanitatsiooni põhimõtted;\n	Tootmishügieeni probleemsete kohtade tuvastamise võimalused;\n	Hügieeniproovide võtmine\, laboratooriumisse saatmine ning analüüsitulemuste tõlgendamine;\n	Tootmiskeskkonnas Listeria monocytogenes tuvastamine ja likvideerimine. \n\n	    \n\n	Info ja registreerumine  \n\n	Vajalik eelregistreerumine maaülikooli avatud ülikooli kodulehel:  http://avatudylikool.emu.ee/taiendope/piptoit/ \n\n	 
URL:https://www.pikk.ee/sundmus/taienduskoolitus-tootmishugieen-ja-sanitatsiooni-korraldus/
LOCATION:Muu\, Eesti
CATEGORIES:Toiduainete tootmine
GEO:58.595272;25.0136071
END:VEVENT
BEGIN:VEVENT
DTSTART;VALUE=DATE:20170829
DTEND;VALUE=DATE:20170830
DTSTAMP:20260425T193706
CREATED:20171231T220000Z
LAST-MODIFIED:20171231T220000Z
UID:10008441-1503964800-1504051199@www.pikk.ee
SUMMARY:Toiduhügieen ja enesekontroll väikeettevõtetes/eraelamus toidu valmistamisel
DESCRIPTION:Täpsem info ja registreerumine aadessil https://ois.emu.ee/pls/ois/!tere.tulemast?leht=OK.AY.VP&id_ay_programm=7962&id_ay_toimumine=10164&systeemi_seaded=3\,1\,12\,1 \n\n	Tegevust finantseeritakse Eesti maaelu arengukava 2014-2020 meetme 1 "Teadmussiire ja teavitus" tegevuse "Pikaajalised programmid" raames ja on sihtrühma kuulujatele tasuta. \n\n	Täienduskoolitusest võib osa võtta põllumajandustoodetest mittepõllumajandustoodete töötlemisega tegelev füüsilisest isikust ettevõtja ja tema töötaja ning eraõigusliku juriidilise isiku osanik\, aktsionär\, liige\, juhtorgani liige ja tema töötaja. \n	NB! Teavitame!\n	Antud koolitustegevuses osalemine on osaleja jaoks vähese tähtsusega abi. \n\n	Koolituse korraldaja: \n\n	Eesti Maaülikooli avatud ülikool\n	Fr. R. Kreutzwaldi 56/1 \n\n	51014 Tartu\, \n\n	tel 731 3174\, 731 3175\, 731 3275\, 534 41844  \n\n	e-post: avayl@emu.ee \n\n	http://avatudylikool.emu.ee/ \n\n	  \n\n	 
URL:https://www.pikk.ee/sundmus/toiduhugieen-ja-enesekontroll-vaikeettevoteteseraelamus-toidu-valmistamisel/
LOCATION:Muu\, Eesti
CATEGORIES:Toiduainete tootmine
GEO:58.595272;25.0136071
END:VEVENT
BEGIN:VEVENT
DTSTART;VALUE=DATE:20170829
DTEND;VALUE=DATE:20170830
DTSTAMP:20260425T193706
CREATED:20171231T220000Z
LAST-MODIFIED:20171231T220000Z
UID:10008561-1503964800-1504051199@www.pikk.ee
SUMMARY:Täienduskoolitus „Põllumajandusloomade heaolu – lihaveisekasvatus“
DESCRIPTION:Täienduskoolitus „Põllumajandusloomade heaolu – lihaveisekasvatus“ \nTäienduskoolitus toimub MAK 2014-2020 meetme „Teadmussiirde pikaajaline programm loomakasvatuse tegevusvaldkonnas II “ raames\, rahastamisallikas: riigieelarve\, Euroopa Maaelu Põllumajandusfond (EAFRD). \nKoolitus on sihtrühmale tasuta. Täienduskoolitusest võivad osa võtta põllumajandustoodete tootmise ja töötlemise\, põllumajandusmaa hooldamise\, põllumajandustoodetest mittepõllumajandustoodete töötlemise või metsa majandamisega tegelev füüsilisest isikust ettevõtja ja tema töötaja ning eraõigusliku juriidilise isiku osanik\, aktsionär\, liige\, juhtorgani liige ja tema töötaja. ((Teadmussiirde pikaajaliste programmide rakendamise toetus. Vastu võetud 28.04.2015 nr 46 RT I\, 30.04.2015\, 1) \nKoolitus toimub teisipäeval 29 august 2017.a. Koolitus viiakse läbi Martna vallas Läänemaal MTÜ Martna Päevakeskuses ja Ohtla Lihaveis OÜ  Ehmja külas (kasvatatakse šarolee tõugu veiseid) \nhttps://goo.gl/maps/XPf5x7N8km82 \nAjakava: \n10.30 – 11.00 Kogunemine\, registreerimine MTÜ Martna Päevakeskus \n11.00 – 12.30  Õppetöö: olulisemad hingamisteede- ja seedetrakti infektsioonid\, sigimist mõjutavad infektsioonid\, tauditõrje põhimõtted. Lektor Vallo Seera \n12.30 -12.40 Paus \n12.40 – 13.45 Õppetöö jätkub. Lektor V. Seera \n14.45 – 15.15  Kohvipaus ja sõit  Ohtla Lihaveis OÜ -sse \n15.15 – 16.40 Õppetöö: praktilisi kogemusi lihaveiste pidamis- ja söötmisvigadest ning nende  mõjudest loomatervisele\, lihaveiste kohtlemine. Lektor Mariliis Vahar \n16.40  – 17.45 Õppetöö: vasikate laudas pidamine\, söötmis- ja pidamistingimused. \nLektor Marika Oeselg \n  \nKoolituse läbinutele väljastatakse tunnistus. \n  \nKoolitusel osalemiseks on vajalik eelregistreerimine kuni 24 august või kuni grupi komplekteerumiseni koolitus@olustvere.edu.ee  või tel.4374290 . \n  \nInfo koolituse kohta tel 513 6242
URL:https://www.pikk.ee/sundmus/taienduskoolitus-pollumajandusloomade-heaolu-lihaveisekasvatus/
LOCATION:Muu\, Eesti
CATEGORIES:Loomakasvatus
GEO:58.595272;25.0136071
END:VEVENT
BEGIN:VEVENT
DTSTART;VALUE=DATE:20170829
DTEND;VALUE=DATE:20170830
DTSTAMP:20260425T193706
CREATED:20171231T220000Z
LAST-MODIFIED:20171231T220000Z
UID:10006543-1503964800-1504051199@www.pikk.ee
SUMMARY:Mentorluse baaskursus
DESCRIPTION:Täpsem info ja registreerumine: https://ois.emu.ee/pls/ois/!tere.tulemast?leht=OK.AY.VP&id_ay_programm=7002&id_ay_toimumine=9808&systeemi_seaded=3\,1\,12\,1 \n\n		Koolituse korraldaja: \n\n		Eesti Maaülikooli avatud ülikool\n		Fr. R. Kreutzwaldi 56/1 \n\n		51014 Tartu\, \n\n		tel 731 3174\, 731 3175\, 731 3275\, 534 41844  \n\n		e-post: avayl@emu.ee \n\n		http://avatudylikool.emu.ee/ \n\n\n	 
URL:https://www.pikk.ee/sundmus/mentorluse-baaskursus-3/
LOCATION:Muu\, Eesti
CATEGORIES:Muu
GEO:58.595272;25.0136071
END:VEVENT
BEGIN:VEVENT
DTSTART;VALUE=DATE:20170830
DTEND;VALUE=DATE:20170831
DTSTAMP:20260425T193706
CREATED:20171231T220000Z
LAST-MODIFIED:20171231T220000Z
UID:10006636-1504051200-1504137599@www.pikk.ee
SUMMARY:Infopäev "Piima ja piimatoodete ohutust mõjutavad tegurid“
DESCRIPTION:OÜ Tervisliku Piima Biotehnoloogiate Arenduskeskus korraldab 30.08.2017 Tartus infopäeva teemal "Piima ja piimatoodete ohutust mõjutavad tegurid". \n\n	Infopäev on peamiselt suunatud piimatootjatele\, kes oma piimast ka tooteid valmistavad või soovivad seda tegema hakata. \n\n	Käsitletavad teemad: Toorpiima kvaliteeti ja ohutust mõjutavad tegurid. Keemilised ohud (s.h tsüanuurhape) piimas ja piimatoodetes. Piimatoodete soolamine ja soola mõju toodete kvaliteedile ning ohutusele. Pärmseened ning nende mõju. Füüsikaliste tegurite mõju piima ja piimatoodete kvaliteedile ja ohutusele. \n\n	Päevakava: \n\n	9.30-10.00      Registreerimine\, hommikukohv \n\n	10.00-11.00    Toorpiima kvaliteeti sh ohutust mõjutavad tegurid. \n\n	11.00-11.15    Kohvipaus \n\n	11.15-11.45    Toorpiima kvaliteeti sh ohutust mõjutavad tegurid\, jätkub. \n\n	11.45-12.15     Keemilised terviseohud piimas ja piimatoodetes. \n\n	12.15-13.00    Lõuna \n\n	13.00-14.00   Piimatoodete soolamine ja soola mõju toodete kvaliteedile ning ohutusele.  \n\n	14.00 -14.15   Kohvipaus \n\n	14.15-15.15  Pärmseened ja nende negatiivne ning positiivne toime piimale ja piimatoodetele. Füüsikaliste tegurite mõju piima ja piimatoodete kvaliteedile ning ohutusele.  \n\n	15.15- 16.00   Arutelu\, küsimustele vastamine \n\n	Infopäev toimub MAK 2014-2020 meetme „Teadmussiirde pikaajaline programm toiduohutuse valdkonnas“ raames\, läbiviimist toetab Euroopa Liit. \n\n	Infopäev on sihtrühmale tasuta. Infopäeva sihtrühmaks on toidu tootmise ja töötlemisega ning toidu töötlemisega tegelevad füüsilised isikud ja ettevõtted (v.a kala- ja kalatoodete valdkond).  \n\n	  \n\n	  \n\n	Info ja registreerimine: https://toiduteave.ee/infopaev-30-08-17-tartus-piima-ja-piimatoodete-ohutust-mojutavad-tegurid/ \n\n	  \n\n	  \n\n	  \n\n	 
URL:https://www.pikk.ee/sundmus/infopaev-piima-ja-piimatoodete-ohutust-mojutavad-tegurid/
LOCATION:Muu\, Eesti
CATEGORIES:Toiduainete tootmine
GEO:58.595272;25.0136071
END:VEVENT
BEGIN:VEVENT
DTSTART;VALUE=DATE:20170830
DTEND;VALUE=DATE:20170831
DTSTAMP:20260425T193706
CREATED:20171231T220000Z
LAST-MODIFIED:20171231T220000Z
UID:10008557-1504051200-1504137599@www.pikk.ee
SUMMARY:UUTE AEDMAASIKASORTIDE ESITLUSPÄEV
DESCRIPTION:30. augustil toimub UUTE AEDMAASIKASORTIDE ESITLUSPÄEV Tartumaal \n\n	Aeg: 30.  august 2017 kell 9:00 – 16:00 \n\n	Koht: Kindel Käsi OÜ\, Unipiha küla\, Nõo vald\,  Tartumaa \n\n	Päevakava\n	10.00-16.00 \n\n\n		Maasikahooaja kokkuvõte tootja pilgu läbi – Kindel Käsi OÜ juht Valdis Kaskema\n\n		Uute maasikasortide saagikus ja viljade kvaliteet ning preparaadi Prestop mõju taimede elujõulisusele –  Ulvi Moor\, EMÜ dotsent\n\n		Uued aedmaasika sordid ja perspektiivsed aretised Hollandist –  Philip Lieten (Fragaria Holland)\n\n		Uued aedmaasika sordid ja perspektiivsed aretised Itaaliast –  Danilo Bernardini\, Raggi Vivai (Itaalia)\n\n		Prestopi kasutamise kogemused Soomes – Verdera Oy (Soome)\n\n\n	  \n\n	Järgneb uute sortide tutvustus istandikus (Ulvi Moor)\, maasikakasvatuse tehnoloogiate demonstratsioonid  istandikus (Margus Kopp) ja arutelu. \n\n	Esitluspäev on tasuta\, osalemiseks on vajalik eelregistreerumine hiljemalt 25.08.2017.  siin: https://goo.gl/9Zppfd \n\n	Kohtade arv on piiratud\, registreerumine lõpetatakse kohtade täitumisel. \n\n	Lisainfo: Ulvi Moor\, Eesti Maaülikool\, aianduse osakond \n\n	e-post: ulvi.moor@emu.ee \n\n	  \n\n	Esitlustegevus toimub "Teadmussiirde pikaajaline programm aianduse tegevusvaldkonnas " raames\, toetab Euroopa Liit.
URL:https://www.pikk.ee/sundmus/uute-aedmaasikasortide-esitluspaev/
LOCATION:Muu\, Eesti
CATEGORIES:Aiandus
GEO:58.595272;25.0136071
END:VEVENT
BEGIN:VEVENT
DTSTART;VALUE=DATE:20170902
DTEND;VALUE=DATE:20170903
DTSTAMP:20260425T193706
CREATED:20171231T220000Z
LAST-MODIFIED:20171231T220000Z
UID:10006667-1504310400-1504396799@www.pikk.ee
SUMMARY:VIINAMARJAKASVATUSE ESITLUSPÄEV
DESCRIPTION: Aeg: kell 10:00 – 15:00 \n\n	Koht: Eesti Maaülikooli Mahekeskus\, Õssu küla\, Ülenurme vald\, Tartumaa\, 61713 (https://goo.gl/maps/AwT1K7QRxgo) (Tõnissoni maja) ja Rõhu katsejaam \n\n	  \n\n	Päevakava \n\n	9.30 Kogunemine ja kohv Tõnissoni majas \n\n	10.00- 11.00 Läti kogemused viinamarjade töötlemisel \n\n	11.00 – 12.00 Praktilistest kogemustest viinapuude kasvatamisel räägivad Kadri Karp Eesti Maaülikoolist ja Roman Sarin Veinimäe talu. \n\n	12.00 – 13.00 Lõunapaus \n\n	13.00 – 15.00 Tutvustatakse katseistandikku Rõhu katsejaamas. \n\n	Esitluspäev on tasuta\, osalemiseks on vajalik eelregistreerumine hiljemalt 29.08.2017. siin: https://goo.gl/JTxfGe \n\n	 Kohtade arv on piiratud\, registreerumine lõpetatakse kohtade täitumisel. \n\n	  \n\n	Lisainfo: Kadri Karp\, Eesti Maaülikool\, aianduse osakond \n\n	Kadri.Karp[A]emu.ee\, 5224167 \n\n	Esitlustegevus toimub "Teadmussiirde pikaajaline programm aianduse tegevusvaldkonnas " raames\, toetab Euroopa Liit.
URL:https://www.pikk.ee/sundmus/viinamarjakasvatuse-esitluspaev/
LOCATION:Muu\, Eesti
CATEGORIES:Aiandus
GEO:58.595272;25.0136071
END:VEVENT
END:VCALENDAR