BEGIN:VCALENDAR
VERSION:2.0
PRODID:-//PIKK.ee - ECPv6.13.2.1//NONSGML v1.0//EN
CALSCALE:GREGORIAN
METHOD:PUBLISH
X-WR-CALNAME:PIKK.ee
X-ORIGINAL-URL:https://www.pikk.ee
X-WR-CALDESC:Events for PIKK.ee
REFRESH-INTERVAL;VALUE=DURATION:PT1H
X-Robots-Tag:noindex
X-PUBLISHED-TTL:PT1H
BEGIN:VTIMEZONE
TZID:Europe/Tallinn
BEGIN:DAYLIGHT
TZOFFSETFROM:+0200
TZOFFSETTO:+0300
TZNAME:EEST
DTSTART:20170326T010000
END:DAYLIGHT
BEGIN:STANDARD
TZOFFSETFROM:+0300
TZOFFSETTO:+0200
TZNAME:EET
DTSTART:20171029T010000
END:STANDARD
END:VTIMEZONE
BEGIN:VEVENT
DTSTART;VALUE=DATE:20170927
DTEND;VALUE=DATE:20170928
DTSTAMP:20260424T162637
CREATED:20171231T220000Z
LAST-MODIFIED:20171231T220000Z
UID:10008252-1506470400-1506556799@www.pikk.ee
SUMMARY:„Keskkonnakaitse ja loodushoiu täienduskoolitus“ 100h konsulentide 1. õppegrupp IV moodul
DESCRIPTION:Räpina Aianduskool annab teada\, et koolituse „Keskkonnakaitse ja loodushoiu täienduskoolitus“ 100 h konsulentile (16.10.2016 – 01.05.2019) 1. õppegrupi  IV mooduli õppepäevad toimuvad alljärgnevatel aegadel: \nIV moodul (18h\, kaks õppepäeva)\n  \nI õppepäev: 27.september 2017\, Tartu Kutsehariduse Keskuses Kopli 1\, II korrus ruum A-213\,  kell 9.00 – 16.00 väliõppekäiguga päeva lõpus. Palun riietuda vastavalt ilmale.\nII õppepäev: 11. oktoober 2017 kell 9.00 – 19.00 väliõppepäev. Väljumine Vanemuise alumisest parklast kell 9.00. Palun riietuda vastavalt ilmale. (Vaata www.pikk.ee kalender). \n  \n27.september 2017         \n9.00 – 9.30 Saabumine\, registreerimine \, tervituskohv\n9.30 – 11.30  1.Põllumajandusplasti ja reoveesette käitlemine:\n1.1. Tootjavastutuse põhimõtted\n1.2. Probleemtooted\n1.3. Pakendite käitlemine\n1.4. Reoveesette käitlemine\n1.5. Reoveesette kasutamine\n11.30 – 11.45 kohvipaus\n11.45 – 12.45    2. Loomsete jäätmete käitlemine (sõnnik\, silo\, jäätmed):\n2.1. Loomsed kõrvalsaadused\n2.2. Käitlusnõuded\n2.3.Jäätmetest toote saamine biolagunevate jäätmete komposti näitel\n12.45 – 13.00 lõuna\n13.00 – 14.30  3. Ohtlike jäätmete käitlemine (väetised\, taimekaitsevahendid\, naftasaadused):\n14.30 – 14.45 kohvipaus\n14.45 – 16.15 Praktiline jäätmekäitlus. Õppekäik jäätmekäitlusettevõttesse Epler&Lorenz \nÕppepäevad (27.09 ja 11.10) viib läbi PhD Mait Kriipsalu – Eest Maaülikooli professor\n  \nNB! Moodul loetakse arvestatuks kui osaletakse mõlemal õppepäeval. \n  \nSihtgrupp:\n1. Koolitusel võib osaleda isik\, kes vastab vähemalt ühele järgmistest nõuetest: \n\n isik\, kellele on kutseseaduses sätestatud alusel ja korras antud konsulendi kutse ja tal on kehtiv kutsetunnistus;\nisik\, kellele kutseseaduse alusel ja korras antud konsulendi kutsetunnistuse kehtivuse lõppemisest ei ole möödunud rohkem kui 12 kuud (osaleja andmetega koos tuleb esitada kehtinud kutsetunnistuse koopia);\nisik\, kes on Euroopa Liidu ühise põllumajanduspoliitika rakendamise seaduse § 71 lg 1 sätestatud valikumenetluse kohaselt valitud nõustamisteenuse osutajaga lepingulises suhtes ning tegeleb põllu- või maamajandusliku nõustamisteenuse osutamisega.\n\nKoolitusel osalemine on riigiabi Euroopa Liidu suuniste riigiabi kohta põllumajandus- ja metsandussektoris ning maapiirkondades aastateks 2014–2020 (ELT C 204\, 01.07.2014\, lk 1–97) (edaspidi riigiabi suunised) II osa 3. peatüki jao 3.6 tähenduses\, kui koolitusel osaleb ettevõtja konkurentsiseaduse tähenduses või tema töötaja\, osanik\, aktsionär\, liige või juhtorgani liige.\nRiigiabi saaja on ettevõtja\, kes osaleb ise või kelle töötaja\, osanik\, aktsionär\, liige või juhtorgani liige osaleb koolitusel.\nRiigiabi saaja esitab enne mooduli algust toetuse saajale(koolitajale) riigiabi suuniste I osa 3. peatüki jao 3.4 punktis 71 nimetatud abitaotluse.\nRiigiabi saaja ei või olla raskustes olev ettevõtja riigiabi suuniste I osa 2. peatüki jao 2.4 punkti 35\nalapunkti 15 tähenduses. \nOsalustasu: Kursus on sihtgrupipõhine ja osalejale tasuta (koolitus\, õppepäeval toitlustamine)\nKursuse rahastaja: Eesti riik ja Euroopa Maaelu Arengu Põllumajandusfond (EAFRD) \nKursuse kontaktisik:\nEda Gross\nRäpina Aianduskooli täienduskoolituse metoodik\nTel. 7961 549; 5346 1209\nEda.gross@aianduskool.ee
URL:https://www.pikk.ee/sundmus/keskkonnakaitse-ja-loodushoiu-taienduskoolitus-100h-konsulentide-1-oppegrupp-iv-moodul/
LOCATION:Muu\, Eesti
CATEGORIES:Keskkond
GEO:58.595272;25.0136071
END:VEVENT
BEGIN:VEVENT
DTSTART;VALUE=DATE:20170927
DTEND;VALUE=DATE:20170928
DTSTAMP:20260424T162637
CREATED:20171231T220000Z
LAST-MODIFIED:20171231T220000Z
UID:10008568-1506470400-1506556799@www.pikk.ee
SUMMARY:Infopäev:  Puuvilja- ja marjakultuuride sordid
DESCRIPTION:Eesti Maaülikool korraldab 27. septembril\, Läänemaal\, Saunja külas\, Hr. Raimu Aasa kollektsioonaias infopäeva\, kus tutvustatakse õunapuu\, ploomipuu\, viinapuu ja vaarika sorte.\nInfopäev toimub Aianduse teadmussiirde pikaajalise programmi raames. \nAeg: 27. september 2017\, kell 10-15\nAsukoht: Läänemaa\, Saunja küla\, Hr. Raimu Aasa kollektsioonaed \nPäevakava\n9.30 – 10.00 Kogunemine Hr. Raimu Aasa kollektsioonaias\, kohv\n10.00 – 11.30 Õunasortide tutvustus kodu- ja äriaeda\, degusteerimine– Toivo Univer\, Raimu Aas\n11.30 – 12.15 Ploomipuude kasvatustehnoloogiad\, sortide valik äri- ja väikeaeda– Kersti Kahu\, Raimu Aas\n12.15 – 13.00 Vaarikasortide tutvustus– Liina Arus\n13.00 – 14.30 Viinapuu sortide tutvustus avamaal ja katmikalal kasvatamiseks- Raimu Aas\n14.30 – 15.00 Energiapaus ja arutelu \nEsitluspäeval osalemine on tasuta. Osalemiseks on kindlasti vajalik registreerimine hiljemalt 23. septembriks.   https://goo.gl/a2GmXN   \nKohtade arv on piiratud\, registreerumine lõpetatakse kohtade täitumisel.\nLisainfo: Kersti Kahu\, Eesti Maaülikool\, Polli Aiandusuuringute keskus\ne-post: kersti.kahu@emu.ee\nTel: 53474802 \nEsitlustegevus toimub "Teadmussiirde pikaajaline programm aianduse tegevusvaldkonnas " raames\, toetab Euroopa Liit.
URL:https://www.pikk.ee/sundmus/infopaev-puuvilja-ja-marjakultuuride-sordid/
LOCATION:Muu\, Eesti
CATEGORIES:Aiandus
GEO:58.595272;25.0136071
END:VEVENT
BEGIN:VEVENT
DTSTART;VALUE=DATE:20170927
DTEND;VALUE=DATE:20170928
DTSTAMP:20260424T162637
CREATED:20171231T220000Z
LAST-MODIFIED:20171231T220000Z
UID:10006681-1506470400-1506556799@www.pikk.ee
SUMMARY:Infopäev "Mahepõllumajanduslik loomakasvatus alustajatele" Pärnus
DESCRIPTION:Eesti Mahepõllumajanduse Sihtasutus korraldab infopäevad: \n	"Mahepõllumajanduslik loomakasvatus alustajatele"\n	 \n	20.09.2017 kell 10:00-14:45 Võrus\, Võru Vallavalitsuse saalis\, Võrumõisa tee 4a \n\n	21.09.2017 kell 10:00-14:45 Rakveres\, Niine külalistemajas\, Niine 4 \n\n	\n	27.09.2017 kell 10:00-14:45 Pärnus\, Põllumajandusameti saalis\, Kerese 4 \n	29.09.2017 kell 10:00-14:45 Tartus\, Eesti Maaülikooli Mahekeskuses\, Õssu küla\, Ülenurme vald Tartumaa \n\n	Kava\n	10:00 Mahepõllumajandusliku loomakasvatuse nõuded ja põhimõtted. Pidamistingimused. Loomade sissetoomine ettevõttesse\, Loomatervishoid\, veterinaarsed jm toimingud\n	12:15 Kohvipaus\n	12:30 Loomade söötmine\, erinevad ratsioonid. Kuidas saada hakkama 100% mahesöödaga\, söödatootmine maheettevõttes\n	14:45 Lõpp \n	Lektorid Ragnar Leming ja Margo Mansberg \n\n	Ettekanne\, ettekanne \n	Osalemine on tasuta. Osalemiseks on kindlasti vajalik registreerimine hiljemalt 2 päeva enne toimumist: \n	20.09 Võru : https://goo.gl/forms/0ojblKoEvoqBGyiA3 \n	21.09 Rakvere: https://goo.gl/forms/jNYc7LdJa1gxYH333 \n	27.09 Pärnu: https://goo.gl/forms/2LPh6O7oiRsOvyaz2 \n	29.09 Tartu: https://goo.gl/forms/eF2ZC1gt1prJEXVB2 \n\n	Võimalik on registreeruda ka mahepm[A]gmail.com või telefonil 5662 0955 \n\n	\n	Infopäevad toimuvad " Teadmussiirde pikaajaline programm põllumajanduspoliitika abinõude tegevusvaldkonnas" raames\, toetab Euroopa Liit. Korraldab Eesti Mahepõllumajanduse Sihtasutus \n	Infopäevad lähevad arvesse mahetoetuse raames nõutava kohustusliku koolitusena.
URL:https://www.pikk.ee/sundmus/infopaev-mahepollumajanduslik-loomakasvatus-alustajatele-parnus/
LOCATION:Muu\, Eesti
CATEGORIES:Loomakasvatus
GEO:58.595272;25.0136071
END:VEVENT
BEGIN:VEVENT
DTSTART;VALUE=DATE:20170928
DTEND;VALUE=DATE:20170929
DTSTAMP:20260424T162637
CREATED:20171231T220000Z
LAST-MODIFIED:20171231T220000Z
UID:10008362-1506556800-1506643199@www.pikk.ee
SUMMARY:Koolitus Põllumajandusloomade heaolunõuete tagamine
DESCRIPTION:NB! Koolitus läheb arvesse loomade heaolu toetuse taotlemisel. \n\n\n		Sihtrühm:\n		Põllumajandustoodete tootmise või töötlemise\, põllumajandusmaa hooldamise\, põllumajandustoodetest mittepõllumajandustoodete töötlemise või metsa majandamisega tegelev füüsilisest isikust ettevõtja ja tema töötaja ning eraõigusliku juriidilise isiku osanik\, aktsionär\, liige\, juhtorgani liige ja tema töötaja.\n		  \n\n		Sisu:\n		 \n	– Farmist tapamajani põllumajandusloomadega kohalduv seadusandlus;\n	– Erinevate põllumajandusloomade pidamise nõuded farmis;\n	– Transpordisobivus;\n	– Põllumajandusloomade transport tapamajja;\n	– Loomade heaolu tagamine farmis\, veokis ja tapamajas. \n	Ajakava: \n\n		 \n\n		10.00 – 11.30 õppetöö\n		11.30 – 12.00 toidupaus tehnikamaja kohvikus\n		12.00 – 13.30 õppetöö\n		13.30 – 13.40 paus\n		13.40 – 15.10 õppetöö\n		15.10 – 15.15 paus\n		15.15 – 16.00 õppetöö\n \n\n		Koolitus on sihtrühma kuulujale tasuta. Vajalik eelregistreerumine.  \n\n		Registreerumine ja lähem info maaülikooli avatud ülikooli kodulehel:\n		http://avatudylikool.emu.ee/taiendope/priauler2016/ \n\n		Koolituse korraldaja:\n		Eesti Maaülikooli avatud ülikool\n		Fr. R. Kreutzwaldi 56 (III korrus\, ruumid 303-306)\, 51014 Tartu\, tel 731 3174\, 731 3175\, 731 3275\, 534 41844  või e-post: avayl[A]emu.ee \n\n\n	 
URL:https://www.pikk.ee/sundmus/koolitus-pollumajandusloomade-heaolunouete-tagamine/
LOCATION:Muu\, Eesti
CATEGORIES:Loomakasvatus
GEO:58.595272;25.0136071
END:VEVENT
BEGIN:VEVENT
DTSTART;VALUE=DATE:20170928
DTEND;VALUE=DATE:20170929
DTSTAMP:20260424T162637
CREATED:20171231T220000Z
LAST-MODIFIED:20171231T220000Z
UID:10006679-1506556800-1506643199@www.pikk.ee
SUMMARY:Infopäev "Mahepõllumajandus alustajatele"
DESCRIPTION:Eesti Mahepõllumajanduse Sihtasutus korraldab infopäeva \n	"Mahepõllumajandus alustajatele" \n\n	28.09.2017 kell 10:00-15:00 Jõgeva Sordiaretuse Instituudis\, J.Aamisepa 1 \, Jõgeva\, 48309 Jõgeva maakond \n	Kava\n	10:00 Ülevaade mahepõllumajandusest Eestis ja mujal. Miks toota mahepõllumajanduslikult ja tarbida mahetoitu. Mahepõllumajanduse õiguslik raamistik ja järelevalve\n	11:30 Kohvipaus\n	11:45 Peamised mahepõllumajanduse nõuded\n	13:15 Paus\n	13:30 Peamised mahepõllumajanduse nõuded ja taimekasvatuse põhimõtted\n	15:00 Lõpp \n\n	Lektorid Airi Vetemaa ja Margo Mansberg \n\n	Ettekanded: Mahepõllumajandusest üldiselt \n\n	                    Mahepõllumajandusliku taimekasvatuse peamised nõuded ja põhimõtted \n\n	Osalemine on tasuta. Osalemiseks on kindlasti vajalik registreerimine hiljemalt 2 päeva enne toimumist: \n	https://goo.gl/forms/7Fm3K6X9iDAa8alR2 (soovituslik)  \n	Võimalik on registreeruda ka mahepm[A]gmail.com või telefonil 5662 0955 \n\n	\n	Infopäevad toimuvad " Teadmussiirde pikaajaline programm põllumajanduspoliitika abinõude tegevusvaldkonnas" raames\, toetab Euroopa Liit. Korraldab Eesti Mahepõllumajanduse Sihtasutus \n	Infopäevad lähevad arvesse mahetoetuse raames nõutava kohustusliku koolitusena.
URL:https://www.pikk.ee/sundmus/infopaev-mahepollumajandus-alustajatele/
LOCATION:Muu\, Eesti
CATEGORIES:Taimekasvatus
GEO:58.595272;25.0136071
END:VEVENT
BEGIN:VEVENT
DTSTART;VALUE=DATE:20170928
DTEND;VALUE=DATE:20170929
DTSTAMP:20260424T162637
CREATED:20171231T220000Z
LAST-MODIFIED:20171231T220000Z
UID:10008243-1506556800-1506643199@www.pikk.ee
SUMMARY:„Keskkonnakaitse ja loodushoiu täienduskoolitus“ 100h konsulendile 2. õppegrupiga. II moodul
DESCRIPTION:Koolitus koosneb 6.moodulist ajavahemikus 22.märts 2017 – 31.august 2019\, mis tulevad läbida alljärgnevaks ajaks:\nI mooduli teine koolitus 1. septembriks 2017;\nII mooduli teine koolitus 1. detsembriks 2017;\nIII mooduli teine koolitus 1. märtsiks 2018;\nIV mooduli teine koolitus 1. novembriks 2018;\nV mooduli teine koolitus 1. märtsiks 2019;\nVI mooduli teine koolitus 1. septembriks 2019 \nKoolitus sisaldab auditoorset ja praktilist õpet (väliõpe) ning kodutööd (6). Koolituse lõpuks valmib igal osalejal õpimapp. \nII mooduli õppepäevad on: 28.-29.september 2017\n18.-19.oktoober 2017\n6.-17.november 2017 \nTäiendav info mooduli kohta SIIN. \nKursuse kontaktisik:\nEda Gross\nRäpina Aianduskooli täienduskoolituse metoodik\nTel. 7961 549; 5346 1209\neda.gross@aianduskool.ee
URL:https://www.pikk.ee/sundmus/keskkonnakaitse-ja-loodushoiu-taienduskoolitus-100h-konsulendile-2-oppegrupiga-ii-moodul/
LOCATION:Muu\, Eesti
CATEGORIES:Keskkond
GEO:58.595272;25.0136071
END:VEVENT
BEGIN:VEVENT
DTSTART;VALUE=DATE:20170929
DTEND;VALUE=DATE:20170930
DTSTAMP:20260424T162637
CREATED:20171231T220000Z
LAST-MODIFIED:20171231T220000Z
UID:10008406-1506643200-1506729599@www.pikk.ee
SUMMARY:Toidu säilitamisnõuete määramine
DESCRIPTION:Autoga koolitusele saabujatele – parkida saab maaülikooli spordihoone parklas või tehnikamaja tornühiselamupoolses parklas. NB! Jälgige parkimist korraldavaid märke \n\n	Toimumise ajakava  \n\n	10.00 – 11.30 õppetöö\n	11.30 – 12.00 paus\n	12.00 – 13.30 õppetöö\n	13.30 – 13.45 paus\n	13.45 – 15.15 õppetöö \n\n	Õppekeel: eesti keel \n\n	Õppejõud: Mati Roasto\, professor\, dr (vet-med) toiduhügieeni osakonna juhataja                      \n\n	Hinnainfo \n\n	Tegevust finantseeritakse\n	Eesti maaelu arengukava 2014-2020 meetme 1 "Teadmussiire ja teavitus" tegevuse "Pikaajalised programmid" raames ja on sihtrühma kuulujatele tasuta.\n	Antud koolitustegevuses osalemine on osaleja jaoks vähese tähtsusega abi. \n\n	Sihtrühm \n\n	Täienduskoolitusest võib osa võtta põllumajandustoodetest mittepõllumajandustoodete töötlemisega tegelev füüsilisest isikust ettevõtja ja tema töötaja ning eraõigusliku juriidilise isiku osanik\, aktsionär\, liige\, juhtorgani liige ja tema töötaja. \n\n	Eesmärk \n\n	Osata teostada toidu kestvuskatseid ning tunda toidu säilimisaegade määramise aluseid. \n\n	Õpingute alustamise tingimused \n\n	Kuulumine sihtrühma \n\n	Sisu \n\n	Toidu säilitamisnõuete määramisega seonduv seadusandlus ja selle tõlgendamine;\n	Toidu säilimisajaga seonduvad terminid ning nende tähendus;\n	Toidus mikroorganismide kasvu mõjutavad tegurid;\n	Toidu säilimisaega mõjutavad tegurid;\n	"Kõlblik kuni" või "Parim enne";\n	Toidu riknemise viisid;\n	Toidu mikrobioloogilised kriteeriumid;\n	Toidu säilimisaja määramise otsesed ja kaudsed meetodid;\n	Toidu säilimisaja määramise etapid\, ametlikud kestvuskatsed;\n	Toidu säilimisaegade määramisega seonduvad proovivõtukavad;\n	Toidu säilimisaja pikendamise võimalused. \n\n	Kursus toimub\, kui osalejaid on vähemalt 10 \n\n	Registreerumise tähtaeg 20.09.2017 EELREGISTREERUMINE ON VAJALIK ! \n\n	Info ja registreerumine Eesti Maaülikooli avatud ülikooli kodulehel: http://avatudylikool.emu.ee/taiendope/piptoit/ \n\n	 
URL:https://www.pikk.ee/sundmus/toidu-sailitamisnouete-maaramine/
LOCATION:Muu\, Eesti
CATEGORIES:Toiduainete tootmine
GEO:58.595272;25.0136071
END:VEVENT
BEGIN:VEVENT
DTSTART;VALUE=DATE:20170929
DTEND;VALUE=DATE:20170930
DTSTAMP:20260424T162637
CREATED:20171231T220000Z
LAST-MODIFIED:20171231T220000Z
UID:10008574-1506643200-1506729599@www.pikk.ee
SUMMARY:Koolitus“ Lambaliha väärindamise võimalused“
DESCRIPTION:29.september  \n9.00 – 11.00  –   Lamba liha morfoloogia\,  lamba liha keemiline koostis\, jahutamise mõju liha kvaliteedile\, liha kvaliteet\, algtöötlemise protsessid\, Liha värskuse ja kvaliteedi hindamine\,  tööohutus  – Eve Klettenberg\n11.00 – 11.10 – Kohvipaus\n11.10 – 13.10 –     Lamba liha morfoloogia\,  lamba liha keemiline koostis\, jahutamise mõju liha kvaliteedile\, liha kvaliteet\, algtöötlemise protsessid\, Liha värskuse ja kvaliteedi hindamine\,  tööohutus  – Eve Klettenberg\n13.10 – 13.30 – Lõuna\n13.30 – 17.30 –   Lamba liha morfoloogia\,  lamba liha keemiline koostis\, jahutamise mõju liha kvaliteedile\, liha kvaliteet\, algtöötlemise protsessid\, Liha värskuse ja kvaliteedi hindamine\,  tööohutus  – Eve Klettenberg \n  \n30.september  \n9.00 – 11.00  –   Lamba rümba lõikusskeemid\, lihalõikusseadmed\, ohud lihatooraine käitlemisel (praktiline töö kooli õppetööstuses) –  Eve Klettenberg\n11.00 – 11.10 – Kohvipaus\n11.10 –13.10 –  Lamba rümba lõikusskeemid\, lihalõikusseadmed\, ohud lihatooraine käitlemisel (praktiline töö kooli õppetööstuses) – Eve Klettenberg\n13.10 – 13.30 – Lõuna\n13.30 – 17.30 –   Lamba rümba lõikusskeemid\, lihalõikusseadmed\, ohud lihatooraine käitlemisel (praktiline töö kooli õppetööstuses) – Eve Klettenberg \n  \nKoolitus jätkub 20.-21. oktoobril (vaata www.pikk.ee kalender).
URL:https://www.pikk.ee/sundmus/koolitus-lambaliha-vaarindamise-voimalused/
LOCATION:Muu\, Eesti
CATEGORIES:Loomakasvatus
GEO:58.595272;25.0136071
END:VEVENT
BEGIN:VEVENT
DTSTART;VALUE=DATE:20170929
DTEND;VALUE=DATE:20170930
DTSTAMP:20260424T162637
CREATED:20171231T220000Z
LAST-MODIFIED:20171231T220000Z
UID:10006682-1506643200-1506729599@www.pikk.ee
SUMMARY:Infopäev "Mahepõllumajanduslik loomakasvatus alustajatele" Tartumaal
DESCRIPTION:Eesti Mahepõllumajanduse Sihtasutus korraldab infopäevad: \n	"Mahepõllumajanduslik loomakasvatus alustajatele"\n	 \n	20.09.2017 kell 10:00-14:45 Võrus\, Võru Vallavalitsuse saalis\, Võrumõisa tee 4a \n\n	21.09.2017 kell 10:00-14:45 Rakveres\, Niine külalistemajas\, Niine 4 \n\n	27.09.2017 kell 10:00-14:45 Pärnus\, Põllumajandusameti saalis\, Kerese 4 \n	29.09.2017 kell 10:00-14:45 Tartus\, Eesti Maaülikooli Mahekeskuses\, Õssu küla\, Ülenurme vald Tartumaa \n\n	Kava\n	10:00 Mahepõllumajandusliku loomakasvatuse nõuded ja põhimõtted. Pidamistingimused. Loomade sissetoomine ettevõttesse\, Loomatervishoid\, veterinaarsed jm toimingud\n	12:15 Kohvipaus\n	12:30 Loomade söötmine\, erinevad ratsioonid. Kuidas saada hakkama 100% mahesöödaga\, söödatootmine maheettevõttes\n	14:45 Lõpp \n	Lektorid Ragnar Leming ja Margo Mansberg \n\n	Ettekanne\, ettekanne \n	Osalemine on tasuta. Osalemiseks on kindlasti vajalik registreerimine hiljemalt 2 päeva enne toimumist: \n	20.09 Võru : https://goo.gl/forms/0ojblKoEvoqBGyiA3 \n	21.09 Rakvere: https://goo.gl/forms/jNYc7LdJa1gxYH333 \n	27.09 Pärnu: https://goo.gl/forms/2LPh6O7oiRsOvyaz2 \n	29.09 Tartu: https://goo.gl/forms/eF2ZC1gt1prJEXVB2 \n\n	Võimalik on registreeruda ka mahepm[A]gmail.com või telefonil 5662 0955 \n\n	\n	Infopäevad toimuvad " Teadmussiirde pikaajaline programm põllumajanduspoliitika abinõude tegevusvaldkonnas" raames\, toetab Euroopa Liit. Korraldab Eesti Mahepõllumajanduse Sihtasutus \n	Infopäevad lähevad arvesse mahetoetuse raames nõutava kohustusliku koolitusena.
URL:https://www.pikk.ee/sundmus/infopaev-mahepollumajanduslik-loomakasvatus-alustajatele-tartumaal/
LOCATION:Muu\, Eesti
CATEGORIES:Loomakasvatus
GEO:58.595272;25.0136071
END:VEVENT
BEGIN:VEVENT
DTSTART;VALUE=DATE:20170929
DTEND;VALUE=DATE:20170930
DTSTAMP:20260424T162637
CREATED:20171231T220000Z
LAST-MODIFIED:20171231T220000Z
UID:10008580-1506643200-1506729599@www.pikk.ee
SUMMARY:Täienduskoolitus Põllumajandusloomade heaolu – lammaste tervishoid
DESCRIPTION:Täienduskoolitus toimub MAK 2014-2020 meetme „Teadmussiirde pikaajaline programm loomakasvatuse tegevusvaldkonnas II “ raames\, rahastamisallikas: riigieelarve\, Euroopa Maaelu Põllumajandusfond (EAFRD). \nKoolitus on sihtrühmale tasuta. Täienduskoolitusest võivad osa võtta põllumajandustoodete tootmise ja töötlemise\, põllumajandusmaa hooldamise\, põllumajandustoodetest mittepõllumajandustoodete töötlemise või metsa majandamisega tegelev füüsilisest isikust ettevõtja ja tema töötaja ning eraõigusliku juriidilise isiku osanik\, aktsionär\, liige\, juhtorgani liige ja tema töötaja.. ((Teadmussiirde pikaajaliste programmide rakendamise toetus. Vastu võetud 28.04.2015 nr 46 RT I\, 30.04.2015\, 1) \nKoolitus toimub 29.septembril ja 6.oktoobril 2017.a. Olustvere Teenindus ja Maamajanduskoolis\, praktikum kooli tallihoones. Koolituse maht 16 õppetundi. \n  \nAjakava: \nReede 29 september \n9.00 – 9.15       Kogunemine\, registreerimine\n09.15 – 10.45  Mikroobide ja parasiitide resistentsus\, sellel teke ja olemus. K. Tähepõld\n10.45 – 11:00  Paus\n11.00 – 12:30  Mikroobide ja parasiitide resistentsus\, sellel teke ja olemus. K. Tähepõld\nLõuna\n13.30 –  15.00 Kiskjarünnakud ja rakendatavad kaitsemeetmed. E. Sellis\n15.00 – 15.15 Paus\n15:15 – 16.35 Sööda rikastamine ravimtaimekultuuridega. E. Sellis \nKoolitus jätkub 6. oktoobril \nReede 06. oktoober \n9.00 – 9.15       Kogunemine\,  registreerimine\n09.15 – 10.45  Kehtivad nõuded lammaste heaolule karjamaal. Loomade transport. A.M. Anupõld\n10.45 – 11:00  Paus\n11.00 – 12:30  Kehtivad nõuded lammaste heaolule laudas pidamisel. Söötmis-ja pidamistingimuste parandamise võimalused.  A.M. Anupõld\nLõuna\n13.30 –  15.00 Haiguste ennetamine läbi optimaalsete pidamistingimuste. A.M. Anupõld\n15.00 – 15.15 Paus\n15:15 – 16.35 Haiguste ennetamine läbi optimaalsete pidamistingimuste. A.M. Anupõld \n  \nKoolitus kvalifitseerub Eesti maaelu arengukava 2014-2020meetme 14 „loomade heaolu„ kohaseks õppeks\, mille läbimisel on loomade heaolu toetuse taotlejal võimalik taotleda toetust koolituse lisategevuse nõude täitmise eest. Koolituse läbinutele väljastatakse tunnistus. \nKoolitusel osalemiseks vajalik eelregistreerimine (ettevõtte registrinumber\, osalejanimi ja isikukood). Registreerimine toimub kuni 27\, september koolitus@olustvere.edu.ee  või tel.4374290. \nInfo koolituse koha tel 513 6242 \nKoolitajad:\nEll Sellis – Mahelambakasvataja. Konsulent. Eesti Lamba- ja Kitsekasvatajate Liidu juhatuse liige.\nKatrin Tähepõld– EMÜ Väikemäletsejaliste sisehaiguste ja  karjatervise lektor. Eesti Lamba- ja Kitsekasvatajate Liidu aretustöö koordinaator. Konsulent. Loomaarst.\nAnn Mari Anupold – Konsulent. Loomaarst Piirsalu Vetpunkt.
URL:https://www.pikk.ee/sundmus/taienduskoolitus-pollumajandusloomade-heaolu-lammaste-tervishoid/
LOCATION:Muu\, Eesti
CATEGORIES:Loomakasvatus
GEO:58.595272;25.0136071
END:VEVENT
BEGIN:VEVENT
DTSTART;VALUE=DATE:20170929
DTEND;VALUE=DATE:20170930
DTSTAMP:20260424T162637
CREATED:20171231T220000Z
LAST-MODIFIED:20171231T220000Z
UID:10006686-1506643200-1506729599@www.pikk.ee
SUMMARY:Tahesõnniku keskkonnasõbraliku käitlemise demopäev
DESCRIPTION:Eesti Põllumajandus-Kaubanduskoda korraldab 29. septembril 2017 koostöös Läti Farmerite Parlamendi\, \nEesti Taimekasvatuse Instituudi ning Põlva Agro OÜga tahesõnniku keskkonnasõbraliku käitlemise demopäeva. \nSelle raames toimub masinate töödemo Põlva Agro põllul. Töödemo käigus demonstreeritakse erinevat tüüpi tahesõnniku laotamise masinaid. \n  \nDemopäevale on oodatud osalema kõik keskkonnasõbralikest tahesõnniku käitlemise tehnoloogiatest huvitatud põllumajandustootjad ning konsulendid. \nDemopäeval osalemiseks on vajalik eelregistreerimine internetis hiljemalt 25. septembriks 2017.   \nRegistreerimiseks vajutage siia  Green Agri demopäev \n  \nAjakava: \n  \n\n\n\n\n9:30 -10:00 \n\n\nPakume tervituskohvi\, Kiuma maa-kultuurimaja (asukoha link) \n\n\n\n\n10:00 – 10:05 \n\n\nDemopäeva avamine. \nVahur Tõnissoo\, Eesti Põllumajandus-Kaubanduskoja juhatuse liige \n\n\n\n\n10:05 – 11:00 \n\n\nTahesõnniku majanduslikud aspektid \nKalvi Tamm – Eesti Taimekasvatuse Instituut \nTahesõnniku käitlemine ja seadusandlus \nTimo Kangur – Keskkonnaministeerium veeosakond \n\n\n\n\n11:00 – 11:30 \n\n\nSõit Põlva Agro demopõllule (distants 3 km)\, kogunemine (asukoha link) \n\n\n\n\n11:30 – 13:00 \n\n\nPõlva Agro OÜ lühike tutvustus\, Peeter Alep \nTahesõnniku laoturite töödemo põllul. Masinaid tutvustab ja töödemot juhib Taavi Võsa Eesti Taimekasvatuse Instituudist. \n\n\n\n\n13:00 – 13:30 \n\n\nKehakinnitus ja demopäeva kokkuvõte \n\n\n\n\n  \nDemopäev korraldatakse  Kesk-Läänemere Programmi 2014-2020 projekti “GreenAgri” raames. \n  \nLisainfo: EPKK keskkonnavaldkonna juht Ann Riisenberg 52 45 875 või ann.riisenberg@epkk.ee
URL:https://www.pikk.ee/sundmus/tahesonniku-keskkonnasobraliku-kaitlemise-demopaev/
LOCATION:Muu\, Eesti
GEO:58.595272;25.0136071
END:VEVENT
END:VCALENDAR