BEGIN:VCALENDAR
VERSION:2.0
PRODID:-//PIKK.ee - ECPv6.13.2.1//NONSGML v1.0//EN
CALSCALE:GREGORIAN
METHOD:PUBLISH
X-ORIGINAL-URL:https://www.pikk.ee
X-WR-CALDESC:Events for PIKK.ee
REFRESH-INTERVAL;VALUE=DURATION:PT1H
X-Robots-Tag:noindex
X-PUBLISHED-TTL:PT1H
BEGIN:VTIMEZONE
TZID:Europe/Tallinn
BEGIN:DAYLIGHT
TZOFFSETFROM:+0200
TZOFFSETTO:+0300
TZNAME:EEST
DTSTART:20180325T010000
END:DAYLIGHT
BEGIN:STANDARD
TZOFFSETFROM:+0300
TZOFFSETTO:+0200
TZNAME:EET
DTSTART:20181028T010000
END:STANDARD
END:VTIMEZONE
BEGIN:VEVENT
DTSTART;VALUE=DATE:20180619
DTEND;VALUE=DATE:20180620
DTSTAMP:20260424T104342
CREATED:20180606T210313Z
LAST-MODIFIED:20180606T210313Z
UID:10008929-1529366400-1529452799@www.pikk.ee
SUMMARY:Mahetootmine ja toitlustamine
DESCRIPTION:Ökoloogiliste Tehnoloogiate Keskus koostöös Tallinna Linnavalitsusega korraldab infopäeva teemal Mahetootmine ja toitlustamine\, mis toimub 19. juunil 2018 Niliske talus (Adra küla\, Harku vald\, Harjumaa) ja Haabersti Vene Gümnaasiumis (Õismäe tee 132\, Tallinn). \nInfopäev keskendub mahetoidu pakkumise võimalustele koolides. \nPäevakava \nAeg: 19.06.2018 k 11-17 \n\nSissejuhatus\nMahetootmise põhimõtted\, tutvumine Niliske talu mahetootmisega (aiandus\, veisekasvatus\, töötlemine)\nKerge lõuna ja sõit Tallinnasse\nMahetooraine kättesaadavus ja hind. Koolide ja nende toitlustajate huvi mahetoidu vastu. Arutelu\n\nInfopäeva esimene osa toimub Niliske talus ja teine osa Haabersti Vene Gümnaasiumis (Õismäe tee 132\, Tallinn). \nLektorid: Merit Mikk\, Krista Kanniste \nInfopäev on tasuta. Registreerimine on lõppenud. \nLisainfo: maheteave@gmail.com \nInfopäev toimub programmi “Teadmussiirde pikaajaline programm mahepõllumajanduse tegevusvaldkonnas” raames\, toetab Euroopa Liit.
URL:https://www.pikk.ee/sundmus/mahetootmine-ja-toitlustamine-2/
LOCATION:Harjumaa\, Harjumaa\, Eesti
CATEGORIES:Muu
END:VEVENT
BEGIN:VEVENT
DTSTART;VALUE=DATE:20180619
DTEND;VALUE=DATE:20180621
DTSTAMP:20260424T104342
CREATED:20180604T055745Z
LAST-MODIFIED:20180621T113725Z
UID:10008927-1529366400-1529539199@www.pikk.ee
SUMMARY:Täienduskoolitus Väikemäletsejaliste karja - ja heinamaade kasutamine  (sh söötmine)
DESCRIPTION:Koolitus on kahepäevane  ning toimub Saaremaal Kõljala Rahvamajas \n  \nAjakava: \n  \nTeisipäev 19. juuni Lektor Veeve Kaasik \n9.45 – 10.00    Kogunemine\, registreerimine \n10.00 – 11.30  Karja_ja_heinamaade rajamine \n11.30 – 11:45  Paus \n11.45 – 13.15  Karja- ja heinamaade hooldamine\, loomkoormused. \nLõuna ja ühine sõit farmi \nPraktiline õpe \n14.15 –  17.15  Rohumaade kasutamine \, uuendatud rohumaad ja looduslikud rohumaad. \n  \nKolmapäev 20 juuni  \n9.45 – 10.00    Kogunemine\,  registreerimine \n10.00 – 11.30  Karjatamisperioodi terviseriskid\, loomade heaolu tagamine.  A.M. Anupõld \n11.30 – 11.45 Paus \n11.45 – 12.30 Loeng jätkub . A.M. Anupõld \n12.30 – 13.15 Rohusöödad\, toiteväärtus\, söömust mõjutavad tegurid. M. Oeselg \nLõuna ja sõit farmi \nPraktiline õpe \n14.15 – 17.15 Loomade jälgimine karjamaal\, heaoalu\, terviseprobleemidega tegelemine\, haige looma tuvastamine. A.M. Anupõld \n  \nKoolitus on sihtrühmale tasuta. Koolitusest võivad osa võtta põllumajandustoodete tootmise\, töötlemise või turustamisega\, põllumajandusmaa hooldamisega\, põllumajandustoodetest mittepõllumajandustoodete töötlemisega\, sealhulgas toidu valmistamise või töötlemisega\, või metsa majandamisega seotud või nimetatud tegevusega tegelevat füüsilisest isikust ettevõtjat ja tema töötajat\, eraõigusliku juriidilise isiku osanikku\, aktsionäri\, liiget\, juhtorgani liiget ja tema töötajat\, metsa majandamisega tegelevat füüsilist isikut ja toidu valmistamise või töötlemisega tegelevat avalik-õigusliku juriidilise isiku juhtorgani liiget või töötajat. (Teadmussiirde pikaajaliste programmide rakendamise toetus määruse 28.04.2016 nr.46  muutmine. Vastu võetud 24.08.2017 nr 59.RT I\, 30.08.2017\, 1 ) \n  \nTäienduskoolitus toimub MAK 2014-2020 meetme „Teadmussiirde pikaajaline programm loomakasvatuse tegevusvaldkonnas II “ raames\, rahastamisallikas: riigieelarve\, Euroopa Maaelu Põllumajandusfond (EAFRD). \n  \nKoolitusele registreeri https://docs.google.com/forms/d/1OQaRM0Y1zOKiyef2Mgb2pAfd1C_bBeAmnckWqYK22Rk/edit
URL:https://www.pikk.ee/sundmus/taienduskoolitus-vaikemaletsejaliste-karja-ja-heinamaade-kasutamine-sh-sootmine-4/
LOCATION:Saaremaa\, Saaremaa
GEO:58.3705526;22.6876383
END:VEVENT
BEGIN:VEVENT
DTSTART;VALUE=DATE:20180621
DTEND;VALUE=DATE:20180622
DTSTAMP:20260424T104342
CREATED:20180601T171542Z
LAST-MODIFIED:20180622T071857Z
UID:10008926-1529539200-1529625599@www.pikk.ee
SUMMARY:Esitluspäev taimekasvatuse pikaajalise programmi raames Rannu Seeme OÜ-s
DESCRIPTION:Üritust korraldavad Eesti Taimekasvatuse Instituut ja Rannu Seeme OÜ \nPäevakava: \n10.30–11.00 Kogunemine Rannu Seeme OÜ Annikoru teraviljakeskuses\, kohv \n11.00–11.30 Teraviljasortide võrdlus (kaer\, rukis\, talinisu) – Ilmar Tamm\, Reine Koppel\, ETKI \n11.30–12.00 Herne kasvatamine tugikultuuridega − Lea Narits\, ETKI \n12.00–12.30 Kikerhernes ja lääts – uued kaunviljade kultuurid – Lea Narits\, ETKI \n12.30–13.00 Meetaimede (tatar\, keerispea\, kurgirohi) kasvatamine  – Liina Talgre\, EMÜ \n13.00–13.30 Talirüpsi kasvatamise agrotehnika – Lea Narits\, ETKI \n13.30–14.00 Sojaoa kasvatamine agrotehnika − Lea Narits\, ETKI \n14.00–14.20 Bioloogiliste ja keemiliste preparaatide kasutamine odra taimekaitses – Pille Sooväli\, ETKI \n14.20–14.40 Taimekahjustajate monitooring – Mati Koppel\, Pille Sooväli\, ETKI \n14.40–15.00 Biopreparaatide kasutamine talinisul – Pille Sooväli\, ETKI \n15.00 – …     Kokkuvõte\, lõuna \nEsitluspäeva materjalid:\nKatsevariandid ja tehtud tööd\nKatsevariandid ja asukohaskeemid\n  \n  \nEsitluspäev toimub “Teadmussiirde pikaajaline programm taimekasvatuse tegevusvaldkonnas” raames\, toetab Euroopa Maaelu Arengu Põllumajandusfond
URL:https://www.pikk.ee/sundmus/esitluspaev-taimekasvatuse-pikaajalise-programmi-raames-rannu-seeme-ou-s-3/
LOCATION:Tartumaa\, Eesti
CATEGORIES:Taimekasvatus
GEO:58.4057128;26.801576
END:VEVENT
END:VCALENDAR