BEGIN:VCALENDAR
VERSION:2.0
PRODID:-//PIKK.ee - ECPv6.13.2.1//NONSGML v1.0//EN
CALSCALE:GREGORIAN
METHOD:PUBLISH
X-WR-CALNAME:PIKK.ee
X-ORIGINAL-URL:https://www.pikk.ee
X-WR-CALDESC:Events for PIKK.ee
REFRESH-INTERVAL;VALUE=DURATION:PT1H
X-Robots-Tag:noindex
X-PUBLISHED-TTL:PT1H
BEGIN:VTIMEZONE
TZID:Europe/Tallinn
BEGIN:DAYLIGHT
TZOFFSETFROM:+0200
TZOFFSETTO:+0300
TZNAME:EEST
DTSTART:20180325T010000
END:DAYLIGHT
BEGIN:STANDARD
TZOFFSETFROM:+0300
TZOFFSETTO:+0200
TZNAME:EET
DTSTART:20181028T010000
END:STANDARD
END:VTIMEZONE
BEGIN:VEVENT
DTSTART;VALUE=DATE:20181030
DTEND;VALUE=DATE:20181031
DTSTAMP:20260425T165847
CREATED:20171231T220000Z
LAST-MODIFIED:20181030T053134Z
UID:10008706-1540857600-1540943999@www.pikk.ee
SUMMARY:Tasuta ühistegevuse infopäev: "Ühistegevuse praktilised näited"
DESCRIPTION:INFOPÄEV TOIMUB EESTIKEELSE TÕLKEGA. \nEesti Maaülikool korraldab “Teadmussiirde pikaajaline programm ühistegevuse tegevusvaldkonnas” raames tasuta infopäeva teemal: “Ühistegevuse praktilised näited”. Tegemist on pikaajalise programmiga ja selle raames toimub mitmeid infopäevi\, täienduskoolitusi\, õpiringe\, konverentse ning ettevõtete külastusi nii Eestis kui ka välisriikides. \n30.10.2018 infopäevast võivad osa võtta kõik ühistegevuse huvilised. Eriti ootame osalema alustavate ja toimivate ühistute juhtkonda\, nõukogu ja liikmeid. \n30.10.2018 infopäeva ajakava: \n10:00 – 10:15 Registreerimine ja tervituskohvi \n10:15 – 11:45 Ühistegevuse praktilised näited I – Läti teraviljaühistu LatRaps \n11:45 – 12:15 Kohvipaus \n12:15 – 13:45 Ühistegevuse praktilised näited II – Läti teraviljaühistu LatRaps \n13:45 – 14:00 Tagasiside \nLektoriks on Läti teraviljaühistu direktor Edgars Ruža. \nEttekanne: Ühistegevuse praktilised näited – Edgars Ruža 30.10.2018 \nEelregistreerimine toimub kuni 25.10.2018\, osalejate arv on piiratud. Lisainfo saamiseks ja eelregistreerimiseks palume saata e-mail programmi assistendile: liis.volli[A]emu.ee. Eelregistreerimiseks palume osalejatel saata järgnev informatsioon: ettevõtlusvorm ja nimi; ettevõtlusvaldkond; reg. number; osaleja nimi; osaleja ametikoht; osaleja isikukood; osaleja telefoninumber. \nNB! Eelregistreerimine on tingimata vajalik! \nLisainformatsioon ja küsimused: liis.volli[A]emu.ee või tel: +372 51 92 9840 (programmi assistent Liis Võlli). \nyhistegevus.emu.ee \nfacebook.com/yhistegevus \ninstagram.com/yhistegevus \nInfopäeva korraldamist toetab Euroopa Maaelu Arengu Põllumajandusfond. \nKoostöös teeme paremini!
URL:https://www.pikk.ee/sundmus/tasuta-uhistegevuse-infopaev-uhistegevuse-praktilised-naited-2/
LOCATION:Tartumaa\, Eesti
CATEGORIES:Aiandus,Bioenergia ja biomajandus,Finantsmajandus,Keskkond,Loomakasvatus,Maaettevõtlus,Metsandus,Taimekaitse,Taimekasvatus,Toiduainete tootmine,Turundus,Ühistegevus
GEO:58.4057128;26.801576
END:VEVENT
BEGIN:VEVENT
DTSTART;VALUE=DATE:20181030
DTEND;VALUE=DATE:20181031
DTSTAMP:20260425T165847
CREATED:20180822T061333Z
LAST-MODIFIED:20181115T092845Z
UID:10007076-1540857600-1540943999@www.pikk.ee
SUMMARY:Teaduslik – praktiline konverents „Tänapäevased probleemid ristõieliste kasvatuses”
DESCRIPTION:Üritust korraldab: Eesti Maaülikool \nEesti Maaülikooli peahoone aulas (Kreutzwaldi 1A\, Tartu) \nKonverentsil käsitletavad teemad on: \n  \nPäevakava: \n10.00 -10.30 Registreerumine\, tervituskohv\n10.30  Avasõnad Marika Mänd\, Eesti Maaülikool\n10.35  Ristõielised õlikultuurid ja nende võrdlus ning agrotehnilised võtted saagi ja kvaliteedi parendamiseks Lea Narits\, Eesti Taimekasvatus Instituut\n11.00  Kliima muutused: ilmastiku häiringud ja taimede reaktsioon Eha Kruus\, Eesti Maaülikool\n11.30  Kohvipaus\n11.45  Ristõieliste nuuter ja sellega seonduvad probleemid Riinu Kiiker\, Kaire Loit\, Eesti Maaülikool\n12.15  Maakirpude püünistaimed Luule Metspalu\, Eesti Maaülikool\n12.45 Kahjustajad rapsil Eve Veromann\, Eesti Maaülikool\n13.20  Lõuna\n14.10  Maastiku mõju rapsikahjustajatele ja nende looduslikele vaenlastele  Eve Veromann\,  Gabriella Kovacs Eesti Maaülikool\n14.40  Parasitoidid ja pestitsiidid – pestitsiidide mõju parasitoididele (inglise keeles) Jonathan Martin Willow\, Eesti Maaülikool\n15.10  Kohvipaus\n15.25 Rapsi viljelus ja töötlemine meil ja mujal maailmas Margus Ameerikas\, Baltic Agro\n15.55  Alternatiivsetest võimalustest taimekaitses Reet Karise\, Eesti Maaülikool\n16.25  Arutelu\, kokkuvõte\, kohvipaus \nRegistreerimine üritusele kuni 24. oktoober: http://eestitaimekaitse.emu.ee/et/uudised-ja-sundmused/  \n Konverents läheb arvesse mahepõllumajandusliku tootmise toetuse saamise kohustusliku koolitusena \nKonverents  toimub “Teadmussiirde pikaajaline programm taimekasvatuse tegevusvaldkonnas” raames\, toetab Euroopa Maaelu Arengu Põllumajandusfond.
URL:https://www.pikk.ee/sundmus/teaduslik-praktiline-konverents-tanapaevased-probleemid-ristoieliste-kasvatuses/
LOCATION:Tartumaa\, Eesti
CATEGORIES:Taimekaitse,Taimekasvatus
GEO:58.4057128;26.801576
END:VEVENT
BEGIN:VEVENT
DTSTART;VALUE=DATE:20181030
DTEND;VALUE=DATE:20181031
DTSTAMP:20260425T165847
CREATED:20180913T133340Z
LAST-MODIFIED:20181024T081929Z
UID:10008980-1540857600-1540943999@www.pikk.ee
SUMMARY:Konsulentide teabepäev
DESCRIPTION:Põllumajandusuuringute keskuse maaelu võrgustikutöö osakond korraldab 30. oktoobril 2018.a Sakus PMK peamaja suures saalis konsulentide teabepäeva. Teabepäevale on oodatud konsulendid\, põllu- ja maamajanduse valdkonna nõusajad ning koolitajad. \nPäevakava \n10.00 kogunemine \n10.30 Teabepäeva avamine – Andrus Rahnu\, PMK asedirektor \n10.45 Maamajanduse analüüsi osakond:\nPõllumajanduse raamatupidamise andmebaas – Marju Aamisepp\, PMK\nMaamajanduse analüüsi osakonna uuemad uuringud – Agnes Naarits. PMK \n11.30 PMK laborite ülevaated ja külastused –\nJääkide ja saasteainete labori tegemised – Merike Toome\, PMK\nAgrokeemia labor – Aita Kruus\, PMK\nSeemnekontrolli labor – Mari Jürman\, PMK;\nTaimetervise ja mikrobioloogia labor – Karme Petrutis\, PMK;\nSöötade ja teravilja labor – Ann Akk\, PMK \n13.00 lõuna \n14.00 Põllumajandusseire ja uuringute osakond\nMullaseire uuemad tulemused – Tambet Kikas\, PMK\nPõllumajanduse suurandmete teadmussiirde programmi tegemised –  Urmas Visse\, PMK \n15.00 PMK laborite külastused jätkuvad (jagunemine gruppidesse) \nRegistreerumine www.maainfo.ee kaudu
URL:https://www.pikk.ee/sundmus/konsulentide-teabepaev-4/
LOCATION:Harjumaa\, Harjumaa\, Eesti
END:VEVENT
BEGIN:VEVENT
DTSTART;VALUE=DATE:20181030
DTEND;VALUE=DATE:20181031
DTSTAMP:20260425T165847
CREATED:20181012T063407Z
LAST-MODIFIED:20181107T065316Z
UID:10009017-1540857600-1540943999@www.pikk.ee
SUMMARY:Infopäev lambakasvatajatele – Karja Tervis
DESCRIPTION:30 oktoober 2018 Prandi külamaja\, Prandi küla Järva maakond \nAsukoht: https://www.puhkaeestis.ee/et/prandi-kulamaja-seminarisaal \nInfopäev toimub MAK 2014-2020 meetme „Teadmussiirde pikaajaline programm loomakasvatuse tegevusvaldkonnas II “ raames ja on sihtrühmale tasuta. \nAjakava: \nInfopäeva pikkus  4 ak tundi. \nInfopäeval räägitakse karja haldusest karjamaal- ja laudatingimustel nakkushaiguste ja parasiitide leviku tõkestamiseks ja nende leviku kontrolli- all hoidmisest. Muuhulgas tutvustatakse inglismaa häid ja halbu kogemusi. \n  \n10.00 – 10.30 Kogunemine\, registreerimine \n10.30 – 12.00 Õppetöö \n12.00 – 12.45 Paus \n12.45 – 14.15 Õppetöö \n14.15 – 15.00 Arutelu. Kokkuvõtted \nEttekanne \nLektor: James Patrick Crilly ( MA VetMB CertAVP DipECSRHM MRCVS\, Larkmead Veterinary Group\, Cholsey\, Oxfordshire\, UK). Info lektori kohta \n  \nInfopäevast võivad  osa võtta põllumajandustoodete tootmise\, töötlemise või turustamisega\, põllumajandusmaa hooldamisega\, põllumajandustoodetest mittepõllumajandustoodete töötlemisega\, sealhulgas toidu valmistamise või töötlemisega\, või metsa majandamisega seotud või nimetatud tegevusega tegelevat füüsilisest isikust ettevõtjat ja tema töötajat\, eraõigusliku juriidilise isiku osanikku\, aktsionäri\, liiget\, juhtorgani liiget ja tema töötajat\, metsa majandamisega tegelevat füüsilist isikut ja toidu valmistamise või töötlemisega tegelevat avalik-õigusliku juriidilise isiku juhtorgani liiget või töötajat. Lisaks valdkonna teenindamisega tegelejad (nt loomasööda\, veterinaarravimite müüjad)\, oma ettevõtte tegevusvaldkonda laiendada soovijad\, põllumajanduslike esindus- ja erialaorganisatsioonide juhatuse liikmed ja töötajad ning kõik teemast huvitatud isikud. Teadmussiirde pikaajaliste programmide rakendamise toetus määruse 28.04.2016 nr.46  (muutmine vastu võetud 24.08.2017 nr 59.RT I\, 30.08.2017\, 1 ). \n  \nRegistreerimine kuni 25 oktoober 2018  lingil https://docs.google.com/forms/d/1BQoEb7KXK_mhMMimB7G10c-X-pe-0abEtgdkg4Ll7Gc/ \n  \nTeave infopäeva kohta  tel 513 6242
URL:https://www.pikk.ee/sundmus/infopaev-lambakasvatajatele-karja-tervis/
LOCATION:Järvamaa\, Järvamaa\, Eesti
CATEGORIES:Loomakasvatus
GEO:58.8866713;25.5000624
END:VEVENT
BEGIN:VEVENT
DTSTART;VALUE=DATE:20181030
DTEND;VALUE=DATE:20181031
DTSTAMP:20260425T165847
CREATED:20181016T082101Z
LAST-MODIFIED:20181016T082153Z
UID:10007129-1540857600-1540943999@www.pikk.ee
SUMMARY:Toidusektori tootearenduspäevad
DESCRIPTION:Toimumisaeg: 30. oktoober ja 27. november \nLäbiviija: Eesti Kaubandus-Tööstuskoda \nToimumiskoht: Eesti Kaubandus-Tööstuskoja ruumides (Toom-Kooli 17\, 10130\, Tallinn) \n  \nHuvi korral palume registreeruda SIIN . On võimalik registreeruda ühele päevadest või mõlemale. \n  \nOsalemine koolitusel on TASUTA\, aga väga oluline on registreerimine!  \nNB! Osaleda saavad ettevõtted\, kelle põhitegevusalaks on toidu tootmine või töötlemine (v.a kalatoodete tootmine) \n  \nEsimene koolituspäev \n\n oktoober 2018\n\nEesti Kaubandus-Tööstuskoja ruumides (Toom-Kooli 17\, 10130\, Tallinn) \n  \n9.00-9.30 Registreerimine ja hommikukohv \n9.30- 10.00 Päeva sissejuhatus moderaatorilt ja tervitus Toiduliidu poolt \n10.00- 12.15 Tootearendus rahvusvahelistele turgudele – Kuidas toimib Soome toidusektor? (3 akadeemilist tundi) \nMaarit Ahola\, vanemkonsultant (toidusektori ettevõtete rahvusvahelistumine)\, (sisaldab praktilisi harjutusi osalejatele 1 akadeemiline tund) \nMaarit on töötanud Soome toidusektori ettevõtetega alates aastast 1985\, peamiselt Finpros. Ta on aidanud kaasa Soome toidu ekspordile 90ndatel ja viimased 17 aastat nõustanud Soome toidusektori ettevõtteid laienemisel rahvusvahelistele turgudele. Ajavahemikus 2004-2006 töötas Maarit Hongkongis Finpro Southern China Trade Centeris ja tunneb seetõttu Hiina ja Aasia toiduturgu. Hongkongist naastes jätkas ta töötamist Soome ettevõtetega arendamaks nende rahvusvahelist äri mitmes erinevas projektis: äriplaanid\, turundus\, T & A\, välistarnijate ja -partnerite otsing eri riikidest jne. Ta on andnud mitmeid loenguid\, koolitanud ettevõtteid\, korraldanud Soome ettevõtete gruppidele äriarendusprojekte. Aastatel 2014-2016 töötas Maarit konsultatsioonifirmas Fintra ja alates 2017. aastast töötab ta vabakutselise konsultandina. Maaritil on magistrikraad toitumisõpetuses (sh keemia\, mikrobioloogia\, toiduteadus)\, samuti Euroopa diplom rahvusvahelises turunduses ja ta on õppinud sotsioloogiat\, sotsiaalset antropoloogiat ja äriarendust. \n12.15-13.00 Euroopa toidusektori trendid õigusruumi vaates (1 akadeemiline tund) \nDr Ina Gerstberger\, direktor\, Saksa toidu & joogi ja loodusteaduste tiimi juht\, Gowling WLG \nDr Ina Gerstberger on Gowling WLG Saksa toidu & joogi ja loodusteaduste tiimi juht. Teda on tihti soovitatud kui toiduga seotud seaduste eksperti Saksamaal juba üle kümne aasta. Ina on oma ala ekspert eelkõige uute toiduainete osas\, toidu\, ravimite ja kosmeetikatoodete piiritlemise küsimustes\, tervisega seotud reklaamides ning JUVE teatmike Euroopa sisestes küsimustes. Tema klientideks on ettevõtted\, kes turundavad toiduaineid\, sööta\, kosmeetikat\, meditsiiniseadmeid\, farmaatsiatooteid ja biotsiidide kui ka rahvusvahelised tooraine tootjad\, erialaliidud ja kindlustusfirmad. \n13.00-13.45 Lõunapaus \n13.45-15.15 Praktiline näide Eesti ettevõtte tootearendusest ja praktiline ülesanne osalejatele \nChocolala näide \nKristi Lehtis\, asutaja ja juhatuse liige\, Chocolala (1 akadeemiline tund) \nEnne ettevõtjaks hakkamist oli Kristi Lehtis töötanud eduka advokaadina nii Eestis\, Inglismaal kui Araabiamaades. Chocolala ettevõtte asutas ta 2013.aasta sügisel. Kristi on õppinud Londoni Majanduskoolis (magistrikraad Euroopa Liidu poliitikas)\, Notre Dame Ülikoolis USA (magistrikraad õigusteaduses) ning Tartu Ülikoolis (bakalaureusekraad õigusteaduses). \nPraktiline harjutus\, mida viib läbi päeva moderaator (1 akadeemiline tund) \n15.15. Koolituspäeva lõpp \nPärast koolituspäeva lõppu on osalejatel võimalus saada individuaalset nõustamist rahvusvahelise konsultandiga (maksimaalselt 45 minutit) saamaks tagasisidet nende enda tootearenduse ideedele/projektidele/protsessidele. \nKoolituspäeva moderaator on Kadri Rist\, Eesti Kaubandus-Tööstuskoja projektijuht \nKadri Rist on Eesti Kaubandus-Tööstuskoja projektijuht alates 2009.aastast. Tema tööülesanneteks on rahvusvaheliste projektide juhtimine ja elluviimine\, lisaks Eesti ja välisettevõtete päringutel vastamine ning kohalike ettevõtete nõustamine. Enne Kaubandus-Tööskojaga liitumist on Kadri töötanud ettevõtluskonsultandina Ida-Virumaa Ettevõtluskeskuses ning erinevates ettevõtetes kliendisuhtluse ja –teeninduse valdkonnas. Kadril on Tartu Ülikooli bakalaureusekraad inimgeograafias (nüüd võrdustatud magistrikraadiga). \nKoolituspäeva pikkus: 6 akadeemilist tundi\, millest kaks tundi on praktilisi harjutusi \nKoolituspäeval osaleja omandab järgmised teadmised/oskused: \n–           Ülevaade Euroopa toidusektori trendidest õigusruumi vaates \n–           Soome ettevõtete tootearenduse protsessi näited ja eripärad \n–           Chocolala tootearenduse protsess \n–           Praktilised teadmised tootearenduse protsessi tööriistadest \n  \nTeine koolituspäev \n\n november 2018\n\nEesti Kaubandus-Tööstuskoja ruumides (Toom-Kooli 17\, 10130\, Tallinn) \n  \n9.30-10.00 Registreerimine ja hommikukohv \n10.00- 13.00  Tootearendus ja sisenemine rahvusvahelistele turgudele (4 akadeemilist tundi) \nMaarit Ahola\, vanemkonsultant (toidusektori ettevõtete rahvusvahelistumine)\, (sisaldab praktilisi harjutusi osalejatele 1 akadeemiline tund) \nTeemad\, mida käsitletakse: \n–           Tootearendus ja eksport – kuidas Soome toidutootjad on leidnud uusi turgusid \n–           Näited ettevõtetest\, kes on pidanud oma ekspordistrateegiat muutma\, kuna on selgunud\, et uue turu vajadused on teised kui koduturu. Mitmed näited on ettevõtetest\, kes on laienenud Aasia turgudele. \n–           Praktilised tööriistad\, mida kasutada sisenemaks uutele turgudele ja kohandamaks tooteid neile turgudele \nMaarit on töötanud Soome toidusektori ettevõtetega alates aastast 1985\, peamiselt Finpros. Ta on aidanud kaasa Soome toidu ekspordile 90ndatel ja viimased 17 aastat nõustanud Soome toidusektori ettevõtteid laienemisel rahvusvahelistele turgudele. Ajavahemikus 2004-2006 töötas Maarit Hongkongis Finpro Southern China Trade Centeris ja tunneb seetõttu Hiina ja Aasia toiduturgu. Hongkongist naastes jätkas ta töötamist Soome ettevõtetega arendamaks nende rahvusvahelist äri mitmes erinevas projektis: äriplaanid\, turundus\, T & A\, välistarnijate ja -partnerite otsing eri riikidest jne. Ta on andnud mitmeid loenguid\, koolitanud ettevõtteid\, korraldanud Soome ettevõtete gruppidele äriarendusprojekte. Aastatel 2014-2016 töötas Maarit konsultatsioonifirmas Fintra ja alates 2017. aastast töötab ta vabakutselise konsultandina. Maaritil on magistrikraad toitumisõpetuses (sh keemia\, mikrobioloogia\, toiduteadus)\, samuti Euroopa diplom rahvusvahelises turunduses ja ta on õppinud sotsioloogiat\, sotsiaalset antropoloogiat ja äriarendust. \n13.30-13.45 Lõunapaus \n13.45-14.30 Mida tähendab tulla esimesena turule uue tootega? (1 akadeemiline tund) \nKatrin Kull\, Dreamers reklaamibüroo juht \nKatrin Kull on alates 2002.aastast reklaamibüroo Dreamers juht ja strateegiajuht. Ta on teinud brändide arendust mitmetele ettevõtetele\, nende seas on olnud ka hulgaliselt toidusektori kliente. Katrin Kullil on Tallinna Tehnikaülikooli magistrikraad ärikorralduses ning omandamisel doktorikraad. \n14.30- 15.15 Ettevõtte Sangaste Linnased kogemus  toodete arendamisel (1 akadeemiline tund) \nPille Pokk\, ettevõtte tegevjuht \nEttevõttest Sangaste Linnas. Kuidas tootearendusprotsess toimib\, sellest praktik räägibki. \n15.15-16.00 Praktiline harjutus (1 akadeemiline tund) \n16.00 Koolituspäeva lõpp \n  \nPärast koolituspäeva lõppu on osalejatel võimalus saada individuaalset nõustamist rahvusvahelise konsultandiga (maksimaalselt 45 minutit) saamaks tagasisidet nende enda tootearenduse ideedele/projektidele/protsessidele. \nKoolituspäeva moderaator on Liisi Kirschenberg\, Eesti Kaubandus-Tööstuskoja eksporditeenuste koordinaator
URL:https://www.pikk.ee/sundmus/toidusektori-tootearenduspaevad/
LOCATION:Harjumaa\, Harjumaa\, Eesti
CATEGORIES:Toiduainete tootmine
END:VEVENT
BEGIN:VEVENT
DTSTART;VALUE=DATE:20181031
DTEND;VALUE=DATE:20181101
DTSTAMP:20260425T165847
CREATED:20180919T105714Z
LAST-MODIFIED:20180919T134640Z
UID:10008989-1540944000-1541030399@www.pikk.ee
SUMMARY:Keskkonnasõbraliku majandamise toetuse (KSM) täienduskoolitus
DESCRIPTION:PÄEVAKAVA: \n9.00 – 9.30  Kogunemine\, osalejate registreerimine \n9.30 – 11.00 Muld kui põllumehe tootmisvahend \n11.00 – 12.20 Vahe- ja haljasväetiskultuurid ja nende tähtsus\, huumuse kalkulaator \n12.20 – 13.00 Lõunapaus \n13.00 – 14.00 Praktiline ülesanne \n14.00 – 16.00 Mesilased – kasulikud\, kuid haavatavad putukad. QuESSA projekti tulemused \n16.00  Arutelu\, kokkuvõte \n  \nKoolitused toimuvad  järgnevates kohtades: \n31.10. Viljandimaa – Männiku Metsatalu\, Intsu küla\, Viljandi vald http://metsatalu.ee/ \n01.11. Tartumaa – Eesti Põllumajandusmuuseum Häärberi saal\, Pargi 4\, Ülenurme\, Kambja vald http://epm.kovtp.ee/avaleht \n28.11. Raplamaa – Rapla Kultuurikeskuse suur saal\, Tallinna mnt 17a\,  Rapla https://raplakultuur.ee/ \n29.11. Järvamaa – Veski-Silla Puhkekeskus\, Türi-Alliku\, Türi vald http://www.veskisilla.ee/ \n29.11. Saaremaa – Hotell Mardi konverentsikeskus\, Vallimaa 5a\, Kuressaare http://hotelmardi.eu \n  \nKoolitused on tasuta ning lähevad arvesse KSM toetuse raames nõutava täienduskoolitusena. \nKoolitused korraldab Põllumajandusuuringute Keskus (PMK) Maaeluministeeriumi tellimusel\, \nläbiviimist toetab Euroopa Liit. \nOsaleda saavad vaid eelregistreerunud!  \nRegistreerumine: https://goo.gl/ddZfQi või telefonil 55630001 (Maris Kruuse). \nRegistreerimine lõpeb kohtade täitumisel või 3 tööpäeva enne koolituse toimumist.
URL:https://www.pikk.ee/sundmus/keskkonnasobraliku-majandamise-toetuse-ksm-taiendkoolitus/
LOCATION:Viljandimaa\, Viljandimaa\, Eesti
CATEGORIES:Keskkond
GEO:58.2821746;25.5752233
END:VEVENT
BEGIN:VEVENT
DTSTART;VALUE=DATE:20181031
DTEND;VALUE=DATE:20181101
DTSTAMP:20260425T165847
CREATED:20181010T120511Z
LAST-MODIFIED:20181101T131937Z
UID:10009015-1540944000-1541030399@www.pikk.ee
SUMMARY:SÖÖDA KEEMILINE JA BIOLOOGILINE OHUTUS NING KVALITEET
DESCRIPTION:Eesti Põllumajandus-Kaubanduskoda korraldab Maaeluministeeriumi tellimusel 2 infopäeva teemal \n                        SÖÖDA KEEMILINE JA BIOLOOGILINE OHUTUS NING KVALITEET \nInfopäevad toimuvad \n25. oktoobril Türi Kultuurikeskuse II korruse klaassaalis (Hariduse 1\, Türi\, Järva maakond) ja\n31. oktoobril Märjal\, ETKÜ saalis (Aretuse 2\, Märja\, Tartu maakond)\n\nPÄEVAKAVA: \n  \n10:30 – 11:00 – Kogunemine\, pakume tervituskohvi \n11:00 – 11:45 – Maisi silokultuurina (sordi valik\, külvi aeg\, koristamine ja maisisilo keemiline koostis\, fermentatsioon\, aeroobne stabiilsus) – Andres Olt \, EMÜ \n11:45 – 12:30 – Soovimatute ainete piirmäärad söödas tulenevalt EL seadusandlusest – Maili Põldpere\, lektor VTA\n12:30 – 13:00 – Kohvipaus \n13:00 – 13:30 – Taimekaitsevahendite kasutuse head tavad sööda tootmises\, sealhulgas mahetootmises – Tiiu Annuk\, Scandagra Eesti AS\n13:45 – 14:30 – Mükotoksiinide monitooring ja kontroll (2015 – 2018 monitooringu tulemused) – Pilleriin Puskar\, Alltech Eesti OÜ\n14:30 – 14:45 – Küsimused/vastused/päeva kokkuvõte \nInfopäev on sihtrühmale TASUTA.  \nREGISTREERIGE osalemissoov varakult SIIN või  www.pikk.ee (vt sündmuste kalender) või EPKK kodulehel www.epkk.ee \nEelregistreerimine on oluline vajalike dokumentide vormistamiseks ning toitlustuse tellimiseks ning lõpeb vastavalt 22. või 26. oktoobril. \n  \nInfopäev toimub MAK 2014-2020 meetme „Teadmussiirde pikaajaline programm loomakasvatuse tegevusvaldkonnas II “ raames. \nRahastamisallikas: riigieelarve\, Euroopa Maaelu Põllumajandusfond (EAFRD). \n  \nLisainformatsioon: EPKK juhiabi Maire Vimb – 600 9349\, 50 86 664 või info@epkk.ee \n 
URL:https://www.pikk.ee/sundmus/sooda-keemiline-ja-bioloogiline-ohutus-ning-kvaliteet-2/
LOCATION:Tartumaa\, Eesti
CATEGORIES:Loomakasvatus
GEO:58.4057128;26.801576
END:VEVENT
BEGIN:VEVENT
DTSTART;VALUE=DATE:20181031
DTEND;VALUE=DATE:20181101
DTSTAMP:20260425T165847
CREATED:20181018T084425Z
LAST-MODIFIED:20181018T084540Z
UID:10007132-1540944000-1541030399@www.pikk.ee
SUMMARY:Mahelambakasvatusega tegelevatele ettevõtete õpiring
DESCRIPTION:Eesti Mahepõllumajanduse Sihtasutus korraldab mahelambakasvatusega tegelevatele ettevõtetele õpiringi. Sellest oodatakse osa võtma ettevõtteid\, kes soovivad end teiste kogemuste abil koolitada ja on valmis oma kogemusi jagama. \n\na toimub neli õpiringi kokkusaamist\, millest esimene toimub 31. oktoobril Tuuma talus (FIE Ants Schmidt) Võrumaal. Järgmiste kokkusaamiste detailsemad teemad ja toimumiskohad lepitakse kokku esimesel kokkusaamisel. Õpiringis osalejatelt oodatakse osalemist kõigil neljal planeeritud kokkusaamisel.\n\n  \nAeg: 31. oktoober 2018\, kell 11.00-14.30 \nAsukoht:  Tuuma talu\, Kõrgepalu küla\, Võrumaa \nTeema:  Tuuma talu mahelambakasvatuse tutvustus ning arutelu turustus- ja töötlemisprobleemidest \n  \nÕpiringi juhendab Liilia Tali (MTÜ Maavillane; Rõõmu talu) \nÕpiringis osalemine on tasuta. Õpiringides osalemine läheb arvesse mahepõllumajandusliku tootmise toetuse saamise kohustusliku koolitusena. \nÕpiringis osalemiseks palume saata e-mail aadressil maheteave@gmail.com. Osalejate arv on piiratud\, registreerimine lõpetatakse kohtade täitumisel. \n  \nLisainfo: Liilia Tali\, liilia.tali@gmail.com\nÕpiring toimub “Teadmussiirde pikaajaline programm mahepõllumajanduse tegevusvaldkonnas” raames\, toetab Euroopa Liit.
URL:https://www.pikk.ee/sundmus/mahelambakasvatusega-tegelevatele-ettevotete-opiring/
LOCATION:Võrumaa\, Võrumaa
CATEGORIES:Loomakasvatus
GEO:57.7377372;27.1398938
END:VEVENT
BEGIN:VEVENT
DTSTART;VALUE=DATE:20181101
DTEND;VALUE=DATE:20181102
DTSTAMP:20260425T165847
CREATED:20171231T220000Z
LAST-MODIFIED:20181113T115427Z
UID:10008809-1541030400-1541116799@www.pikk.ee
SUMMARY:Aianduse visioonikonverents Pärnus
DESCRIPTION:EESTI AIANDUSLIIDU V VISIOONIKONVERENTS \nAEG:                         1.11.2018 kell 9.30-17.30\nKOHT:                       Strand SPA & Konverentsihotell Pärnus\nTÖÖKEEL:                eesti keel\, inglise keelsed esinejad-sünkroontõlge eesti keelde\nPROGRAMM: \n9.30 – 10.00 Registreerimine\, tervituskohv \nSessioon 1 – Jurmala saal\n10.00-10.15 Konverentsi avamine\nRaivo Külasepp\, Eesti Aiandusliit\, Grüne Fee Eesti AS juhatuse esimees\nRaimonds Jansons\, Läti Vabariigi suursaadik \n10.15 – 10.30 Ülevaade aiandusliidu tegevusest \nRaivo Külasepp\, Eesti Aiandusliit\, Grüne Fee Eesti AS juhatuse esimees\n10.30 – 11.00 Aianduse hetkeolukorrast Eestis numbrites \nIllar Lemetti\, Maaeluministeeriumi kantsler\n11.00 – 11.30 Aianduse hetkeolukorrast Lätis\, väljakutsed lähitulevikus\nDace Freimane\, Läti Põllumajandusministeerium/Turukorralduse osakonna juhataja\n11.30 – 12.00 Mis suunas arenevad aianduskeskused/kuidas näeb välja tuleviku aianduskeskus? Indrek Naudi\, Hansaplant OÜ juhatuse liige\nModeraatori kokkuvõte blokist \n12.15 – 13.30 Lõunapaus\n13.30 – 15.00 Sessioon 2 Praktikult praktikule – töötoad 2x45min. Töökeel inglise keel\, tõlge moderaatoritelt.\nTÖÖTUBA 1 – Puukoolimajandus Lätis\, hetkeseis ja tulevikuvaade \nAndrejs Vitolinš\, Läti Puukoolide Liit tegevjuht\nTÖÖTUBA 2 – Köögiviljakasvatus Lätis avamaal ja katmikalal\, hetkeseis ja tulevikuvaade\nEdīte Strazdiņa\, tootjate ühistu Mūsmāju Dārzeņi KS juht\nTÖÖTUBA 3 – Puuvilja ja marjakasvatus Lätis\, hetkeseis ja tulevikuvaade\nJanis Lepsis\, Läti Aiandusinstituudi teadur/tootjaorganisatsioon Auglu Nams \n15.00 – 15.30 Kohvipaus\n15.30 – 17.30 Sessioon 3\n15.30 – 15.45 Töötubade moderaatorite kokkuvõtted \n15:45 – 16.30 Innovatsioon aianduses – vastus tuleviku väljakutsetele \nMarite Gailite\,tootjate ühistu ” Latvijas dārznieks” ekspert / Edīte Strazdiņa\, tootjate ühistu Mūsmāju Dārzeņi KS juht \n16.30 – 17.15 Pereettevõtluse kui ärimudeli head ja vead\n \nUrmas Arumäe/ Arumäe & Sipari Advokaadibürood OÜ\, vandeadvokaat  \n17.15 – 17.30 Moderaatori kokkuvõte päevast \n  \nTäpsem info: \nhttp://aiandusliit.ee/visioonikonverents-2018
URL:https://www.pikk.ee/sundmus/aianduse-visioonikonverents-parnus/
LOCATION:Pärnumaa\, Pärnumaa\, Eesti
CATEGORIES:Aiandus
END:VEVENT
BEGIN:VEVENT
DTSTART;VALUE=DATE:20181101
DTEND;VALUE=DATE:20181102
DTSTAMP:20260425T165847
CREATED:20180919T105904Z
LAST-MODIFIED:20180919T134738Z
UID:10008990-1541030400-1541116799@www.pikk.ee
SUMMARY:Keskkonnasõbraliku majandamise toetuse (KSM) täienduskoolitus
DESCRIPTION:PÄEVAKAVA: \n9.00 – 9.30  Kogunemine\, osalejate registreerimine \n9.30 – 11.00 Muld kui põllumehe tootmisvahend \n11.00 – 12.20 Vahe- ja haljasväetiskultuurid ja nende tähtsus\, huumuse kalkulaator \n12.20 – 13.00 Lõunapaus \n13.00 – 14.00 Praktiline ülesanne \n14.00 – 16.00 Mesilased – kasulikud\, kuid haavatavad putukad. QuESSA projekti tulemused \n16.00  Arutelu\, kokkuvõte \n  \nKoolitused toimuvad  järgnevates kohtades: \n01.11. Tartumaa – Eesti Põllumajandusmuuseum Häärberi saal\, Pargi 4\, Ülenurme\, Kambja vald http://epm.kovtp.ee/avaleht \n28.11. Raplamaa – Rapla Kultuurikeskuse suur saal\, Tallinna mnt 17a\,  Rapla https://raplakultuur.ee/ \n29.11. Järvamaa – Veski-Silla Puhkekeskus\, Türi-Alliku\, Türi vald http://www.veskisilla.ee/ \n29.11. Saaremaa – Hotell Mardi konverentsikeskus\, Vallimaa 5a\, Kuressaare http://hotelmardi.eu \n  \nKoolitused on tasuta ning lähevad arvesse KSM toetuse raames nõutava täienduskoolitusena. \nKoolitused korraldab Põllumajandusuuringute Keskus (PMK) Maaeluministeeriumi tellimusel\, \nläbiviimist toetab Euroopa Liit. \nOsaleda saavad vaid eelregistreerunud!  \nRegistreerumine: https://goo.gl/ddZfQi või telefonil 55630001 (Maris Kruuse). \nRegistreerimine lõpeb kohtade täitumisel või 3 tööpäeva enne koolituse toimumist.
URL:https://www.pikk.ee/sundmus/keskkonnasobraliku-majandamise-toetuse-ksm-taiendkoolitus-2/
LOCATION:Tartumaa\, Eesti
CATEGORIES:Keskkond
GEO:58.4057128;26.801576
END:VEVENT
BEGIN:VEVENT
DTSTART;VALUE=DATE:20181101
DTEND;VALUE=DATE:20181102
DTSTAMP:20260425T165847
CREATED:20181007T154619Z
LAST-MODIFIED:20181007T154619Z
UID:10009000-1541030400-1541116799@www.pikk.ee
SUMMARY:Infopäev: Mikrobioloogia\, õiged töövõtted analüüside teostamisel
DESCRIPTION:Infopäev „Mikrobioloogia\, õiged töövõtted mikrobioloogiliste analüüside teostamisel. Mahlad\, marjad\, joogid\, pagaritooted.“ \nInfopäeva korraldab BioCC OÜ. Loengute ja praktilise osa läbiviijad on Epp Songisepp ja Liina Kuus. \nPÄEVAKAVA \n10.00-12.00    Mahlad\, marjad\, joogid \nProovivõtukava \nAnalüütilised standardmeetodid\, seadusandlus \nMikrobiloogilised kriteeriumid ja nende kohaldamise etapid \nToiduohutuskriteeriumid / protsessi hügieenikriteeriumid \nParalleelselt toimub praktiline osa laboris (pagaritooted): \nMikrobioloogiliste analüüside teostamine vastavalt kehtivatele standarditele (proovide võtmine\, säilitamine\, transportimine\, teostamine ja utiliseerimine\, olulised patogeenid). \n12.00-12.15    Kohvipaus \n12.15-13.30   Pagaritooted \nProovivõtukava \nAnalüütilised standardmeetodid\, seadusandlus \nMikrobiloogilised kriteeriumid ja nende kohaldamise etapid \nToiduohutuskriteeriumid / protsessi hügieenikriteeriumid \nParalleelselt toimub praktiline osa laboris (mahlad\, marjad\, joogid): \nMikrobioloogiliste analüüside teostamine vastavalt kehtivatele standarditele (proovide võtmine\, säilitamine\, transportimine\, teostamine ja utiliseerimine\, olulised patogeenid\, juuretised). \n13.30-14.30    Lõuna \n14.30-15.15   Jätkub:  Pagaritooted. Paralleelselt praktiline osa laboris (mahlad\, marjad\, joogid). \n15.15-16.00    Arutelu\, küsimustele vastamine \n  \nInfopäevad toimuvad MAK 2014-2020 meetme „Teadmussiirde pikaajaline programm toiduohutuse tegevusvaldkonnas“ raames\, läbiviimist toetab Euroopa Liit. \nInfopäevadest võivad osa võtta kõik valdkonnas tegutsevad või sellest huvitatud isikud. Tegemist on vähese tähtsusega abiga\, abisumma on 72 eurot ühe osaleva inimese kohta. Osalemine on tasuta\, kui ettevõtte vähese tähtsusega abi määr ei ole ületatud. \nRegistreerumine: https://toiduteave.ee/ \nLisainfo: info@toiduteave.ee
URL:https://www.pikk.ee/sundmus/infopaev-mikrobioloogia-oiged-toovotted-analuuside-teostamisel/
LOCATION:Tartumaa\, Eesti
CATEGORIES:Toiduainete tootmine
GEO:58.4057128;26.801576
END:VEVENT
END:VCALENDAR