BEGIN:VCALENDAR
VERSION:2.0
PRODID:-//PIKK.ee - ECPv6.13.2.1//NONSGML v1.0//EN
CALSCALE:GREGORIAN
METHOD:PUBLISH
X-WR-CALNAME:PIKK.ee
X-ORIGINAL-URL:https://www.pikk.ee
X-WR-CALDESC:Events for PIKK.ee
REFRESH-INTERVAL;VALUE=DURATION:PT1H
X-Robots-Tag:noindex
X-PUBLISHED-TTL:PT1H
BEGIN:VTIMEZONE
TZID:Europe/Tallinn
BEGIN:DAYLIGHT
TZOFFSETFROM:+0200
TZOFFSETTO:+0300
TZNAME:EEST
DTSTART:20180325T010000
END:DAYLIGHT
BEGIN:STANDARD
TZOFFSETFROM:+0300
TZOFFSETTO:+0200
TZNAME:EET
DTSTART:20181028T010000
END:STANDARD
END:VTIMEZONE
BEGIN:VEVENT
DTSTART;VALUE=DATE:20181231
DTEND;VALUE=DATE:20190101
DTSTAMP:20260423T233904
CREATED:20181214T065146Z
LAST-MODIFIED:20181228T065644Z
UID:10009092-1546214400-1546300799@www.pikk.ee
SUMMARY:Eesti ettevõtete külastused (loomakasvatuse PIP)
DESCRIPTION:JÄÄB ÄRA! \n31. detsembril 2018 toimub Lõuna-Eestis Eesti maaelu arengukava (MAK 2014-2020) meetme „Teadmussiire ja teavitus“ tegevuse „Teadmussiirde pikaajaline programm loomakasvatuse tegevusvaldkonnas II“ raames Eesti ettevõtete külastused (väikemäletsejad – lambad). \n  \nPäeva algus 10.00 ja lõpp 16.30 \n10.30-13.00 esimese ettevõtte külastus \n13.00-14.00 lõuna \n14.30-16.00 teise ettevõtte külastus \n16.00-16.30 kokkuvõtete tegemine \n  \nInfo ürituse kohta telefonil 53089961 Angelika Nöps (Maaelu Edendamise Sihtasutus). \nEttevõtete külastus Eestis toimub MAK 2014-2020 meetme „Teadmussiirde pikaajaline programm loomakasvatuse tegevusvaldkonnas II “ raames\, rahastamisallikas: riigieelarve\, Euroopa Maaelu Põllumajandusfond (EAFRD). \nSihtgrupp: Koolitustest võivad osa võtta vaid juriidiliste isikute esindajad (FIE\, ettevõtte aktsionär\, osanik\, liige\, juhtorgani liige või töötaja). Täiendkoolitus on sihtrühmale tasuta. \n 
URL:https://www.pikk.ee/sundmus/eesti-ettevotete-kulastused-loomakasvatuse-pip/
LOCATION:Eesti
ORGANIZER;CN="Maaelu Edendamise Sihtasutus":MAILTO:angelika.nops@pikk.ee
END:VEVENT
END:VCALENDAR