BEGIN:VCALENDAR
VERSION:2.0
PRODID:-//PIKK.ee - ECPv6.13.2.1//NONSGML v1.0//EN
CALSCALE:GREGORIAN
METHOD:PUBLISH
X-WR-CALNAME:PIKK.ee
X-ORIGINAL-URL:https://www.pikk.ee
X-WR-CALDESC:Events for PIKK.ee
REFRESH-INTERVAL;VALUE=DURATION:PT1H
X-Robots-Tag:noindex
X-PUBLISHED-TTL:PT1H
BEGIN:VTIMEZONE
TZID:Europe/Tallinn
BEGIN:DAYLIGHT
TZOFFSETFROM:+0200
TZOFFSETTO:+0300
TZNAME:EEST
DTSTART:20190331T010000
END:DAYLIGHT
BEGIN:STANDARD
TZOFFSETFROM:+0300
TZOFFSETTO:+0200
TZNAME:EET
DTSTART:20191027T010000
END:STANDARD
END:VTIMEZONE
BEGIN:VEVENT
DTSTART;VALUE=DATE:20190121
DTEND;VALUE=DATE:20190122
DTSTAMP:20260423T085759
CREATED:20181228T104729Z
LAST-MODIFIED:20181228T104729Z
UID:10007209-1548028800-1548115199@www.pikk.ee
SUMMARY:Taimekaitsevahendite  professionaalse  kasutaja  täiendkoolitus
DESCRIPTION:Päevakava \n9.00-11.20 Integreeritud taimekaiste + turule lubatud taimekaitsevahendid\, nende liigitamine  + praktika \n11.20 -11.30  KOHVIPAUS \n11.30-13.00 Etiketi lugemine + taimekahjustajad\, nende tõrje + illegaalsed taimekaitsevahendid \n13.00 -13.45  LÕUNASÖÖK \n13.45-15.25 Ohutusnõuded taimekaitsevahendite kasutamisel\, taimekaitse-vahendi tühja pakendi\, pesuvee\, pritsimislahuse ja taimekaitsevahendi jääkide käitlemine + praktika: pritsi kontroll ja ettevalmistamine tööks\, kulunormide arvutamine \n15.25-15.40  KOHVIPAUS \n15.40-19.10 Seadusandlus\, isikukaitsevahendid + esmaabi + pritsi tüübid ja nende käitlemine\, EKSAM. \nLektor: Kaja Marrandi \nRegistreerimine koolitustele: http://jkhk.ee/pages/taeienduskoolitused/tasuta-pria-kursused.php \nRuth Türk\nJKHK koolitusjuht\nruth.turk@jkhk.ee\n5329 2188 \nKoolitused toimuvad “Teadmussiirde pikaajaline programm taimekasvatuse tegevusvaldkonnas” raames\, toetab Euroopa Liit.
URL:https://www.pikk.ee/sundmus/taimekaitsevahendite-professionaalse-kasutaja-taiendkoolitus-28/
LOCATION:Järvamaa\, Järvamaa\, Eesti
CATEGORIES:Taimekaitse
GEO:58.8866713;25.5000624
END:VEVENT
BEGIN:VEVENT
DTSTART;VALUE=DATE:20190122
DTEND;VALUE=DATE:20190123
DTSTAMP:20260423T085759
CREATED:20190110T064655Z
LAST-MODIFIED:20190125T113402Z
UID:10007216-1548115200-1548201599@www.pikk.ee
SUMMARY:Erametsanduse toetuste infopäev Tallinnas
DESCRIPTION:Eesti Põllumajandus-Kaubanduskoda korraldab koostöös Maaeluministeeriumi\, Eesti Erametsaliidu ja SA Erametsakeskusega \nErametsanduse toetuste infopäev 22. jaanuar TALLINNAS – Teaduspargi Tehnopol Mustamäe konverentsikeskuse saalis SATURN (Teaduspargi 6/1\, TALLINN) –  eelregistreerimine kuni 18. jaanuarini; \nInfopäevad on suunatud erametsaomanikele ja metsaühistute eestvedajatele/tugiisikutele\, metsanduse konsulentidele ning asjaomastele ametnikele ja töötajatele. \n  \nPÄEVAKAVA \n13.30 – 14.00 Tervituskohv \n14.00 – 14.15 Toetuste ülevaade\, MAK 2021-2027 (K. Hindriks\, Maaeluministeerium) \n14.15 – 14.30 Investeeringute elluviimine ja toetusraha kasutamine (T. Suur\, SA Erametsakeskuse) \n14.30 – 15.30 Metsandustoetuste saamise tingimused\, taotluste esitamine ja taotluste menetlemine (T. Suur) \n15.30 – 15.50 Kohvipaus \n15.50 – 16.30 Metsaala arengu ja metsade elujõulisuse parandamise investeeringutoetuse kontroll  Natura 2000 kohapealne kontrolll (G. Reinapu // V. Kütt SA Erametsakeskus) \n16.30 – 17.10 Metsaomanike koostöö ja hooldusraiete vajalikkus (Mikk Link\, EEML juhatuse esimees) \n17.10 – 17.30 Küsimused\, arutelu\, kokkuvõtted (K. Hindriks)                                     \n  \nInfopäeval osalemiseks palume TÄHTAEGSELT REGISTREERUDA SIIN . \nNB! Eelregistreerimine on vajalik ning ka väga oluline lisapaberite (vajadusel) vormistamiseks ning toitlustuse tellimiseks. \nLisainfo info@epkk.ee \, tel 600 9349 (juhiabi Maire Vimb). \nMAK Infopäevade korraldamist toetab Euroopa Liit
URL:https://www.pikk.ee/sundmus/17596/
LOCATION:Harjumaa\, Harjumaa\, Eesti
CATEGORIES:Metsandus
END:VEVENT
BEGIN:VEVENT
DTSTART;VALUE=DATE:20190122
DTEND;VALUE=DATE:20190124
DTSTAMP:20260423T085759
CREATED:20181121T090530Z
LAST-MODIFIED:20181205T090341Z
UID:10009060-1548115200-1548287999@www.pikk.ee
SUMMARY:Koolitus Põllumajandusloomade tapatoimingute pädevustaseme koolitus
DESCRIPTION:AU.359 Põllumajandusloomade tapatoimingute pädevustaseme koolitus\n\n\n\n\n\n\n\n\n\n\n\n\n\n\n\n\n\n\n\n\n\n\n\n\n\n\n\n\n\n\n\n\n\n\n\n\nToimumisaeg\n22.01.2019 – 23.01.2019\n\n\nMaht\n16 akadeemilist tundi\n\n\nToimumiskoht\nTartus Eesti Maaülikoolis Kreutzwaldi 56/1 auditooriumis A 303 (III korrusel). Teooria (22.1.) toimub Praktika (23.1.) toimumiskoht Praktika (23.1.) toimumiskoht ARKE LIHATÖÖSTUS AS (Tööstuse tn 10\, Põlgaste küla Kanepi vald Põlvamaa )\n\n\nAjakava \nTegemist on kahepäevase koolitusega\nI õppepäev – teooria\nII õppepäev – praktikaKoolitusele registreerumisel palun arvestage\, et kahepäevane koolitus on tervik ja eeldab osavõttu mõlemal päeval.\nTunnistuse saamiseks on vaja edukalt läbida nii teooria kui praktika.Ajakava koolituse I ja II päeval\n9.30 – 11.00 õppetöö\n11.00 – 11.15 kohvipaus\n11.15 – 12.45 õppetöö\n12.45 – 13.15 kohvipaus\n13.15 – 14.45 õppetöö\n14.45 – 14.55 paus\n14.55 – 16.25 õppetöö\n\n\nÕppekeel\neesti keel\n\n\nÕppejõud\nRiina Soidla\, MSc EMÜ Veterinaarmeditsiini ja loomakasvatusinstituudi toiduteaduse ja toiduainete tehnoloogia lektor \nDea Anton\, EMÜ Veterinaarmeditsiini ja loomakasvatusinstituudi toiduhügieeni ja rahvatervise õppetooli nooremteadur\n\n\n\n\n\n\n\n\n\n\n\n\n\n\n\n\n\n\n\n\n\n\n\n\nHinnainfo\nKoolitus on sihtrühma kuulujale tasuta. \nKoolitus toimub programmi “Teadmussiirde pikaajaline programm loomakasvatuse valdkonnas” raames.\n\n\nSihtrühm\nPõllumajandustoodete tootmise\, töötlemise või turustamisega\, põllumajandusmaa hooldamisega\, põllumajandustoodetest mittepõllumajandustoodete töötlemisega\, sealhulgas toidu valmistamise või töötlemisega\, või metsa majandamisega seotud või nimetatud tegevusega tegelev füüsilisest isikust ettevõtja ja tema töötaja\, eraõigusliku juriidilise isiku osanik\, aktsionär\, liige\, juhtorgani liige ja tema töötaja\, metsa majandamisega tegelev füüsiline isik ja toidu valmistamise või töötlemisega tegelev avalik-õiguslik juriidilise isiku juhtorgani liige või töötaja.\nLisaks valdkonna teenindamisega tegelejad (nt loomasööda\, veterinaarravimite müüjad)\, oma ettevõtte tegevusvaldkonda laiendada soovijad\, põllumajanduslike esindus- ja erialaorganisatsioonide juhatuse liikmed ja töötajad.Koolitus toimub programmi “Teadmussiirde pikaajaline programm loomakasvatuse valdkonnas” raames.Programmi eesmärk on tõsta loomakasvatussektoris (v.a. vesiviljelus) tegelevate ettevõtjate ja töötajate teadmiste taset teemadel\, mis on seotud põllumajandusloomade pidamise\, söötmise\, heaolu\, tervise\, taudiennetuse\, aretuse ja geneetiliste ressursside säilitamise\, ohutu ja kvaliteetse sööda\, ning esmase töötlemise kaudu lisandväärtuse loomisega.\n\n\n\n\n\n\n\n\n\nSisu\nÜlevaade Nõukogu Määrusest (EÜ) nr 1099/2009\, 24. september 2009\, loomade kaitse kohta surmamisel\nTapaloomade anatoomia\, füsioloogia\nTapaloomade käitumine\nTapaloomade stress\, loomade kannatused\, teadvuselolek ja tundlikkus\nNõuded loomade kohtlemisel tapamajas\nLoomade liikumise mehhaanilise piiramise vahendid\nElusloomadele köidikahelate asetamine või nende üleriputamine\nUimastamine\, uimastamise tõhususe hindamine\nUimastamise ja/või surmamise varumeetodid\nUimastamisseadmete üldhooldus ja puhastamine\nTapaloomade veretustamine\, elusoleku tunnuste puudumise hindamine\nTapahügieen\nVeretustamisnugade nõuetekohane kasutamine ja hooldu\nÕppefilm: uimastamine\, veretustaminePraktiline õpe: loomade käitlemise ja nende liikumise piiramise praktilised aspektid\, uimastamine\, uimastamise tõhususe hindamine\, veretustamine.\nPädevustaseme eksam\n\n\n\n\nRegistreerumise tähtaeg\n15.01.2019\n\n\nRegistreerumise lisainfo\nRegistreerumisega avaldate soovi antud koolitusel osaleda. Enne kui registreerute\, palun veenduge\, et kuulute sihtrühma (vt. infot eespool).\nRegistreerumine on avatud kuni registreerumistähtaja lõpuni või kuni grupi täitumiseni.\nKoolitus toimub programmi “Teadmussiirde pikaajaline programm loomakasvatuse valdkonnas” raames ja on sihtrühma kuulujatele tasuta.Koolitus toimub\, kui grupp komplekteerub\, st. koolitusel osalejaid peab olema vähemalt 10.\nKui grupp ei komplekteeru\, siis koolitus ei toimu\, registreerunud osaleda soovijaid teavitatakse.\n\n\n\n\n\n\n\nRegistreeruda on võimalik lingi alt: \nhttps://ois.emu.ee/pls/ois/!tere.tulemast?leht=OK.AY.VP&id_ay_programm=4302&id_ay_toimumine=12608&systeemi_seaded=3\,1\,12\,1\, \n  \nLähem info\nEesti Maaülikooli avatud ülikool\nFr. R. Kreutzwaldi 56 (III korrus\, ruumid 303-306)\, 51006 Tartu\, \ntel 731 3174\, 731 3175\, 731 3275\, 534 41844 \ne-post: avayl@emu.ee
URL:https://www.pikk.ee/sundmus/koolitus-pollumajandusloomade-tapatoimingute-padevustaseme-koolitus/
LOCATION:Tartumaa\, Eesti
CATEGORIES:Loomakasvatus
GEO:58.4057128;26.801576
END:VEVENT
BEGIN:VEVENT
DTSTART;TZID=Europe/Tallinn:20190122T090000
DTEND;TZID=Europe/Tallinn:20190122T153000
DTSTAMP:20260423T085759
CREATED:20181218T173933Z
LAST-MODIFIED:20181218T173933Z
UID:10007196-1548147600-1548171000@www.pikk.ee
SUMMARY:Tasuta ettevõtte külastuse päev: "Toormele lisandväärtuse andmine"
DESCRIPTION:Eesti Maaülikooli Spordihoone parkla\, Fr.R.Kreutzwaldi 3\, Tartu 51014. \n\nScandagra Eesti AS (Tähe 13\, Viljandi). \nSoovijaid võtab buss peale 09:00 Eesti Maaülikooli Spordihoone parklast\, Fr.R.Kreutzwaldi 3\, Tartu 51014. \nEesti Maaülikool korraldab “Teadmussiirde pikaajaline programm ühistegevuse tegevusvaldkonnas” raames tasuta ettevõtte külastuse teemal: “Toormele lisandväärtuse andmine“. Antud programmi raames toimub mitmeid infopäevi\, täienduskoolitusi\, õpiringe\, konverentse ning ettevõtete külastusi nii Eestis kui ka välisriikides. \n22.01.2019 külastatakse Scandagra Eesti AS-i. \nOotame osalema toimivate ja alustavate põllumajandusühistute juhtkonda ja liikmeid. \nJagatakse praktilist teadmist koostöö arendamiseks ja toormele lisandväärtuse andmiseks. \nSoovijaid võtab buss peale 09:00 Eesti Maaülikooli Spordihoone parklast. Päeva orienteeruv lõpp on 15:30. \nEelregistreerimine toimub kuni 17.01.2019\, osalejate arv on piiratud. Lisainfo saamiseks ja eelregistreerimiseks palume saata e-mail programmi assistendile: liis.volli[A]emu.ee. Eelregistreerimiseks palume osalejatel saata järgnev informatsioon: ettevõtlusvorm ja nimi; ettevõtlusvaldkond; reg. number; osaleja nimi; osaleja ametikoht; osaleja isikukood; osaleja telefoninumber. \nRegistreerimisel esitatud isikuandmed edastatakse Põllumajanduse Registrite ja Informatsiooni Ametile\, kuna ühistegevuse teadmussiirde pikaajalise programmi tegevusi toetatakse Euroopa Maaelu Arengu Põllumajandusfondist. \n  \nNB! Eelregistreerimine on tingimata vajalik! \nLisainformatsioon ja küsimused: liis.volli@emu.ee või tel: +372 51 92 9840 (programmi assistent Liis Võlli). \nEttevõtte külastust toetab Euroopa Maaelu Arengu Põllumajandusfond. \n  \nKoostöös teeme paremini! \nyhistegevus.emu.ee \nfacebook.com/yhistegevus \ninstagram.com/yhistegevus
URL:https://www.pikk.ee/sundmus/tasuta-ettevotte-kulastuse-paev-toormele-lisandvaartuse-andmine-2/
LOCATION:Eesti
CATEGORIES:Aiandus,Bioenergia ja biomajandus,Finantsmajandus,Keskkond,Loomakasvatus,Maaettevõtlus,Metsandus,Taimekaitse,Taimekasvatus,Toiduainete tootmine,Turundus,Ühistegevus
END:VEVENT
BEGIN:VEVENT
DTSTART;VALUE=DATE:20190123
DTEND;VALUE=DATE:20190124
DTSTAMP:20260423T085759
CREATED:20181207T125517Z
LAST-MODIFIED:20181207T125517Z
UID:10009085-1548201600-1548287999@www.pikk.ee
SUMMARY:Taimekasvatus konsulendile - Mittetraditsiooniliste toidu- ja söödakultuuride kasvatamine
DESCRIPTION:Koolitus toimub 23.01.2019 Fr. R. Kreutzwaldi 56/1 III korrusel ruumis A 303 kell 10.00-17.00. \nTäpsem info ja registreerumine: https://ois.emu.ee/pls/ois/!tere.tulemast?leht=OK.AY.VP&id_ay_programm=9762&id_ay_toimumine=12764&systeemi_seaded=3\,1\,12\,1\, \nKoolituse sihtrühma kuuluvad  isikud\, kes vastavad vähemalt ühele järgmistest nõuetest:\n1) isikule on kutseseaduses sätestatud alusel ja korras antud konsulendi kutse ja tal on kehtiv kutsetunnistus;\n2) isikule kutseseaduse alusel ja korras antud konsulendi kutsetunnistuse kehtivuse lõppemisest ei ole möödunud rohkem kui 12 kuud;\n3) isik on Euroopa Liidu ühise põllumajanduspoliitika rakendamise seaduse § 71 lõikes 1 sätestatud valikumenetluse kohaselt valitud nõustamisteenuse osutajaga lepingulises suhtes ning tegeleb põllu- või maamajandusliku nõustamisteenuse osutamisega. \nKoolitust finantseeritakse Eesti maaelu arengukava (MAK) 2014-2020 vahenditest ning see on sihtrühma kuuluvatele isikutele tasuta. \nNB! Teavitame! Täienduskoolitus rahastatakse nõustajate koolitustoetusena\, mis määratletakse kui RIIGIABI osalejatele\, juhul kui koolitusel osaleja ise on ettevõtja või mõne ettevõtja töötaja\, osanik\, aktsionär\, liige või juhtorgani liige. \nKoolituse korraldaja:\nEesti Maaülikooli avatud ülikool\nFr. R. Kreutzwaldi 56/1\n51006 Tartu\,\ntel 731 3275\, 731 3174\, 534 41844\ne-post: avayl@emu.ee\nhttp://avatudylikool.emu.ee/
URL:https://www.pikk.ee/sundmus/taimekasvatus-konsulendile-mittetraditsiooniliste-toidu-ja-soodakultuuride-kasvatamine/
LOCATION:Tartumaa\, Eesti
CATEGORIES:Taimekasvatus
GEO:58.4057128;26.801576
END:VEVENT
BEGIN:VEVENT
DTSTART;VALUE=DATE:20190123
DTEND;VALUE=DATE:20190124
DTSTAMP:20260423T085759
CREATED:20181208T201621Z
LAST-MODIFIED:20190121T135133Z
UID:10009086-1548201600-1548287999@www.pikk.ee
SUMMARY:infopäev:  Aedmustikad ja viinapuud Eesti heitlikes kliima- ja tootmistingimustes
DESCRIPTION:Eesti Maaülikooli dotsent Marge Starast ja professor Kadri Karp tutvustavad pikaajalisi kogemusi tootmiskatsetes. Aedmustikatega katsetöö algas Eesti Maaülikoolis 1995. aastal ja viinapuudega 2003. aastal\, mil rajati viljeluskatsed erinevatesse tootmisaedadesse ja hiljem ka Eesti Maaülikooli Rõhu katseaeda. Katseaastatel on olnud nii positiivseid kui ka negatiivseid üllatusi\, mis aga kokkuvõttes on siiski andnud palju kogemusi. Tootjate poolt rajatud istandikes on aga ilmnenud erinevaid probleeme\, mida ei osata Eesti tingimustes arvestada. Mõlema kultuuri puhul ei ole probleemiks talvekülm\, vaid hoopis – soojus. Samas on ka positiivseid kogemusi ja loodame\, et uued väljakutsed maaettevõtluseks aitavad siiski edendada elu maal. \nAeg: 23. jaanuar 2019\, kell 10-14:00\nAsukoht: Kuressaare\, Vallimaa 5a\, Hotell Mardi \nPäevakava\n9.30 Kogunemine\, hommikukohv\n10.00 – 11.00 Aedmustikate kasvu- ja talvitumise probleemid ja nende leevendamine- Marge Starast\, ETTEKANNE Aedmustikate kasvu- ja talvitumise probleemid ja nende leevendamine\n11.00–12.00 Tootearenduse eripära sõltuvalt põhjamaisest kliimast – Kadri Karp\n12.00–12.30 Lõuna\n12.30–13.30 Põhjamaine viinamarjakasvatus – Kadri Karp\, ETTEKANNE Põhjamaine viinamarjakasvatus Kadri Karp\n13.30–14.00 Arutelu \nInfopäeval osalemine on tasuta. Osalemiseks on vajalik registreerimine hiljemalt 18. jaanuariks siin: https://goo.gl/p9U8Zg \nKohtade arv on piiratud\, registreerumine lõpetatakse kohtade täitumisel.\nLisainfo:Kadri Karp\, Eesti Maaülikool\ne-post: kadri.karp@emu.ee \nInfopäev toimub “Teadmussiirde pikaajaline programm aianduse tegevusvaldkonnas ” raames\, toetab Euroopa Liit. \n  \n 
URL:https://www.pikk.ee/sundmus/aedmustikad-ja-viinapuud-eesti-heitlikes-kliima-ja-tootmistingimustes-kliimamuutuste-leevendamise-alane-infopaev-23-01-2019/
LOCATION:Saaremaa\, Saaremaa
CATEGORIES:Aiandus
GEO:58.3705526;22.6876383
END:VEVENT
BEGIN:VEVENT
DTSTART;VALUE=DATE:20190123
DTEND;VALUE=DATE:20190124
DTSTAMP:20260423T085759
CREATED:20190114T142639Z
LAST-MODIFIED:20190220T060639Z
UID:10007223-1548201600-1548287999@www.pikk.ee
SUMMARY:Keskkonnasõbraliku majandamise toetus - täienduskoolitus
DESCRIPTION:Tartumaa Põllumeeste Liit\, koostöös Põllumajandusuuringute Keskusega\, korraldab \nKeskkonnasõbraliku majandamise toetuse kohustuslikud täienduskoolitused. Koolitused algavad 9.30 ja on osalejatele tasuta. \n23.01   Hotellis Centrum\, Viljandi \n24.01   Rapla Keskraamatukogus\, Lasteaia 5 Rapla \n12.02   Navi seltsimajas\, Võrumaa \n14.02   Jõgeva Kultuurikeskuse suures saalis\, Jõgeva \n19.02   Villa Theresas\, Rakvere \n20.02   Põllumajandusuuringute keskuse suures saalis\, Teaduse 4/6 Saku \nPäevakava: \n9.00 – 9.30  Registreerimine\, tervituskohv \n9.30 – 9.50 Piirkondlik mullakaitse toetus \n9.50 – 10.10 Mulla kasutussobivus \n10.10 – 10.30 Mullauuringute olulisemad tulemused põllumehele \n10.30 – 10.50 Väetistarbekaardid ja väetamise soovitused \n10.50 – 11.00 Jalasirutuspaus  \n11.00 – 12.20 Vahe- ja haljasväetiskultuurid ja nende tähtsus\, huumusbilansi kalkulaator \n12.20 – 13.00 Lõuna \n13.00 – 14.00 Praktiline ülesanne \n14.00 – 14.10 Virgutuspaus  \n14.10 – 15.35 Mesilased – kasulikud\, kuid haavatavad putukad \n15.35 – 16.00  QUESSA projekti tulemused \n16.00   Arutelu\, kokkuvõte \nEttekanded: KSM_taienduskoolitus_2019_esitlus_MAK_2014-2020 \nInfopäeval osalemiseks palume registreeruda \nViljandis              https://goo.gl/forms/gUJ9dXTRQXT8ZmkZ2 \nRaplas                  https://goo.gl/forms/HSvd4QekIKNjafUH3 \nVõrumaal            https://goo.gl/forms/ZZZaNZPsrHPKrV213 \nJõgeval                https://goo.gl/forms/9Oi9rLxHH7GrhHzp1 \nRakveres             https://goo.gl/forms/rMTqqJMyXx1WylnP2 \nSakus                   https://goo.gl/forms/GQ2uQ0d7XaZ5hZB93 \n  \nRegistreerida saab ka merry@kodu.ee või 736 6955. \nInfopäevale oodatakse põllumajandustootjaid (taotleja või tema esindaja)\, kellel on kehtiv KSM kohustus. Täienduskoolitusel peab olema osalenud viienda kohustuseaasta 15. juuniks. \n\naastal uusi KSM kohustusi vastu ei võeta.\n\nKoolitusel mitteosalemine vähendab toetust 6 %. \n 
URL:https://www.pikk.ee/sundmus/keskkonnasobraliku-majandamise-toetus-taienduskoolitus/
LOCATION:Viljandimaa\, Viljandimaa\, Eesti
CATEGORIES:Keskkond
GEO:58.2821746;25.5752233
END:VEVENT
BEGIN:VEVENT
DTSTART;VALUE=DATE:20190124
DTEND;VALUE=DATE:20190125
DTSTAMP:20260423T085759
CREATED:20181212T131257Z
LAST-MODIFIED:20200106T103805Z
UID:10009090-1548288000-1548374399@www.pikk.ee
SUMMARY:Infopäev ROHUMAAVILJELUS JA SÖÖDA TOOTMINE
DESCRIPTION:Infopäev: ROHUMAAVILJELUS JA SÖÖDA TOOTMINE \nToimumiskuupäev: 24.01.2019 (N) \nToimumiskoht:  Tartu Eesti Maaülikool Kreutzwaldi 56/1 auditoorium A 303 (III korrusel) \nAjakava:\n10.00 – 11.30 õppetöö\n11.30 – 11.45 paus\n11.45 – 13.15 õppetöö \nKäsitletavad teemad:\n– Kvaliteetne rohumaa loob eeldused stabiilseks saagiks ja heaks siloks\n– Silo analüüs ja tulemuste interpretatsioon\n– Millest lähtuda silokindlustuslisandi valikul? \nÕppematerjaliga saab tutvuda SIIN ja SIIN \nÕppejõud:\nAre Selge\, PhD\, Eesti Maaülikooli Põllumajandus- ja keskkonnainstituudi taimekasvatuse ja taimebioloogia õppetooli dotsent\nAndres Olt\, mag\, Eesti Maaülikooli Veterinaarmeditsiini ja loomakasvatusinstituudi söötmisteaduse õppetooli sööda ja ainevahetuse uurimise labori juhataja \nInfopäev toimub programmi “Teadmussiirde pikaajaline programm loomakasvatuse valdkonnas” raames ja on osalejatele tasuta. \nProgrammi eesmärk on tõsta loomakasvatussektoris (v.a. vesiviljelus) tegelevate ettevõtjate ja töötajate teadmiste taset teemadel\, mis on seotud põllumajandusloomade pidamise\, söötmise\, heaolu\, tervise\, taudiennetuse\, aretuse ja geneetiliste ressursside säilitamise\, ohutu ja kvaliteetse sööda\, ning esmase töötlemise kaudu lisandväärtuse loomisega. \nVajalik eelreistreerumine: https://ois.emu.ee/pls/ois/!tere.tulemast?leht=OK.AY.VP&id_ay_programm=9802&id_ay_toimumine=12804&systeemi_seaded=3\,1\,12\,1\, \nLähem info koolituse korraldajalt:\nEesti Maaülikooli avatud ülikool\nFr. R. Kreutzwaldi 56 (III korrus\, ruumid 303-306)\, 51014 Tartu\,\ntel 731 3174\, 731 3175\, 731 3275\, 534 41844\ne-post: avayl@emu.ee\nhttp://avatudylikool.emu.ee/ \n 
URL:https://www.pikk.ee/sundmus/infopaev-rohumaaviljelus-ja-sooda-tootmine/
LOCATION:Tartumaa\, Eesti
CATEGORIES:Loomakasvatus
ORGANIZER;CN="Eesti Maa%C3%BClikooli avatud %C3%BClikool":MAILTO:avayl@emu.ee
GEO:58.4057128;26.801576
END:VEVENT
BEGIN:VEVENT
DTSTART;VALUE=DATE:20190124
DTEND;VALUE=DATE:20190125
DTSTAMP:20260423T085759
CREATED:20190110T065227Z
LAST-MODIFIED:20190125T113630Z
UID:10007217-1548288000-1548374399@www.pikk.ee
SUMMARY:Erametsanduse toetuste infopäev
DESCRIPTION:Eesti Põllumajandus-Kaubanduskoda korraldab koostöös Maaeluministeeriumi\, Eesti Erametsaliidu ja SA Erametsakeskusega \nErametsanduse toetuste infopäevad 24. jaanuar TARTUS – Eesti Tõuloomakasvatajate Ühistu saalis (Aretuse 2\, Märja\, Tartu maakond) – eelregistreerimine kuni 21. jaanuarini.  \nInfopäev on suunatud erametsaomanikele ja metsaühistute eestvedajatele/tugiisikutele\, metsanduse konsulentidele ning asjaomastele ametnikele ja töötajatele. \n  \nPÄEVAKAVA \n13.30 – 14.00 Tervituskohv \n14.00 – 14.15 Toetuste ülevaade\, MAK 2021-2027 (K. Hindriks\, Maaeluministeerium) \n14.15 – 14.30 Investeeringute elluviimine ja toetusraha kasutamine (T. Suur\, SA Erametsakeskuse) \n14.30 – 15.30 Metsandustoetuste saamise tingimused\, taotluste esitamine ja taotluste menetlemine (T. Suur) \n15.30 – 15.50 Kohvipaus \n15.50 – 16.30 Metsaala arengu ja metsade elujõulisuse parandamise investeeringutoetuse kontroll Natura 2000 kohapealne kontroll (G. Reinapu // V. Kütt SA Erametsakeskus) \n16.30 – 17.10 Metsaomanike koostöö ja hooldusraiete vajalikkus (Harry Pütsepp\, EEML juhatuse liige) \n17.10 – 17.30 Küsimused\, arutelu\, kokkuvõtted (K. Hindriks)                                     \n  \nInfopäeval osalemiseks palume TÄHTAEGSELT REGISTREERUDA  SIIN . \nNB! Eelregistreerimine on vajalik ning ka väga oluline lisapaberite (vajadusel) vormistamiseks ning toitlustuse tellimiseks. \nLisainfo info@epkk.ee \, tel 600 9349 (juhiabi Maire Vimb). \nMAK Infopäevade korraldamist toetab Euroopa Liit
URL:https://www.pikk.ee/sundmus/erametsanduse-toetuste-infopaev/
LOCATION:Tartumaa\, Eesti
CATEGORIES:Metsandus
GEO:58.4057128;26.801576
END:VEVENT
BEGIN:VEVENT
DTSTART;VALUE=DATE:20190124
DTEND;VALUE=DATE:20190125
DTSTAMP:20260423T085759
CREATED:20190114T142931Z
LAST-MODIFIED:20190220T060608Z
UID:10007225-1548288000-1548374399@www.pikk.ee
SUMMARY:Keskkonnasõbraliku majandamise toetus - täienduskoolitus
DESCRIPTION:Tartumaa Põllumeeste Liit\, koostöös Põllumajandusuuringute Keskusega\, korraldab \nKeskkonnasõbraliku majandamise toetuse kohustuslikud täienduskoolitused. Koolitused algavad 9.30 ja on osalejatele tasuta. \n23.01   Hotellis Centrum\, Viljandi \n24.01   Rapla Keskraamatukogus\, Lasteaia 5 Rapla \n12.02   Navi seltsimajas\, Võrumaa \n14.02   Jõgeva Kultuurikeskuse suures saalis\, Jõgeva \n19.02   Villa Theresas\, Rakvere \n20.02   Põllumajandusuuringute keskuse suures saalis\, Teaduse 4/6 Saku \nPäevakava: \n9.00 – 9.30  Registreerimine\, tervituskohv \n9.30 – 9.50 Piirkondlik mullakaitse toetus \n9.50 – 10.10 Mulla kasutussobivus \n10.10 – 10.30 Mullauuringute olulisemad tulemused põllumehele \n10.30 – 10.50 Väetistarbekaardid ja väetamise soovitused \n10.50 – 11.00 Jalasirutuspaus  \n11.00 – 12.20 Vahe- ja haljasväetiskultuurid ja nende tähtsus\, huumusbilansi kalkulaator \n12.20 – 13.00 Lõuna \n13.00 – 14.00 Praktiline ülesanne \n14.00 – 14.10 Virgutuspaus  \n14.10 – 15.35 Mesilased – kasulikud\, kuid haavatavad putukad \n15.35 – 16.00  QUESSA projekti tulemused \n16.00   Arutelu\, kokkuvõte \nEttekanded: KSM_taienduskoolitus_2019_esitlus_MAK_2014-2020 \nInfopäeval osalemiseks palume registreeruda \nViljandis              https://goo.gl/forms/gUJ9dXTRQXT8ZmkZ2 \nRaplas                  https://goo.gl/forms/HSvd4QekIKNjafUH3 \nVõrumaal            https://goo.gl/forms/ZZZaNZPsrHPKrV213 \nJõgeval                https://goo.gl/forms/9Oi9rLxHH7GrhHzp1 \nRakveres             https://goo.gl/forms/rMTqqJMyXx1WylnP2 \nSakus                    https://goo.gl/forms/GQ2uQ0d7XaZ5hZB93 \n  \nRegistreerida saab ka merry@kodu.ee või 736 6955. \nInfopäevale oodatakse põllumajandustootjaid (taotleja või tema esindaja)\, kellel on kehtiv KSM kohustus. Täienduskoolitusel peab olema osalenud viienda kohustuseaasta 15. juuniks. \n\naastal uusi KSM kohustusi vastu ei võeta.\n\nKoolitusel mitteosalemine vähendab toetust 6 %. \n 
URL:https://www.pikk.ee/sundmus/keskkonnasobraliku-majandamise-toetus-taienduskoolitus-2/
LOCATION:Raplamaa\, Raplamaa
CATEGORIES:Keskkond
GEO:58.8492625;24.7346569
END:VEVENT
BEGIN:VEVENT
DTSTART;VALUE=DATE:20190124
DTEND;VALUE=DATE:20190125
DTSTAMP:20260423T085759
CREATED:20190320T072646Z
LAST-MODIFIED:20190320T073419Z
UID:10009220-1548288000-1548374399@www.pikk.ee
SUMMARY:Taimekaitse täienduskoolitus professionaalsele taimekaitsevahendite kasutajale
DESCRIPTION:Räpina Aianduskool osaleb Eesti maaelu arengukava 2014–2020 meetme 1 “Teadmussiire ja teavitus” tegevuse „Pikaajalised programmid” hankes. Kursused viiakse läbi “Taimekasvatuse Teadmussiirde Programmi” raames ning on osalejale tasuta. \nMaaeluministri 17.06.2015 määruse nr 68 „Teadmussiirde ja teavituse toetus“ § 5 lg 7 kohaselt võivad TASUTA täienduskoolitusest osa võtta põllumajandustoodete tootmise või töötlemise\, põllumajandustoodetest mittepõllumajandustoodete töötlemise või metsanduses tegutsev füüsilisest isikust ettevõtja ja tema töötaja ning eraõigusliku juriidilise isiku osanik\, aktsionär\, liige\, juhtorgani liige ja tema töötaja. \nKursusele registreerumine Räpina Aianduskooli kodulehel:\nTaimekaitse kursuste toimumise ajad:\n1. Taimekaitse täienduskoolitus professionaalsele taimekaitsevahendite kasutajale\n– 24. jaanuar kell 8.30 – 17.00 Võrus\, MTÜ Võluvõru Koolituskeskus\, Räpina mnt. 12\, III korrus\n–  18.märts kell 8.30 – 17.00 Räpina Aianduskoolis\, Pargi 32\n– 22.aprill kell 8.30 – 17.00 Valgamaal\, Sangastes\n– Juunis 8.30 – 17.00 Tartus \n  \n\nVajalik eelregistreerimine\, sest kohtade arv on piiratud. Registreerimine kursusele lõpetatakse\n\n3 tööpäeva enne koolituse algust või õppegrupi täitumisel. \nKursusele registreerimine toimub Räpina Aianduskooli kodulehel www.aianduskool.ee/taienduskoolitus või tel: 796 1549 ja 5346 1209 \nKaasa võtta oma sülearvuti ja vajadusel ka pikendusjuhe
URL:https://www.pikk.ee/sundmus/taimekaitse-taienduskoolitus-professionaalsele-taimekaitsevahendite-kasutajale-8/
LOCATION:Võrumaa\, Võrumaa
CATEGORIES:Taimekaitse
ORGANIZER;CN="R%C3%A4pina Aianduskool":MAILTO:elina.oeselg@aianduskool.ee
GEO:57.7377372;27.1398938
END:VEVENT
BEGIN:VEVENT
DTSTART;VALUE=DATE:20190125
DTEND;VALUE=DATE:20190126
DTSTAMP:20260423T085759
CREATED:20171231T220000Z
LAST-MODIFIED:20180918T105211Z
UID:10008866-1548374400-1548460799@www.pikk.ee
SUMMARY:Allergeeniohje kalakäitlemisettevõtte enesekontrolliplaanis
DESCRIPTION:Täpsem info ja registreerumine aadessil: https://ois.emu.ee/pls/ois/!tere.tulemast?leht=OK.AY.VP&id_ay_programm=8982&id_ay_toimumine=11664&systeemi_seaded=3\,1\,12\,1\, \n  \nKoolituse korraldaja:\nEesti Maaülikooli avatud ülikool\nFr. R. Kreutzwaldi 56/1\n51014 Tartu\,\ntel 731 3174\, 731 3175\, 731 3275\, 534 41844\ne-post: avayl@emu.ee\nhttp://avatudylikool.emu.ee/\n 
URL:https://www.pikk.ee/sundmus/allergeeniohje-kalakaitlemisettevotte-enesekontrolliplaanis/
LOCATION:Muu\, Eesti
CATEGORIES:Toiduainete tootmine
GEO:58.595272;25.0136071
END:VEVENT
BEGIN:VEVENT
DTSTART;VALUE=DATE:20190125
DTEND;VALUE=DATE:20190126
DTSTAMP:20260423T085759
CREATED:20180413T100348Z
LAST-MODIFIED:20190125T083456Z
UID:10008888-1548374400-1548460799@www.pikk.ee
SUMMARY:Eesti traditsioonilised kääritatud joogid
DESCRIPTION:Koolitus toimub 25. jaanuaril ja 15. veebruaril 2019. \nTäpsem info ja registreerumine aadressil: https://ois.emu.ee/pls/ois/!tere.tulemast?leht=OK.AY.VP&id_ay_programm=8503&id_ay_toimumine=11704&systeemi_seaded=3\,1\,12\,1\,  \n. \nKoolituse korraldaja:\nEesti Maaülikooli avatud ülikool\nFr. R. Kreutzwaldi 56/1\n51006 Tartu\,\ntel 731 3275\, 731 3174\, 534 41844\ne-post: avayl@emu.ee\nhttp://avatudylikool.emu.ee/\n 
URL:https://www.pikk.ee/sundmus/eesti-traditsioonilised-kaaritatud-joogid-3/
LOCATION:Tartumaa\, Eesti
CATEGORIES:Toiduainete tootmine
GEO:58.4057128;26.801576
END:VEVENT
END:VCALENDAR