BEGIN:VCALENDAR
VERSION:2.0
PRODID:-//PIKK.ee - ECPv6.13.2.1//NONSGML v1.0//EN
CALSCALE:GREGORIAN
METHOD:PUBLISH
X-WR-CALNAME:PIKK.ee
X-ORIGINAL-URL:https://www.pikk.ee
X-WR-CALDESC:Events for PIKK.ee
REFRESH-INTERVAL;VALUE=DURATION:PT1H
X-Robots-Tag:noindex
X-PUBLISHED-TTL:PT1H
BEGIN:VTIMEZONE
TZID:Europe/Tallinn
BEGIN:DAYLIGHT
TZOFFSETFROM:+0200
TZOFFSETTO:+0300
TZNAME:EEST
DTSTART:20190331T010000
END:DAYLIGHT
BEGIN:STANDARD
TZOFFSETFROM:+0300
TZOFFSETTO:+0200
TZNAME:EET
DTSTART:20191027T010000
END:STANDARD
END:VTIMEZONE
BEGIN:VEVENT
DTSTART;VALUE=DATE:20190128
DTEND;VALUE=DATE:20190131
DTSTAMP:20260426T021933
CREATED:20181228T104225Z
LAST-MODIFIED:20181228T104225Z
UID:10007206-1548633600-1548892799@www.pikk.ee
SUMMARY:Taimekaitse aluskoolitus professionaalsele kasutajale
DESCRIPTION:Päevakava \n  \nI PÄEV  \n9.45-10.00 Koolituse alustamine\, dokumentide täitmine\n10.00-11.30 Taimekaitseseadme tüübid; ohutusnõuded taimekaitseseadme kasutamisel\n11.30-11.45  KOHVIPAUS\n11.45-13.15 Ohutusnõuded taimekaitseseadme kasutamisel;  taimekaitseseadme ettevalmistamine tööks; taimekaitseseadme tehniline kontroll (PRAKTILINE töö koolikeskkonnas)\n13.15-14.00 LÕUNA\n14.00-15.30  Sissejuhatus. Integreeritud taimekaitse põhimõtted; turule lubatud taimekaitsevahendite liigitus\n15.30-15.45 KOHVIPAUS\n15.45-18.00  Piraattaimekaitsevahendid;  tööohutus \nII PÄEV  \n9.00-10.30  Tööohutus; ohutusnõuded taimekaitsevahendite  kasutamisel\n10.30-10.45 KOHVIPAUS\n10.45-13.15 Kultuurtaimede kahjustajad\, umbrohud\, nende tõrjevõimalused\n12.15-13.00 LÕUNA\n13.00- 14.30 Taimekaitsevahendi pakendi märgistuse ja ohutuskaardi lugemine;  taimekaitsevahendi   pakendi käitlemine (PRAKTILINE töö koolikeskkonnas)\n14.30-14.45 KOHVIPAUS\n14.45-17.15 Taimekaitsevahendi pakendi käitlemine; seadusandlus\, isikukaitsevahendid\, (PRAKTILINE töö koolikeskkonnas) \nIII PÄEV  \n9.00-10.30 Ülevaade turule lubatud taimekaitsevahenditest\, nende liigitamine (PRAKTILINE töö koolikeskkonnas)\n10.30-10.45  KOHVIPAUS\n10.45-12.15 Taimekaitsevahendi töölahuse valmistamine\, kulunormi arvutamine (PRAKTILINE töö koolikeskkonnas)\n12.15-13.00 LÕUNA\n13.00-16.00 EKSAM – PMA piirkonna inspektor ja Kaja Marrandi \nLektorid: Kaja Marrandi ja Marek Kõbu \nRegistreerimine koolitustele: http://jkhk.ee/pages/taeienduskoolitused/tasuta-pria-kursused.php \nRuth Türk\nJKHK koolitusjuht\nruth.turk@jkhk.ee\n5329 2188 \nKoolitused toimuvad “Teadmussiirde pikaajaline programm taimekasvatuse tegevusvaldkonnas” raames\, toetab Euroopa Liit.
URL:https://www.pikk.ee/sundmus/taimekaitse-aluskoolitus-professionaalsele-kasutajale-19/
LOCATION:Järvamaa\, Järvamaa\, Eesti
CATEGORIES:Taimekaitse
GEO:58.8866713;25.5000624
END:VEVENT
BEGIN:VEVENT
DTSTART;VALUE=DATE:20190129
DTEND;VALUE=DATE:20190130
DTSTAMP:20260426T021933
CREATED:20190110T070527Z
LAST-MODIFIED:20190125T113516Z
UID:10007219-1548720000-1548806399@www.pikk.ee
SUMMARY:Erametsanduse toetuste infopäev Pärnus
DESCRIPTION:Eesti Põllumajandus-Kaubanduskoda korraldab koostöös Maaeluministeeriumi\, Eesti Erametsaliidu ja SA Erametsakeskusega \nErametsanduse toetuste infopäev 29. jaanuar PÄRNUS – Nooruse Maja saalis (Roheline 1B\, Pärnu) –  eelregistreerimine kuni 24. jaanuarini. \nInfopäevad on suunatud erametsaomanikele ja metsaühistute eestvedajatele/tugiisikutele\, metsanduse konsulentidele ning asjaomastele ametnikele ja töötajatele. \n  \nPÄEVAKAVA \n13.30 – 14.00 Tervituskohv \n14.00 – 14.15 Toetuste ülevaade\, MAK 2021-2027 (K. Hindriks\, Maaeluministeerium) \n14.15 – 14.30 Investeeringute elluviimine ja toetusraha kasutamine (T. Suur\, SA Erametsakeskuse) \n14.30 – 15.30 Metsandustoetuste saamise tingimused\, taotluste esitamine ja taotluste menetlemine T. Suur) \n15.30 – 15.50 Kohvipaus \n15.50 – 16.30 Metsaala arengu ja metsade elujõulisuse parandamise investeeringutoetuse kontroll Natura 2000 kohapealne kontroll(G. Reinapu // V. Kütt SA Erametsakeskus) \n16.30 – 17.10 Investeeringute elluviimine ja toetusraha kasutamine(Kadri-Aija Viik\, Ühinenud Metsaomanikud juhatuse esimees) \n17.10 – 17.30 Küsimused\, arutelu\, kokkuvõtted (K. Hindriks)                                     \n  \nInfopäeval osalemiseks palume TÄHTAEGSELT REGISTREERUDA  SIIN . \nNB! Eelregistreerimine on vajalik ning ka väga oluline lisapaberite (vajadusel) vormistamiseks ning toitlustuse tellimiseks. \nLisainfo info@epkk.ee \, tel 600 9349 (juhiabi Maire Vimb). \nMAK Infopäevade korraldamist toetab Euroopa Liit
URL:https://www.pikk.ee/sundmus/erametsanduse-toetuste-infopaev-parnus/
LOCATION:Pärnumaa\, Pärnumaa\, Eesti
CATEGORIES:Metsandus
END:VEVENT
BEGIN:VEVENT
DTSTART;VALUE=DATE:20190129
DTEND;VALUE=DATE:20190131
DTSTAMP:20260426T021933
CREATED:20181119T132117Z
LAST-MODIFIED:20181119T132117Z
UID:10007163-1548720000-1548892799@www.pikk.ee
SUMMARY:Teabepäev konsulentidele
DESCRIPTION:Info lisamisel
URL:https://www.pikk.ee/sundmus/teabepaev-konsulentidele-2/
LOCATION:Lääne-Virumaa\, Lääne-Virumaa\, Eesti
END:VEVENT
BEGIN:VEVENT
DTSTART;VALUE=DATE:20190130
DTEND;VALUE=DATE:20190131
DTSTAMP:20260426T021933
CREATED:20181220T160444Z
LAST-MODIFIED:20190129T113336Z
UID:10007201-1548806400-1548892799@www.pikk.ee
SUMMARY:Tasuta ühistegevuse infopäev: "Kuidas lahendada konflikte?"
DESCRIPTION:Eesti Maaülikool\, Fr. R. Kreutzwaldi 1A\, Tartu 51014\, ruum 0045. \n\nEesti Maaülikool korraldab “Teadmussiirde pikaajaline programm ühistegevuse tegevusvaldkonnas” raames tasuta infopäeva teemal: “Kuidas lahendada konflikte?”. Tegemist on pikaajalise programmiga ja selle raames toimub mitmeid infopäevi\, täienduskoolitusi\, õpiringe\, konverentse ning ettevõtete külastusi nii Eestis kui ka välisriikides. \n30.01.2019 infopäevast võivad osa võtta põllumajandustoodete tootmise ja töötlemise\, põllumajandusmaa hooldamise või põllumajandustoodetest mittepõllumajandustoodete töötlemisega tegelev füüsiline isik\, füüsilisest isikust ettevõtja ja tema töötaja ning eraõigusliku juriidilise isiku osanik\, aktsionär\, liige\, juhtorgani liige ja tema töötaja või isik\, kellele on antud kutseseaduses sätestatud alusel ja korras konsulendi kutse või kes tegeleb põllu- või maamajandusliku nõustamisteenuse osutamisega. \nOotame osalema ühistute juhtkonda ja nõukogu. \n30.01.2019 infopäeva ajakava: \n10:45 – 11:00 Registreerimine \n11:00 – 12:30 Usalduse loomine ja konfliktide ennetamine ühistus \n12:30 – 13:00 Kohvipaus \n13:00 – 14:30 Töövormid konfliktsete teemade arutamiseks \n14:30 – 14:45 Tagasiside \nLektoriks on HAL Koolitus OÜ koolitaja Ene Seidla.\n \nEttekanne: Kuidas lahendada konflikte – Ene Seidla 30.01.2019 \nEelregistreerimine toimub kuni 24.01.2019\, osalejate arv on piiratud. Lisainfo saamiseks ja eelregistreerimiseks palume saata e-mail programmi assistendile: liis.volli[A]emu.ee. Eelregistreerimiseks palume osalejatel saata järgnev informatsioon: ettevõtlusvorm ja nimi; ettevõtlusvaldkond; reg. number; osaleja nimi; osaleja ametikoht; osaleja isikukood; osaleja telefoninumber. \nRegistreerimisel esitatud isikuandmed edastatakse Põllumajanduse Registrite ja Informatsiooni Ametile\, kuna ühistegevuse teadmussiirde pikaajalise programmi tegevusi toetatakse Euroopa Maaelu Arengu Põllumajandusfondist. \nNB! Eelregistreerimine on tingimata vajalik! \n  \nLisainformatsioon ja küsimused: liis.volli[A]emu.ee või tel: +372 51 92 9840 (programmi assistent Liis Võlli). \nyhistegevus.emu.ee \nfacebook.com/yhistegevus \ninstagram.com/yhistegevus \nInfopäeva korraldamist toetab Euroopa Maaelu Arengu Põllumajandusfond. \nKoostöös teeme paremini!
URL:https://www.pikk.ee/sundmus/tasuta-uhistegevuse-infopaev-kuidas-lahendada-konflikte/
LOCATION:Tartumaa\, Eesti
CATEGORIES:Aiandus,Bioenergia ja biomajandus,Finantsmajandus,Keskkond,Loomakasvatus,Maaettevõtlus,Metsandus,Taimekaitse,Taimekasvatus,Toiduainete tootmine,Turundus,Ühistegevus
GEO:58.4057128;26.801576
END:VEVENT
BEGIN:VEVENT
DTSTART;VALUE=DATE:20190131
DTEND;VALUE=DATE:20190201
DTSTAMP:20260426T021933
CREATED:20181212T131519Z
LAST-MODIFIED:20200106T104104Z
UID:10009093-1548892800-1548979199@www.pikk.ee
SUMMARY:Infopäev Bioturvalisus ja taudiennetus loomapidamises - lihaveisekasvatus
DESCRIPTION:Infopäev: Bioturvalisus ja taudiennetus loomapidamises – lihaveisekasvatus \nToimumisaeg: 31.01.2019 \nToimumiskoht: Ida-Viru maakond\, Ida-Virumaa Talupidajate Liidu õppeklass\, Rakvere tn.27\, Jõhvi \nAjakava:\n10:00 – 11:30 õppetöö\n11:30 – 12:00 kohvipaus\n12:00 – 13:30 õppetöö \nInfopäeva rõhuasetus on lihaveisekasvatusel. \nKäsitletavad teemad:\nKarja tervishoiu üldpõhimõtted\nKuidas kaitsta karja nakkushaiguste sissetoomise eest?\nBioturvalisuse meetmed ja nende rakendamine\nBioturvalisuse protseduurid \nÕppejõud: Alar Onoper\, vanemloomaarst\, Eesti Maaülikool Veterinaarmeditsiini ja loomakasvatuse instituut kliinilise veterinaarmeditsiini õppetool \nMaterjaliga on võimalik tutvuda SIIT \nInfopäev toimub programmi “Teadmussiirde pikaajaline programm loomakasvatuse valdkonnas” raames ja on sihtrühma kuulujatele tasuta. \nProgrammi eesmärk on tõsta loomakasvatussektoris (v.a. vesiviljelus) tegelevate ettevõtjate ja töötajate teadmiste taset teemadel\, mis on seotud põllumajandusloomade pidamise\, söötmise\, heaolu\, tervise\, taudiennetuse\, aretuse ja geneetiliste ressursside säilitamise\, ohutu ja kvaliteetse sööda\, ning esmase töötlemise kaudu lisandväärtuse loomisega \nVajalik eelreistreerumine: https://ois.emu.ee/pls/ois/!tere.tulemast?leht=OK.AY.VP&id_ay_programm=8743&id_ay_toimumine=12725&systeemi_seaded=3\,1\,12\,1\, \nLähem info koolituse korraldajalt:\nEesti Maaülikooli avatud ülikool\nFr. R. Kreutzwaldi 56 (III korrus\, ruumid 303-306)\, 51014 Tartu\,\ntel 731 3174\, 731 3175\, 731 3275\, 534 41844\ne-post: avayl@emu.ee\nhttp://avatudylikool.emu.ee/ \n 
URL:https://www.pikk.ee/sundmus/infopaev-bioturvalisus-ja-taudiennetus-loomapidamises-lihaveisekasvatus/
LOCATION:Ida-Virumaa\, Ida-Virumaa\, Eesti
CATEGORIES:Loomakasvatus
GEO:59.2592663;27.4136535
END:VEVENT
BEGIN:VEVENT
DTSTART;VALUE=DATE:20190131
DTEND;VALUE=DATE:20190201
DTSTAMP:20260426T021933
CREATED:20190115T125557Z
LAST-MODIFIED:20190115T125630Z
UID:10009118-1548892800-1548979199@www.pikk.ee
SUMMARY:Konverents „Ettevõtete ressursitõhususe suurendamine ja toetused lahenduste soetamiseks“
DESCRIPTION:Starfeld OÜ koostöös Keskkonnainvesteeringute Keskusega korraldab 31. jaanuaril Tartus ressursitõhususe konverentsi „Ettevõtete ressursitõhususe suurendamine ja toetused lahenduste soetamiseks.“ Konverents toimub aadressil Aretuse 2\, kell 10.00-15.00. \nKonverentsi eesmärgiks on tutvustada ettevõtetele lahendusi\, mis aitavad säästa energiat ja toorainet. Põhilisteks teemadeks on päikeseenergia\, soojusenergia ning tootmisjääkide kogumine ning kasutamine. Starfeld OÜ tutvustab biokatlaid\, imurisüsteeme ning 50 kW päikeseelektijaama lahendust. Keskkonnainvesteeringu keskuse esindajad tutvustavad ettevõtete energia- ja ressursitõhususe ning kaugküttesüsteemide investeeringute programmi. \nAjakava:\n09:30 – 10:00      Kogunemine\, registreerimine\, hommikukohv\n10:00 – 10:30      Päikeseenergia – 50 kW päikeseelektrijaam – 1500€ sissemakse ja positiivne rahavoog juba esimesel aastal\, Martin Lall\n10:30 – 11.00      Imurisüsteem tootmisjääkide kogumiseks ja võimalused ümbertöötlemiseks\, Madis Müürsepp\n11:00 – 11:30      Ettevõtete energia- ja ressursitõhususe programm\, Aire Arike-Trutin\n11:30 – 12:00      Töökohapõhised imurid ja nende kasutamisvõimalused\, Madis Müürsepp\n12:00 – 12:45      Energiapaus ja arutelud\n12:45 – 13:15      Kaugkütte lahendused – katlamaja vs konteinerkatlamaja\, Mikk Miidla\n13:15 – 13.45      Korteriühistud ja väiketarbijad – lokaalne küte vs kaugküte\, Imre Tamme\n13:45 – 14:15      Kaugküttesüsteemide investeeringute programm\, Kristjan Kalda\n14:15 – 15:00      Arutelud \nKonverentsil osalemine on tasuta\, kuid vajalik eelnev registreerimine: \nhttps://goo.gl/forms/jujmvH5zHGfpTXX32 \nLisainfo: \nGrete Aare\n+372 56 969 727\ninfo@starfeld.ee\nwww.starfeld.ee \n 
URL:https://www.pikk.ee/sundmus/17647/
LOCATION:Tartumaa\, Eesti
GEO:58.4057128;26.801576
END:VEVENT
BEGIN:VEVENT
DTSTART;VALUE=DATE:20190131
DTEND;VALUE=DATE:20190201
DTSTAMP:20260426T021933
CREATED:20190116T130411Z
LAST-MODIFIED:20190204T102334Z
UID:10009121-1548892800-1548979199@www.pikk.ee
SUMMARY:Väetusplaani koostamine
DESCRIPTION:Tartumaa Põllumeeste Liit korraldab tasuta infopäevad \nVäetusplaani koostamine \n31.jaanuaril algusega 12.00 Kuressaare ametikoolis ruum K4                                                                                                                                                             1. 1.  veebruaril algusega 11.30 Kärdlas Leigri väljak 5 saalis \nKonsulent ja EMÜ lektor Indrek Keres käsitleb teemasid: \n\nEesti põllumuldade toitainete bilanss\ntaimede kasvufaasid ning toitainete vajadus erinevates kasvufaasides\nseadusega lubatud toitaine kogused\nmullaproovide tulemuste kasutamine\nväetusplaani koostamse praktiline harjutamine. \n\n Ettekanne: Väetusplaan 2019 \nSoovitame osaleda nii looma- kui taimekasvatajatel\, et vältida sanktsioone (Keskkonnaamet ja -inspektsioon on tõhustanud kontrolle just väetusplaanide täitmise osas). \nVäetusplaani peavad pidama kõik need\, kes kasutavad üle 50 ha haritavat maad. \nRegistreerimine: \nKuressaares       https://goo.gl/forms/3WBpyMjDelZdoIHb2 \nKärdlas               https://goo.gl/forms/k9erwlxStZIYswXe2 \nRegistreerida saab ka tel 736 6955 või merry@kodu.ee.
URL:https://www.pikk.ee/sundmus/vaetusplaani-koostamine-12/
LOCATION:Saaremaa\, Saaremaa
CATEGORIES:Taimekasvatus
GEO:58.3705526;22.6876383
END:VEVENT
BEGIN:VEVENT
DTSTART;VALUE=DATE:20190201
DTEND;VALUE=DATE:20190202
DTSTAMP:20260426T021933
CREATED:20181126T090241Z
LAST-MODIFIED:20190125T083635Z
UID:10009069-1548979200-1549065599@www.pikk.ee
SUMMARY:Toiduhügieen ja enesekontroll eraelamus toidu valmistamisel
DESCRIPTION:Täpsem info ja registreerumine: https://lingid.ee/eraelamus1 \n. \nTäienduskoolitusest võivad osa võtta:\n– põllumajandustoodete töötlemise või turustamisega tegelev füüsilisest isikust ettevõtja ja tema töötaja ning eraõigusliku juriidilise isiku osanik\, aktsionär\, liige\, juhtorgani liige ja tema töötaja;\n– põllumajandustoodetest mittepõllumajandustoodete töötlemise sh toidu valmistamise või töötlemisega tegelev füüsilisest isikust ettevõtja ja tema töötaja ning eraõigusliku juriidilise isiku osanik\, aktsionär\, liige\, juhtorgani liige ja tema töötaja;\n– toidu valmistamise või töötlemisega tegelev avalik-õigusliku juriidilise isiku juhtorgani liige või töötaja;\n– põllumajandustootjate valdkonda teenindavad isikud (nt kokkuostuga tegelevate ettevõtete töötajad);\n– isikud (FIE-d või ettevõtte esindajad)\, kes koguvad teadmisi uue tegevusvaldkonna kohta;\n– põllumajanduslike esindus- ja erialaorganisatsioonide (MTÜ-d\, mille liikmeteks on põllumajandussaaduste töötlejad) juhatuse liikmed ja töötajad. \nFüüsiliste isikute ja riigiametnike täienduskoolitusel osalemine ei ole toetatav! \nTegevust finantseeritakse Eesti maaelu arengukava 2014-2020 meetme 1 “Teadmussiire ja teavitus” tegevuse “Pikaajalised programmid” raames ja on sihtrühma kuulujatele tasuta. \nNB! Teavitame! Antud koolitustegevuses osalemine on osaleja jaoks vähese tähtsusega abi. \nKoolituse korraldaja:\nEesti Maaülikooli avatud ülikool\nFr. R. Kreutzwaldi 56/1\n51006 Tartu\,\ntel 731 3275\, 731 3174\, 534 41844\ne-post: avayl@emu.ee\nhttp://avatudylikool.emu.ee/ \n 
URL:https://www.pikk.ee/sundmus/toiduhugieen-ja-enesekontroll-eraelamus-toidu-valmistamisel-2/
LOCATION:Tartumaa\, Eesti
CATEGORIES:Toiduainete tootmine
GEO:58.4057128;26.801576
END:VEVENT
BEGIN:VEVENT
DTSTART;VALUE=DATE:20190201
DTEND;VALUE=DATE:20190202
DTSTAMP:20260426T021933
CREATED:20190107T125225Z
LAST-MODIFIED:20190107T125225Z
UID:10009109-1548979200-1549065599@www.pikk.ee
SUMMARY:Põllumajandusloomade transport vastavalt loomakaitsenõuetele\, pädevuskoolitus
DESCRIPTION: \n\n\nToimumisaeg\n01.02.2019\n\n\nMaht\n8 akadeemilist tundi\n\n\nToimumiskoht\nTartu linn\nEesti Maaülikool\nKreutzwaldi 56/1\nauditoorium A305 III korrusel (saab tulla trepist või liftiga)\n\n\nAjakava \n10:00 – 11.30 õppetöö\n11:30 – 11:45 kohvipaus\n11:45 – 13:15 õppetöö\n13:15 – 13:45 lõuna\n13:45 – 15:15 õppetöö\n15:15 – 15:20 paus\n15:20 – 16.50 õppetöö \n10:00 – 11.30 õppetöö (10.00 – 10.15 Loomade vedamise üldtingimused; 10.15 – 10.30 vajalikud korraldused teekonna lühendamiseks ja teekonna vältel loomade vajaduste rahuldamiseks; 10.30- 10.50 loomade veovalmidus koos pildimaterjaliga; 10.50 – 11.30 veovahendite konstruktsioon\, ehitus\, korrashoid ja käitus koos kursuse tarvis loodava videoga erinevate veovahendite sobivuse tutvustusega) \n11:45 – 13:15 õppetöö (11.45 – 12.30 peale- ja mahalaadimisseadeldised ning nende kasutamine; 12.30 – 12.45 nõuded ja soovitused loomi hooldavale personalile; 12.45 – 12.55 loomade heaolu tagamine ja kontrollimine veo kestel; 12.55 – 13.15 loomadele piisava põrandapinna ja ruumi kõrguse nõuded\, arvestades loomade suurust ja kavandatavat teekonda) \n13:45 – 15:15 õppetöö (13.45 – 14.15 loomade liigist sõltuvalt sobivate ajavahemikega piisava kvaliteediga ja piisavas koguses loomade jootmise ja söötmise nõuded ning puhkuse võimaldamine; 14.15 – 14.40 veodokumendid ja nende täitmine 14.40 – 15.15 loomade füsioloogia ja eelkõige joogi- ja söödavajadus\, loomade käitumine ja stressi mõiste)\n15.20 – 16.50 õppetöö (15.20 – 15.40 loomade käsitsemise praktilised aspektid; 15.40 – 16.00 juhtimisviisi mõju veetavate loomade heaolule ja liha kvaliteedile; 16.00 – 16.20 loomadele esmaabi osutamine; 16.20 – 16.30 loomi käsitseva personali ohutus; 16.30 – 16.50 kirjalik eksam \nÕppekava kinnitamise teade 03.05.2018 nr 4.2-6/2458-1\nKoolitus läheb arvesse loomade heaolu toetuse taotlemisel.\n\n\nÕppekeel\neesti keel\n\n\nÕppejõud\nTerje Elias\, PhD\, DVM Eesti Maaülikooli Veterinaarmeditsiini ja loomakasvatuse instituudi toiduhügieeni ja rahvatervise õppetooli dotsent\n\n\n\n\n\n\n\n\n\n\n\n\n\n\n\nHinnainfo\nKoolitus toimub programmi\n“Teadmussiirde pikaajaline programm loomakasvatuse valdkonnas” raames ja on sihtrühma kuulujatele tasuta.\n\n\nSihtrühm\nPõllumajandustoodete tootmise\, töötlemise või turustamisega\, põllumajandusmaa hooldamisega\, põllumajandustoodetest mittepõllumajandustoodete töötlemisega\, sealhulgas toidu valmistamise või töötlemisega\, või metsa majandamisega seotud või nimetatud tegevusega tegelev füüsilisest isikust ettevõtja ja tema töötaja\, eraõigusliku juriidilise isiku osanik\, aktsionär\, liige\, juhtorgani liige ja tema töötaja\, metsa majandamisega tegelev füüsiline isik ja toidu valmistamise või töötlemisega tegelev avalik-õiguslik juriidilise isiku juhtorgani liige või töötaja.\nLisaks valdkonna teenindamisega tegelejad (nt loomasööda\, veterinaarravimite müüjad)\, oma ettevõtte tegevusvaldkonda laiendada soovijad\, põllumajanduslike esindus- ja erialaorganisatsioonide juhatuse liikmed ja töötajad. \nKoolitus toimub programmi “Teadmussiirde pikaajaline programm loomakasvatuse valdkonnas” raames. \nProgrammi eesmärk on tõsta loomakasvatussektoris (v.a. vesiviljelus) tegelevate ettevõtjate ja töötajate teadmiste taset teemadel\, mis on seotud põllumajandusloomade pidamise\, söötmise\, heaolu\, tervise\, taudiennetuse\, aretuse ja geneetiliste ressursside säilitamise\, ohutu ja kvaliteetse sööda\, ning esmase töötlemise kaudu lisandväärtuse loomisega.\n\n\n \n\n\nSisu\n– Farmist tapamajani põllumajandusloomadega kohalduv seadusandlus (loomakaitseseadus ja määrus 1/2005);\n– Määruse 1/2005 reguleerimisala\, mõisted ja loomade vedamise üldtingimused;\n– Korraldajad\, vedajad\, loomapidajad ja kogumiskeskused\nVeovalmidus\, veovahendid\nKõigile veovahenditele kohaldatavad sätted\nTäiendavad sätted auto- ja raudteevedude korral\nLisatingimused loomade vedamisel veeremilaevadega\nLisatingimused loomade vedamisel õhutranspordiga\nLisatingimused loomade vedamisel konteinerites\nVeotavad\nPeale- ja mahalaadimine ning hooldamine\nVahendid ja menetlused\nHooldamine\nEraldamine\nVedamise ajal kontrollimine\nTäiendavad tingimused loomaveolaevadele ja merekonteinereid vedavatele laevadele\nNõuded loomaveolaevade ehitusele ja seadmetele\nVee ja söödaga varustamine loomaveolaevadel ja merekonteinereid vedavatel laevadel\nJootmise ja söötmise ajavahemik\, teekonna kestus ja puhkeajad\nTäiendavad tingimused koduhobuslaste\, koduloomadena peetavate veiste\, lammaste\, kitsede ja sigade pikaajalise veo korral\nRuuminõuded\nTeekonnaleht\nVõimalusel tutvutakse erinevate loomaveokitega ning hinnatakse nende sobivust loomade transpordiks\n\n\n\n\n\n\n\n\n\n \n\n\nRegistreerumise tähtaeg\n28.01.2019\nhttps://ois.emu.ee/pls/ois/!tere.tulemast?leht=OK.AY.VP&id_ay_programm=8764&id_ay_toimumine=12864&systeemi_seaded=3\,1\,12\,1\,\n\n\n\n\n\n\n\nEesti Maaülikooli avatud ülikool\nFr. R. Kreutzwaldi 56 (III korrus\, ruumid 303-306)\, 51006 Tartu\, \ntel 731 3174\, 731 3175\, 731 3275\, 534 41844 \ne-post: avayl@emu.ee
URL:https://www.pikk.ee/sundmus/pollumajandusloomade-transport-vastavalt-loomakaitsenouetele-padevuskoolitus-2/
LOCATION:Tartumaa\, Eesti
CATEGORIES:Loomakasvatus
GEO:58.4057128;26.801576
END:VEVENT
BEGIN:VEVENT
DTSTART;VALUE=DATE:20190201
DTEND;VALUE=DATE:20190202
DTSTAMP:20260426T021933
CREATED:20190116T131146Z
LAST-MODIFIED:20190204T102514Z
UID:10009120-1548979200-1549065599@www.pikk.ee
SUMMARY:Väetusplaani koostamine
DESCRIPTION:Tartumaa Põllumeeste Liit korraldab tasuta infopäevad \nVäetusplaani koostamin  \n31. jaanuaril algusega 12.00 Kuressaare ametikoolis ruum K4                                                                                                                                                             1.     1. veebruaril algusega 11.30 Kärdlas Leigri väljak 5 saalis \nKonsulent ja EMÜ lektor Indrek Keres käsitleb teemasid: \n\nEesti põllumuldade toitainete bilanss\ntaimede kasvufaasid ning toitainete vajadus erinevates kasvufaasides\nseadusega lubatud toitaine kogused\nmullaproovide tulemuste kasutamine\nväetusplaani koostamse praktiline harjutamine.\n\nEttekanne: Väetusplaan 2019  \nSoovitame osaleda nii looma- kui taimekasvatajatel\, et vältida sanktsioone (Keskkonnaamet ja -inspektsioon on tõhustanud kontrolle just väetusplaanide täitmise osas). \nVäetusplaani peavad pidama kõik need\, kes kasutavad üle 50 ha haritavat maad. \nRegistreerimine \nKuressaares       https://goo.gl/forms/3WBpyMjDelZdoIHb2 \nKärdlas               https://goo.gl/forms/k9erwlxStZIYswXe2 \nRegistreerida saab ka tel 736 6955 või merry@kodu.ee.
URL:https://www.pikk.ee/sundmus/vaetusplaani-koostamine-13/
LOCATION:Hiiumaa\, Hiiumaa\, Eesti
CATEGORIES:Taimekasvatus
END:VEVENT
END:VCALENDAR