BEGIN:VCALENDAR
VERSION:2.0
PRODID:-//PIKK.ee - ECPv6.13.2.1//NONSGML v1.0//EN
CALSCALE:GREGORIAN
METHOD:PUBLISH
X-WR-CALNAME:PIKK.ee
X-ORIGINAL-URL:https://www.pikk.ee
X-WR-CALDESC:Events for PIKK.ee
REFRESH-INTERVAL;VALUE=DURATION:PT1H
X-Robots-Tag:noindex
X-PUBLISHED-TTL:PT1H
BEGIN:VTIMEZONE
TZID:Europe/Tallinn
BEGIN:DAYLIGHT
TZOFFSETFROM:+0200
TZOFFSETTO:+0300
TZNAME:EEST
DTSTART:20190331T010000
END:DAYLIGHT
BEGIN:STANDARD
TZOFFSETFROM:+0300
TZOFFSETTO:+0200
TZNAME:EET
DTSTART:20191027T010000
END:STANDARD
END:VTIMEZONE
BEGIN:VEVENT
DTSTART;VALUE=DATE:20190513
DTEND;VALUE=DATE:20190514
DTSTAMP:20260425T153858
CREATED:20190315T070326Z
LAST-MODIFIED:20190315T070410Z
UID:10009206-1557705600-1557791999@www.pikk.ee
SUMMARY:Projekti „Jänijõe keskkonnaseisundi parandamine“ lõpuseminar
DESCRIPTION:Kõik põllumajandustootjad ja teised huvilised on oodatud veekeskonnakaitselisele seminarile\, mis keskendub näitena Jänijõele ja selle ümbrusele. \n13. mai 2019  toimub Jäneda külalistemajas projekti „Jänijõe keskkonnaseisundi parandamine“ lõpuseminar.\nSeminar toimub Jäneda külalistemaja seminariruumis algusega 10.00 ja lõpeb orienteeruvalt 16.00. Üritus on tasuta ja avatud kõigile huvilistele. \nSeminaril räägitakse Keskkonnainvesteeringute Keskuse poolt rahastatud projekti “Jänijõe keskkonnaseisundi parandamine” tulemustest ning antakse ülevaade veekogu tervendamise alasest kogemusest Jänijõe näitel. Tehtud keskkonnaparanduslikest töödest annavad ülevaate Eestimaa Looduse Fondi ja Põllumajandusameti eksperdid. \nInfopäeval osalemiseks palume registreeruda (https://bit.ly/2UFHtuc) hiljemalt 10.05.2019. Registreerida saab ka elf@elfond.eevõi telefonil 7428443 \nKüsimuste korral kirjutada janijogi@elfond.ee \nJänijõe projekti koduleht: http://elfond.ee/teoksil/loodusharidus-ja-teavitus/janijoe-keskkonnaseisundi-parandamine \n 
URL:https://www.pikk.ee/sundmus/projekti-janijoe-keskkonnaseisundi-parandamine-lopuseminar/
LOCATION:Lääne-Virumaa\, Lääne-Virumaa\, Eesti
CATEGORIES:Keskkond
END:VEVENT
BEGIN:VEVENT
DTSTART;VALUE=DATE:20190514
DTEND;VALUE=DATE:20190515
DTSTAMP:20260425T153858
CREATED:20190425T132637Z
LAST-MODIFIED:20190517T065702Z
UID:10007367-1557792000-1557878399@www.pikk.ee
SUMMARY:Infopäev välislektoriga – Karja tervis lihaveisekasvatuses
DESCRIPTION:Infopäev toimub teisipäev 14.mai. 2019 Olustvere Teenindus ja Maamajanduskoolis \n  \nAjakava: \n11.00 – 11.30 Kogunemine\, registreerimine.\n11.30 – 13.00 Loeng\n13.00 – 13.15 Paus\n13.15 – 14.45 Loeng\n14.45 – 15.00 Paus\n15.00 – 15.45 Loeng\n15.45 – 16.00 Arutelu\, kokkuvõtted. \nEttekanded:\nLihakarja bioturvallisus\nAmmede seleenintarve\nKarja tervis lihaveisekasvatuses \n\nLektor: Sanni Kallio\, lihaveisetervishoiule spetsialiseerunud loomaarst. Lehmälääkärit.com OY Soome.  https://lehmalaakarit.com/elainlaakarit/ \nTõlgib : Hertta Pirkkalainen\, produktiivloomade peaarst\, Eesti Maaülikool \n  \nÕppe sisu: Infopäeval osalenu on saanud ülevaate ammlehmade tervishoidu mõjutavatest teguritest\, viljakusest\, söötmisest ja seleenist. Nõrgalt sündinud vasikate hooldusest ja vasikate kõhulahtisusest. Haiguste ennetamisest rakendades farmi siseseid ja – väliseid  bioohutusmeetmeid. \nSihtgrupp: \nPõllumajandustoodete tootmise\, töötlemise või turustamisega\, põllumajandusmaa hooldamisega\, põllumajandustoodetest mittepõllumajandustoodete töötlemisega\, sealhulgas toidu valmistamise või töötlemisega\, või metsa majandamisega seotud või nimetatud tegevusega tegelev füüsilisest isikust ettevõtja ja tema töötaja\, eraõigusliku juriidilise isiku osanik\, aktsionär\, liige\, juhtorgani liige ja tema töötaja\, metsa majandamisega tegelev füüsiline isik ja toidu valmistamise või töötlemisega tegelev avalik-õiguslik juriidilise isiku juhtorgani liige või töötaja.\nLisaks valdkonna teenindamisega tegelejad (nt loomasööda\, veterinaarravimite müüjad)\, oma ettevõtte tegevusvaldkonda laiendada soovijad\, põllumajanduslike esindus- ja erialaorganisatsioonide juhatuse liikmed ja töötajad ning kõik teemast huvitatud isikud. \n  \nInfopäev toimub programmi “Teadmussiirde pikaajaline programm loomakasvatuse valdkonnas” raames ning on sihtrühmale tasuta\, osalejatele väljastatakse tõend. \n  \nVajalik eelregistreerimine\,  tähtaeg kuni 09.mai 2019. https://docs.google.com/forms/d/17oJb0A-0AXimG5qjbxO56rvMHiSG8qDPmfX3ArJ4vQw/ \n  \nKontakt Marika Oeselg marika.oeselg@gmail.com
URL:https://www.pikk.ee/sundmus/infopaev-valislektoriga-karja-tervis-lihaveisekasvatuses/
LOCATION:Viljandimaa\, Viljandimaa\, Eesti
CATEGORIES:Loomakasvatus
GEO:58.2821746;25.5752233
END:VEVENT
BEGIN:VEVENT
DTSTART;VALUE=DATE:20190516
DTEND;VALUE=DATE:20190517
DTSTAMP:20260425T153858
CREATED:20190118T093853Z
LAST-MODIFIED:20190118T093853Z
UID:10009124-1557964800-1558051199@www.pikk.ee
SUMMARY:Toiduhügieen
DESCRIPTION:Täpsem info ja registreerumine aadessil: https://ois.emu.ee/pls/ois/!tere.tulemast?leht=OK.AY.VP&id_ay_programm=329&id_ay_toimumine=12924&systeemi_seaded=3\,1\,12\,1\, \nKoolituse korraldaja:\nEesti Maaülikooli avatud ülikool\nFr. R. Kreutzwaldi 56/1\n51006 Tartu\,\ntel 731 3174\, 731 3175\, 731 3275\, 534 41844\ne-post: avayl@emu.ee\nhttp://avatudylikool.emu.ee/
URL:https://www.pikk.ee/sundmus/toiduhugieen-3/
LOCATION:Tartumaa\, Eesti
CATEGORIES:Toiduainete tootmine
GEO:58.4057128;26.801576
END:VEVENT
BEGIN:VEVENT
DTSTART;VALUE=DATE:20190517
DTEND;VALUE=DATE:20190518
DTSTAMP:20260425T153858
CREATED:20190410T132846Z
LAST-MODIFIED:20190410T132846Z
UID:10009254-1558051200-1558137599@www.pikk.ee
SUMMARY:Infopäev „Termofiilsed ja termotolerantsed mikroobid toiduainetetööstuses.“
DESCRIPTION:BioCC OÜ korraldab Tartus tasuta infopäeva toiduainete mikrobioloogiast. Käsitletavad teemad:  Termotolerantsed bakterid piimas ja teistes toidutoormetes ning biokirme osa selles. Termofiilsed termotolerantsed bakterid\, mesofiilsed termotolerantsed bakterid\, psührofiilsed termotolerantsed bakterid ja võihappebakterid.  Infopäev hõlmab loengut ja praktilist osa laboris. Töö toimub kahes grupis. Läbiviijad: BioCC OÜ vanemteadurid Priit Elias\, Epp Songisepp ja teadur Liina Kuus. \nPäevakava:  \n9.30-10.00      Registreerimine\, hommikukohv \n10.00-12.15    Termotolerantsed bakterid piimas ja teistes toidutoormetes\, biokirme osa selles \nTermofiilsed termotolerantsed bakterid\, mesofiilsed termotolerantsed bakterid\, psührofiilsed termotolerantsed bakterid\, võihappebakterid \nTermotolerantsed bakterid\, lähivaade valitud mikroobigruppidele ja liikidele \nParalleelselt toimub praktiline osa laboris: Mikrobioloogilised analüüsid\, töövõtted\, söötmed\, tuvastamine. \n12.15-13.00   Lõuna \n13.00-15.15 Termotolerantsed bakterid piimas ja teistes toidutoormetes\, biokirme osa selles \nTermofiilsed termotolerantsed bakterid\, mesofiilsed termotolerantsed bakterid\, psührofiilsed termotolerantsed bakterid\, võihappebakterid \nTermotolerantsed bakterid\, lähivaade valitud mikroobigruppidele ja liikidele \nParalleelselt toimub praktiline osa laboris: Mikrobioloogilised analüüsid\, töövõtted\, söötmed\, tuvastamine. \n 15.15- 16.00   Arutelu\, küsimustele vastamine \n  \nInfopäev toimub MAK 2014-2020 meetme „Teadmussiirde pikaajaline programm toiduohutuse tegevusvaldkonnas“ raames\, läbiviimist toetab Euroopa Liit. \nInfopäevast võivad osa võtta kõik valdkonnas tegutsevad või sellest huvitatud isikud. Tegemist on vähese tähtsusega abiga\, abisumma on 72 eurot ühe osaleva inimese kohta. Osalemine on tasuta\, kui ettevõtte vähese tähtsusega abi määr ei ole ületatud. Ettevõtte vähese tähtsusega abi (VTA) vaba jääki saab kontrollida veebilehelt https://www.rahandusministeerium.ee/et/riigiabi \n  \nRegistreerimine toimub toiduteave.ee veebilehel.
URL:https://www.pikk.ee/sundmus/infopaev-termofiilsed-ja-termotolerantsed-mikroobid-toiduainetetoostuses/
LOCATION:Tartumaa\, Eesti
CATEGORIES:Toiduainete tootmine
GEO:58.4057128;26.801576
END:VEVENT
BEGIN:VEVENT
DTSTART;VALUE=DATE:20190517
DTEND;VALUE=DATE:20190518
DTSTAMP:20260425T153858
CREATED:20190418T125941Z
LAST-MODIFIED:20190516T063431Z
UID:10007362-1558051200-1558137599@www.pikk.ee
SUMMARY:KOOLITUS EDASI LÜKATUD\, UUS KUUPÄEV SELGUMAS. Koolitus“ Täienduskoolitus toiduainete töötlemise või põllumajanduse väikeettevõtte turundusest“
DESCRIPTION:Koolitus“ Täienduskoolitus toiduainete töötlemise või põllumajanduse väikeettevõtte turundusest“ \nOlustvere Teenindus- ja Maamajanduskool korraldab PRIA meetme 1.1 raames koolituse \n“Täienduskoolitus toiduainete töötlemise või põllumajanduse väikeettevõtte turundusest” \n24 tundi. Koolitus toimub 17 ja 27.mai ning 12.juuni  10.00 – 17.15\nOlustvere Teenindus- ja Maamajanduskoolis\, Müüri 4\, Olustvere\, Viljandi mk. \n 17.mai\n10.00 – 11.30  –   Turundusmeetmestik\, sihtrühma kaardistamine\, sihtrühma vajaduste analüüs\, kliendiprofiili loomine\, turunduskanalid\, turundussuhtlus\, turundussõnum\, müügiedendus ja müügitoetus\, bränd\, kaubamärk – koolitaja Tiiu Ohvril \n11.30 – 11.45 – Kohvipaus \n11.45– 13.15 –  Turundusmeetmestik\, sihtrühma kaardistamine\, sihtrühma vajaduste analüüs\, kliendiprofiili loomine\, turunduskanalid\, turundussuhtlus\, turundussõnum\, müügiedendus ja müügitoetus\, bränd\, kaubamärk – koolitaja Tiiu Ohvril \n13.15– 14.00 – Lõuna \n14.00 – 15.30 – Turundusmeetmestik\, sihtrühma kaardistamine\, sihtrühma vajaduste analüüs\, kliendiprofiili loomine\, turunduskanalid\, turundussuhtlus\, turundussõnum\, müügiedendus ja müügitoetus\, bränd\, kaubamärk – koolitaja Tiiu Ohvril \n15.30 – 15.45 – Kohvipaus \n15.45 – 17.15 – Internetiturunduse võimalused: äpid\, Google adwords\, sõnumiturundus\, massturundus\, imago ja brändi-kommunikatsioon\, sotsiaalvõrgustik\, erinevad platvormid\, blogid\,  sotsiaalvõrgustikud  – koolitaja Alar Ani \n  \n27.mai\n10.00 – 11.30  –   Turundusmeetmestik\, sihtrühma kaardistamine\, sihtrühma vajaduste analüüs\, kliendiprofiili loomine\, turunduskanalid\, turundussuhtlus\, turundussõnum\, müügiedendus ja müügitoetus\, bränd\, kaubamärk – koolitaja Tiiu Ohvril \n11.30 – 11.45 – Kohvipaus \n11.45– 13.15 –  Turundusmeetmestik\, sihtrühma kaardistamine\, sihtrühma vajaduste analüüs\, kliendiprofiili loomine\, turunduskanalid\, turundussuhtlus\, turundussõnum\, müügiedendus ja müügitoetus\, bränd\, kaubamärk – koolitaja Tiiu Ohvril \n13.15– 14.00 – Lõuna \n14.00 – 15.30 – Turundusmeetmestik\, sihtrühma kaardistamine\, sihtrühma vajaduste analüüs\, kliendiprofiili loomine\, turunduskanalid\, turundussuhtlus\, turundussõnum\, müügiedendus ja müügitoetus\, bränd\, kaubamärk – koolitaja Tiiu Ohvril \n15.30 – 15.45 – Kohvipaus \n15.45 – 17.15 – Internetiturunduse võimalused: äpid\, Google adwords\, sõnumiturundus\, massturundus\, imago ja brändi-kommunikatsioon\, sotsiaalvõrgustik\, erinevad platvormid\, blogid\,  sotsiaalvõrgustikud  – koolitaja Alar Ani \n  \n12.juuni\n10.00 – 11.30  –   Internetiturunduse võimalused: äpid\, Google adwords\, sõnumiturundus\, massturundus\, imago ja brändi-kommunikatsioon\, sotsiaalvõrgustik\, erinevad platvormid\, blogid\,  sotsiaalvõrgustikud  – koolitaja Alar Ani \n11.30 – 11.45 – Kohvipaus \n11.45– 13.15 –  Turundusmeetmestik\, sihtrühma kaardistamine\, sihtrühma vajaduste analüüs\, kliendiprofiili loomine\, turunduskanalid\, turundussuhtlus\, turundussõnum\, müügiedendus ja müügitoetus\, bränd\, kaubamärk – koolitaja Tiiu Ohvril \n13.15– 14.00 – Lõuna \n14.00 – 15.30 – Turundusmeetmestik\, sihtrühma kaardistamine\, sihtrühma vajaduste analüüs\, kliendiprofiili loomine\, turunduskanalid\, turundussuhtlus\, turundussõnum\, müügiedendus ja müügitoetus\, bränd\, kaubamärk – koolitaja Tiiu Ohvril \n15.30 – 15.45 – Kohvipaus \n15.45 – 17.15 – Internetiturunduse võimalused: äpid\, Google adwords\, sõnumiturundus\, massturundus\, imago ja brändi-kommunikatsioon\, sotsiaalvõrgustik\, erinevad platvormid\, blogid\,  sotsiaalvõrgustikud  – koolitaja Alar Ani \n  \nLisainfo:\nMarika Šadeiko\nOlustvere TMK\n+372 4374234\nmarika.shadeiko@olustvere.edu.ee  
URL:https://www.pikk.ee/sundmus/koolitus-taienduskoolitus-toiduainete-tootlemise-voi-pollumajanduse-vaikeettevotte-turundusest/2019-05-17/
LOCATION:Viljandimaa\, Viljandimaa\, Eesti
CATEGORIES:Turundus
GEO:58.2821746;25.5752233
END:VEVENT
BEGIN:VEVENT
DTSTART;VALUE=DATE:20190519
DTEND;VALUE=DATE:20190520
DTSTAMP:20260425T153858
CREATED:20190506T054126Z
LAST-MODIFIED:20200427T085318Z
UID:10009269-1558224000-1558310399@www.pikk.ee
SUMMARY:Õpiring „Mesiniku aastaring ehk 5 õppepäeva olulistel hetkedel“
DESCRIPTION:Õpiring „Mesiniku aastaring ehk 5 õppepäeva olulistel hetkedel“ \nToimumisaeg: 19.mai\, 16.juuni\, 10.august\, 8.september – 2019.a\, 23. mai 2020.a (algselt pidi  viimase õpiringi toimumisaeg olema 3. mai 2020\, kuid tulenevalt koroonaviirusega seotud puhangust on kehtestatud Eestis eriolukord\, ning sündmust ei ole võimalik siis korraldada) \nValdkond: põllumajandus – mesindus \nToimumiskoht: Soodevahe küla\, Rae vald\, Harjumaa \nSihtrühm: Põllumajandustoodete tootmise\, töötlemise või turustamisega\, põllumajandusmaa hooldamisega\, põllumajandustoodetest mittepõllumajandustoodete töötlemisega\, sealhulgas toidu valmistamise või töötlemisega\, või metsa majandamisega seotud või nimetatud tegevusega tegelev füüsilisest isikust ettevõtja ja tema töötaja\, eraõigusliku juriidilise isiku osanik\, aktsionär\, liige\, juhtorgani liige ja tema töötaja\, metsa majandamisega tegelev füüsiline isik ja toidu valmistamise või töötlemisega tegelev avalik-õiguslik juriidilise isiku juhtorgani liige või töötaja. \n  \nÕpiringi kulud on kaetud Teadmussiirde ja teavituse toetusega (MAK 2014-2020 meede 1)  ja õpiring on osalejatele tasuta. \nOsalemine ainult eelregistreerimisega.  \nKorraldaja: MTÜ Alustame Algusest \nRohkem infot kodulehel: http://alustamealgusest.ee/projektid/mesindusvaldkonna-projektid/pria-rahastus \nTelefon: 5029006  (Marianne Rosenfeld) \nE-kiri: mesilaspere@gmail.com    või alustamealgusest@gmail.com
URL:https://www.pikk.ee/sundmus/opiring-mesiniku-aastaring-ehk-5-oppepaeva-olulistel-hetkedel/2019-05-19/
LOCATION:Harjumaa\, Harjumaa\, Eesti
ORGANIZER;CN="MT%C3%9C Alustame Algusest":MAILTO:alustamealgusest@gmail.com
END:VEVENT
END:VCALENDAR