BEGIN:VCALENDAR
VERSION:2.0
PRODID:-//PIKK.ee - ECPv6.13.2.1//NONSGML v1.0//EN
CALSCALE:GREGORIAN
METHOD:PUBLISH
X-WR-CALNAME:PIKK.ee
X-ORIGINAL-URL:https://www.pikk.ee
X-WR-CALDESC:Events for PIKK.ee
REFRESH-INTERVAL;VALUE=DURATION:PT1H
X-Robots-Tag:noindex
X-PUBLISHED-TTL:PT1H
BEGIN:VTIMEZONE
TZID:Europe/Tallinn
BEGIN:DAYLIGHT
TZOFFSETFROM:+0200
TZOFFSETTO:+0300
TZNAME:EEST
DTSTART:20190331T010000
END:DAYLIGHT
BEGIN:STANDARD
TZOFFSETFROM:+0300
TZOFFSETTO:+0200
TZNAME:EET
DTSTART:20191027T010000
END:STANDARD
END:VTIMEZONE
BEGIN:VEVENT
DTSTART;VALUE=DATE:20190731
DTEND;VALUE=DATE:20190801
DTSTAMP:20260426T003030
CREATED:20190704T125937Z
LAST-MODIFIED:20190712T140550Z
UID:10007413-1564531200-1564617599@www.pikk.ee
SUMMARY:Uute perspektiivsete haljastuse konteinertaimede esitluspäev
DESCRIPTION:Aeg: 31. juuli 2019 kell 10.00 – 14.00 \nKoht: kogunemine ja ettekanded Kanepi Seltsimajas (Weizenbergi 31\, Kanepi alevik\, Kanepi vald\, Põlvamaa) ning uute sortide tutvustamine OÜ Kanepi Aiandis (Kooli 19\, Kanepi alevik\, Põlvamaa). \nPäevakava\n9:45 Kogunemine\, kohv\n10:00 Puispetuunia ja nemeesia üldtutvustus – Merilin Saksing\, OÜ Kanepi Aiand\, peaagronoom\n10:45 Aiandusklastri innovatsioonitegevuse raames teostatud suvelillede katsed biostimulantidega – lühiülevaade. – Leila Mainla\, EMÜ\, aianduse õppetool\, dotsent\n11:30 Roosid ja tema kaaslased – Katrin Ruitlane-Rütli\, Garden.ee OÜ\, juhatuse liige\n12:15 Kohvipaus\n12:30 Sõit OÜ Kanepi Aiandisse (Kooli 19\, Kanepi alevik\, Põlvamaa)\n12:45-14:00 Uute puispetuunia ja nemeesia sortide tutvustus ja arutelu – Margus Vahtramäe\, OÜ Kanepi Aiand\, tegevjuht \nEsitluspäev on tasuta\, osalemiseks on vajalik eelregistreerumine hiljemalt 28.07.2019 siin: http://bit.ly/konteinertaimed\nKohtade arv on piiratud\, registreerumine lõpetatakse kohtade täitumisel. \nLisainfo:\nLeila Mainla\, Eesti Maaülikool\, aianduse õppetool\ne-post: leila.mainla@emu.ee \nEsitlustegevus toimub “Teadmussiirde pikaajaline programm aianduse tegevusvaldkonnas ” raames\, toetab Euroopa Liit.
URL:https://www.pikk.ee/sundmus/uute-perspektiivsete-haljastuse-konteinertaimede-esitluspaev-2/
LOCATION:Põlvamaa\, Põlvamaa\, Eesti
CATEGORIES:Aiandus
GEO:58.1160622;27.2066394
END:VEVENT
END:VCALENDAR