BEGIN:VCALENDAR
VERSION:2.0
PRODID:-//PIKK.ee - ECPv6.13.2.1//NONSGML v1.0//EN
CALSCALE:GREGORIAN
METHOD:PUBLISH
X-WR-CALNAME:PIKK.ee
X-ORIGINAL-URL:https://www.pikk.ee
X-WR-CALDESC:Events for PIKK.ee
REFRESH-INTERVAL;VALUE=DURATION:PT1H
X-Robots-Tag:noindex
X-PUBLISHED-TTL:PT1H
BEGIN:VTIMEZONE
TZID:Europe/Tallinn
BEGIN:DAYLIGHT
TZOFFSETFROM:+0200
TZOFFSETTO:+0300
TZNAME:EEST
DTSTART:20190331T010000
END:DAYLIGHT
BEGIN:STANDARD
TZOFFSETFROM:+0300
TZOFFSETTO:+0200
TZNAME:EET
DTSTART:20191027T010000
END:STANDARD
END:VTIMEZONE
BEGIN:VEVENT
DTSTART;VALUE=DATE:20190902
DTEND;VALUE=DATE:20190903
DTSTAMP:20260426T062026
CREATED:20190829T095140Z
LAST-MODIFIED:20190830T084259Z
UID:10009332-1567382400-1567468799@www.pikk.ee
SUMMARY:Maaelu mitmekesistamise toetuse infopäev Viljandis
DESCRIPTION:SA Viljandimaa Arenduskeskus ja Mulgimaa Arenduskoda kutsuvad ettevõtjaid maaelu mitmekesistamise toetuse infopäevale\, mis toimub 2. septembril kell 15:00 – 17:00 Viljandi riigimaja (endine Maavalitsuse hoone) III korruse suures saalis\, aadressil Vabaduse plats 2\, Viljandi.\nVajalik on eelregistreerimine! Kui plaanid osalemist\, palun registreeru kohe: \narenduskoda@mulgimaa.ee või telefonil: +372 5303 8361 \n„Investeeringud majandustegevuse mitmekesistamiseks maapiirkonnas mittepõllumajandusliku tegevuse suunas“.\nPRIA meetme 6.4. tutvustamine. \n18. septembril avaneva meetme üldine eesmärk on maapiirkonnas püsiva majandusliku baasi ning sobivate ja atraktiivsete töökohtade loomise soodustamiseks maaettevõtluse mitmekesistamine ja arendamine. \nMaapiirkonna majandustegevuse mitmekesistamise toetus on Eesti maaelu arengukava 2014–2020 meetme 6 „Põllumajandusettevõtete ja ettevõtluse arengˮ alameetme 6.4 „Investeeringud majandustegevuse mitmekesistamiseks maapiirkonnas mittepõllumajandusliku tegevuse suunas“ raames antav toetus. \nLoe meetmest lähemalt 👇\nhttps://drive.google.com/file/d/1rWKK8vmlkNZ2rSXU9qGkuKAhEb1QONR_/view\nvõi http://www.pria.ee/et/toetused/valdkond/kulaelu_arendamine/maapiirkonnas_majandustegevuse_mitmekesistamine_2019/ \nInfopäeval tutvustab meedet Allar Korjas Maaeluministeeriumist. \nInfo ja registreerimine: \nAnneli Roosalu\, e-post: arenduskoda@mulgimaa.ee või telefonil: +372 5303 8361 \nKoolituse korraldajad on Mulgimaa Arenduskoda ja Viljandimaa Arenduskeskus. \n 
URL:https://www.pikk.ee/sundmus/maaelu-mitmekesistamise-toetuse-infopaev-viljandis/
LOCATION:Viljandimaa\, Viljandimaa\, Eesti
CATEGORIES:Maaettevõtlus
GEO:58.2821746;25.5752233
END:VEVENT
BEGIN:VEVENT
DTSTART;VALUE=DATE:20190905
DTEND;VALUE=DATE:20190906
DTSTAMP:20260426T062026
CREATED:20190827T061356Z
LAST-MODIFIED:20190904T102553Z
UID:10009329-1567641600-1567727999@www.pikk.ee
SUMMARY:Koolitus "Põllumajandusloomade heaolu koolitus - väikemäletsejad" (Läänemaal)
DESCRIPTION:Olustvere Teenindus- ja Maamajanduskool korraldab 5.septembril 2019 koolituse Põllumajandusloomade heaolu koolitus – väikemäletsejad\, 8 õppetundi. Koolitus toimub Võntküla külamajas\, Lääne- Nigula vald kell 10.00 – 16.45. \n  \nKoolitus toimub programmi  “Teadmussiirde pikaajaline programm loomakasvatuse valdkonnas” raames ja on sihtrühma kuulujatele tasuta.  Antud koolitus läheb arvesse loomade heaolu toetuse taotlemisel\, osalejatele väljastatakse tunnistus. \nToimumisaeg : \n05.september Võntküla külamaja\, Lääne- Nigula vald \nAjakava  \n09.45 – 10.00 Kogunemine\, registreerimine Võntküla külamajas \n10.00 – 11.30 Väikemäletsejaliste heaolu ja pidamin sh söötmine\, heaolu halvenemisele viitavad tunnused\, geneetika ja aretuse mõjud produktiivsusele ja tervishoiule. K. Tähepõld \n11.30 – 11.40 Kohvipaus \n11.40 – 12.25 Väikemäletsejaliste tervishoid\, tervisliku seisundi hindamine\, profülaktika L. Tali \n12.25 – 13.00 Lõuna \n13.00 – 16.45 Praktiline õpe Kristi-Liis Koppel FIE Jaagu talus\, Nigula külas \nLektorid  \nLiilia Tali\, kogemustega loomaarst ja konsulent. \nKatrin Tähepõld\, Eesti Lamba- ja Kitsekasvatajate Liidu aretustöö koordinaator\, konsulent\, loomaarst. \n  \nKoolituse eesmärk on tõsta põllumajandusettevõtjate ja töötajate teadmiste taset teemadel\, mis on seotud loomade pidamise\, söötmise\, heaolu ja tervise valdkonnas. Koolitusel antakse ülevaade sealhulgas loomade hindamisest\, geneetika ja aretuse mõjudest järglaste produktiivsusele ja tervishoiule. Toimub praktiline õpe farmis loomade hindamisest ja terviseprobleemide tuvastamisest. \nSihtgrupp: Põllumajandustoodete tootmise\, töötlemise või turustamisega\, põllumajandusmaa hooldamisega\, põllumajandustoodetest mittepõllumajandustoodete töötlemisega\, sealhulgas toidu valmistamise või töötlemisega\, või metsa majandamisega seotud või nimetatud tegevusega tegelev füüsilisest isikust ettevõtja ja tema töötaja\, eraõigusliku juriidilise isiku osanik\, aktsionär\, liige\, juhtorgani liige ja tema töötaja\, metsa majandamisega tegelev füüsiline isik ja toidu valmistamise või töötlemisega tegelev avalik-õiguslik juriidilise isiku juhtorgani liige või töötaja.\nLisaks valdkonna teenindamisega tegelejad (nt loomasööda\, veterinaarravimite müüjad)\, oma ettevõtte tegevusvaldkonda laiendada soovijad\, põllumajanduslike esindus- ja erialaorganisatsioonide juhatuse liikmed ja töötajad ning kõik teemast huvitatud isikud. \nRegistreerimine kuni 03.september https://docs.google.com/forms/d/1A5KJ1-RH_G0ItP-p2FlEwIltfcvRn0DB-SKpUfXwWJE/ \nInfo tel 513 6242 marika.oeselg@gmail.com
URL:https://www.pikk.ee/sundmus/koolitus-pollumajandusloomade-heaolu-koolitus-vaikemaletsejad-2/
LOCATION:Läänemaa
CATEGORIES:Loomakasvatus
END:VEVENT
BEGIN:VEVENT
DTSTART;VALUE=DATE:20190906
DTEND;VALUE=DATE:20190907
DTSTAMP:20260426T062026
CREATED:20190827T060357Z
LAST-MODIFIED:20190904T102440Z
UID:10007440-1567728000-1567814399@www.pikk.ee
SUMMARY:Koolitus "Põllumajandusloomade heaolu koolitus - väikemäletsejad" (Valgamaal)
DESCRIPTION:JÄÄB ÄRA OSAVÕTJATE VÄHESUSE TÕTTU! \nOlustvere Teenindus- ja Maamajanduskool korraldab 6.septembril 2019 koolituse Põllumajandusloomade heaolu koolitus – väikemäletsejad\, 8 õppetundi. Koolitus toimub Hallimäe talu\, Rebasemõisa küla Valgamaa\, kell 10.00 – 16.45. \nKoolitus toimub programmi  “Teadmussiirde pikaajaline programm loomakasvatuse valdkonnas” raames ja on sihtrühma kuulujatele tasuta.  Antud koolitus läheb arvesse loomade heaolu toetuse taotlemisel\, osalejatele väljastatakse tunnistus. \nToimumisaeg : \n06.september Hallimäe talu\, Rebasemõisa küla Valgamaa \nAjakava  \n09.45 – 10.00 Kogunemine\, registreerimine Hallimäe talu \n10.00 – 11.30 Väikemäletsejaliste heaolu ja pidamin sh söötmine\, heaolu halvenemisele viitavad tunnused\, geneetika ja aretuse mõjud produktiivsusele ja tervishoiule. K. Tähepõld \n11.30 – 11.40 Kohvipaus \n11.40 – 12.25 Väikemäletsejaliste tervishoid\, tervisliku seisundi hindamine ja profülaktika. L. Tali (lektor on muutunud) \n12.25 – 13.00 Lõuna \n13.00 – 16.45 Praktiline õpe Hallimäe talus \nLektorid  \nLiilia Tali\, kogemustega loomaarst ja konsulent. \nKatrin Tähepõld\, Eesti Lamba- ja Kitsekasvatajate Liidu aretustöö koordinaator\, konsulent\, loomaarst. \n  \nKoolituse eesmärk on tõsta põllumajandusettevõtjate ja töötajate teadmiste taset teemadel\, mis on seotud loomade pidamise\, söötmise\, heaolu ja tervise valdkonnas. Koolitusel antakse ülevaade sealhulgas loomade hindamisest\, geneetika ja aretuse mõjudest järglaste produktiivsusele ja tervishoiule. Toimub praktiline õpe farmis loomade hindamisest ja terviseprobleemide tuvastamisest. \n  \nSihtgrupp: Põllumajandustoodete tootmise\, töötlemise või turustamisega\, põllumajandusmaa hooldamisega\, põllumajandustoodetest mittepõllumajandustoodete töötlemisega\, sealhulgas toidu valmistamise või töötlemisega\, või metsa majandamisega seotud või nimetatud tegevusega tegelev füüsilisest isikust ettevõtja ja tema töötaja\, eraõigusliku juriidilise isiku osanik\, aktsionär\, liige\, juhtorgani liige ja tema töötaja\, metsa majandamisega tegelev füüsiline isik ja toidu valmistamise või töötlemisega tegelev avalik-õiguslik juriidilise isiku juhtorgani liige või töötaja.\nLisaks valdkonna teenindamisega tegelejad (nt loomasööda\, veterinaarravimite müüjad)\, oma ettevõtte tegevusvaldkonda laiendada soovijad\, põllumajanduslike esindus- ja erialaorganisatsioonide juhatuse liikmed ja töötajad ning kõik teemast huvitatud isikud. \nRegistreerimine kuni 03.september https://docs.google.com/forms/d/1gJrVKC_DN_INJPZWV8QxzV1ZiZQ5dtGuUer8P3pNqWc/ \nInfo tel 513 6242 marika.oeselg@gmail.com
URL:https://www.pikk.ee/sundmus/koolitus-pollumajandusloomade-heaolu-koolitus-vaikemaletsejad/
LOCATION:Valgamaa\, Eesti
END:VEVENT
BEGIN:VEVENT
DTSTART;VALUE=DATE:20190908
DTEND;VALUE=DATE:20190909
DTSTAMP:20260426T062026
CREATED:20190506T054126Z
LAST-MODIFIED:20200427T085318Z
UID:10009272-1567900800-1567987199@www.pikk.ee
SUMMARY:Õpiring „Mesiniku aastaring ehk 5 õppepäeva olulistel hetkedel“
DESCRIPTION:Õpiring „Mesiniku aastaring ehk 5 õppepäeva olulistel hetkedel“ \nToimumisaeg: 19.mai\, 16.juuni\, 10.august\, 8.september – 2019.a\, 23. mai 2020.a (algselt pidi  viimase õpiringi toimumisaeg olema 3. mai 2020\, kuid tulenevalt koroonaviirusega seotud puhangust on kehtestatud Eestis eriolukord\, ning sündmust ei ole võimalik siis korraldada) \nValdkond: põllumajandus – mesindus \nToimumiskoht: Soodevahe küla\, Rae vald\, Harjumaa \nSihtrühm: Põllumajandustoodete tootmise\, töötlemise või turustamisega\, põllumajandusmaa hooldamisega\, põllumajandustoodetest mittepõllumajandustoodete töötlemisega\, sealhulgas toidu valmistamise või töötlemisega\, või metsa majandamisega seotud või nimetatud tegevusega tegelev füüsilisest isikust ettevõtja ja tema töötaja\, eraõigusliku juriidilise isiku osanik\, aktsionär\, liige\, juhtorgani liige ja tema töötaja\, metsa majandamisega tegelev füüsiline isik ja toidu valmistamise või töötlemisega tegelev avalik-õiguslik juriidilise isiku juhtorgani liige või töötaja. \n  \nÕpiringi kulud on kaetud Teadmussiirde ja teavituse toetusega (MAK 2014-2020 meede 1)  ja õpiring on osalejatele tasuta. \nOsalemine ainult eelregistreerimisega.  \nKorraldaja: MTÜ Alustame Algusest \nRohkem infot kodulehel: http://alustamealgusest.ee/projektid/mesindusvaldkonna-projektid/pria-rahastus \nTelefon: 5029006  (Marianne Rosenfeld) \nE-kiri: mesilaspere@gmail.com    või alustamealgusest@gmail.com
URL:https://www.pikk.ee/sundmus/opiring-mesiniku-aastaring-ehk-5-oppepaeva-olulistel-hetkedel/2019-09-08/
LOCATION:Harjumaa\, Harjumaa\, Eesti
ORGANIZER;CN="MT%C3%9C Alustame Algusest":MAILTO:alustamealgusest@gmail.com
END:VEVENT
END:VCALENDAR