BEGIN:VCALENDAR
VERSION:2.0
PRODID:-//PIKK.ee - ECPv6.13.2.1//NONSGML v1.0//EN
CALSCALE:GREGORIAN
METHOD:PUBLISH
X-WR-CALNAME:PIKK.ee
X-ORIGINAL-URL:https://www.pikk.ee
X-WR-CALDESC:Events for PIKK.ee
REFRESH-INTERVAL;VALUE=DURATION:PT1H
X-Robots-Tag:noindex
X-PUBLISHED-TTL:PT1H
BEGIN:VTIMEZONE
TZID:Europe/Tallinn
BEGIN:DAYLIGHT
TZOFFSETFROM:+0200
TZOFFSETTO:+0300
TZNAME:EEST
DTSTART:20200329T010000
END:DAYLIGHT
BEGIN:STANDARD
TZOFFSETFROM:+0300
TZOFFSETTO:+0200
TZNAME:EET
DTSTART:20201025T010000
END:STANDARD
END:VTIMEZONE
BEGIN:VEVENT
DTSTART;VALUE=DATE:20200701
DTEND;VALUE=DATE:20200708
DTSTAMP:20260424T150710
CREATED:20200221T120524Z
LAST-MODIFIED:20200521T075009Z
UID:10009554-1593561600-1594166399@www.pikk.ee
SUMMARY:Veiste sõratervise kool (teooriaõpe veebipõhiselt + praktika)
DESCRIPTION:Viiepäevane koolitus\n1.-3. juuli teoreetiline õppetöö toimub veebipõhiselt\n6.-7. juuli toimub praktika Eerika Farm OÜ-s (Aretuse 6\, Märja\, Tähtvere vald\, Tartu maakond)\, kulgemine farmi osaleja oma transpordiga. \nÕppejõud \n\n\n\nHertta Maikki Elise Pirkkalainen\, praktik\, loomaarsti kogemus EMÜ-s aastast 2012 \nKalmer Kalmus\, EMÜ kliinilise veterinaarmeditsiini õppetool\, peaspetsialist\n\n\n\nVahur Mahla\, praktik\, Pacavs OÜ\n\n\n\n\n\nKoolituse sihtrühm\nPõllumajandustoodete tootmise\, töötlemise või turustamisega\, põllumajandusmaa hooldamisega\, põllumajandustoodetest mittepõllumajandustoodete töötlemisega\, sealhulgas toidu valmistamise või töötlemisega\, või metsa majandamisega seotud või nimetatud tegevusega tegelev füüsilisest isikust ettevõtja ja tema töötaja\, eraõigusliku juriidilise isiku osanik\, aktsionär\, liige\, juhtorgani liige ja tema töötaja\, metsa majandamisega tegelev füüsiline isik ja toidu valmistamise või töötlemisega tegelev avalik-õiguslik juriidilise isiku juhtorgani liige või töötaja.\nLisaks valdkonna teenindamisega tegelejad (nt loomasööda\, veterinaarravimite müüjad)\, oma ettevõtte tegevusvaldkonda laiendada soovijad\, põllumajanduslike esindus- ja erialaorganisatsioonide juhatuse liikmed ja töötajad. \nKoolitus toimub programmi\n“Teadmussiirde pikaajaline programm loomakasvatuse valdkonnas” raames\, tegevus on rahastatud Eesti maaelu arengukava 2014 – 2020 vahenditest ja on sihtrühma kuulujatele tasuta. \nOsalemissoovi korral on kindlasti vajalik eelnevalt registreeruda.\nLähem info ja registreerumine vt. SIIT \nKorraldaja\nEesti Maaülikooli avatud ülikool​\nKreutzwaldi 56/1 (III korrus\, ruumid 303-306)\,\n51006 Tartu\ntel 731 3174\, 731 3175\, 731 3275\, 5344 1844\ne-post: avayl@emu.ee
URL:https://www.pikk.ee/sundmus/veiste-soratervise-kool-2/
LOCATION:Tartumaa\, Eesti
CATEGORIES:Loomakasvatus
GEO:58.4057128;26.801576
END:VEVENT
BEGIN:VEVENT
DTSTART;VALUE=DATE:20200707
DTEND;VALUE=DATE:20200708
DTSTAMP:20260424T150710
CREATED:20200323T084712Z
LAST-MODIFIED:20200702T080916Z
UID:10007663-1594080000-1594166399@www.pikk.ee
SUMMARY:Infopäev Bioohutus piimaveisekasvatuses
DESCRIPTION:COVID-19 leviku tõkestamiseks on 26. märtsil toimuma pidanud infopäev edasi lükatud. Uus toimumiskuupäev on 7. juuli 2020 (T). Kõik\, kes olid registreerunud 26. märtsi toimumisele on automaatselt üle kantud 7. juuli toimumisele – uuesti registreeruda ei ole vaja. Kui Teile osalemine juulikuus ei sobi\, võtke palun kindlasti ühendust maaülikooli avatud ülikooli kontaktidel\, sel juhul tühistame Teie registreeringu. \n  \nToimumisaeg: 7. juuli 2020 \nMaht: 4 akadeemilist tundi \nToimumiskoht: Tartu Eesti Maaülikool Kreutzwaldi 56/1 auditoorium 204 II korrusel \nInfopäeva ajakava:\n10:00 – 11:30 õppetöö\n11:30 – 11:45 kohvipaus\n11:45 – 13:15 õppetöö \nLektor:\nAlar Onoper\, vanemloomaarst\nEesti Maaülikooli Veterinaarmeditsiini ja loomakasvatusinstituudi kliinilise veterinaarmeditsiini õppetool \nInfopäev toimub programmi “Teadmussiirde pikaajaline programm  loomakasvatuse valdkonnas” raames ja on kõigile huvilistele tasuta. \nSisu:\n– Farmis esinevatest nakkushaigustest;\n– Farmi bioohutuse kava loomine ja kava rakendamine. \nInfopäeval osalenutele väljastame digitõendi. \nOsalemissoovi korral on kindlasti eelnevalt vajalik registreeruda\, seda saate teha SIIN \nToimunud infopäeva materjalidega on võimalik tutvuda SIIN. \nLähem info koolituse korraldajalt:\nEesti Maaülikooli avatud ülikool\nFr. R. Kreutzwaldi 56 (III korrus\, ruumid 303-306)\, 51014 Tartu\,\ntel 731 3174\, 731 3175\, 731 3275\, 534 41844\ne-post: avayl@emu.ee\nhttp://avatudylikool.emu.ee/
URL:https://www.pikk.ee/sundmus/infopaev-bioohutus-piimaveisekasvatuses-3/
LOCATION:Tartumaa\, Eesti
CATEGORIES:Loomakasvatus
GEO:58.4057128;26.801576
END:VEVENT
BEGIN:VEVENT
DTSTART;VALUE=DATE:20200707
DTEND;VALUE=DATE:20200708
DTSTAMP:20260424T150710
CREATED:20200522T064220Z
LAST-MODIFIED:20200724T104500Z
UID:10007675-1594080000-1594166399@www.pikk.ee
SUMMARY:PMK Viljandi katsekeskuse põllupäev
DESCRIPTION:PMK Viljandi katsekeskuse põllupäev \nSordi ja seemne tark valik tagab hea saagi!  \nPäevakava \n09.45 –10.00 Registreerimine\, „desinfitseerimine“ \n10.00 –10.05 Avasõnad \n10.15 –11.00 Taliteraviljade sordivõrdlus –  Ülla Põldur (PMK) \n11.00 –12.00  Taliteraviljade erinevate agrotehnoloogiate ja külviaegade võrdluskatse tutvustus ja analüüs – Urmas Nurmsalu (Sakala Põldur\, agronoom) \n12.15 –12.45  Suviteraviljade sordivõrdlus –  Ülla Põldur (PMK) \n12.50 –13.20  Herne ja oa sordivõrdlus – Ülle Soorm (PMK) \n13.25 –13.55   Talirapside sordivõrdlus – Eve Siro (PMK) \n14.00  Lõunasöögipakkide jaotamine ja kojusõit \nOsalemine infopäeval on tasuta. \nPõldkatsed ja asukohaskeemid \nLisainformatsioon: viljandi@pmk.agri.ee\, +372 433 4406 \nEsitluspäev toimub “Teadmussiirde pikaajaline programm taimekasvatuse tegevusvaldkonnas” raames\, toetab Euroopa Maaelu Arengu Põllumajandusfond.
URL:https://www.pikk.ee/sundmus/pmk-viljandi-katsekeskuse-pollupaev-4/
LOCATION:Viljandimaa\, Viljandimaa\, Eesti
CATEGORIES:Taimekasvatus
GEO:58.2821746;25.5752233
END:VEVENT
BEGIN:VEVENT
DTSTART;VALUE=DATE:20200707
DTEND;VALUE=DATE:20200708
DTSTAMP:20260424T150710
CREATED:20200610T100613Z
LAST-MODIFIED:20200610T100613Z
UID:10009604-1594080000-1594166399@www.pikk.ee
SUMMARY:Põldtunnustajate praktiline täiendõpe
DESCRIPTION:Tartumaa põllumeeste liit korraldab 7. juulil põldtunnustajate praktilise täiendõppe PMK Viljandi katsekeskuses. Algõppe läbinuid teavitatakse meiliga ja saadetakse registreerimislink. \nLisainfo: Jaan Sõrra 508 7320\, ttl@kodu.ee.
URL:https://www.pikk.ee/sundmus/poldtunnustajate-praktiline-taiendope/
LOCATION:Viljandimaa\, Viljandimaa\, Eesti
CATEGORIES:Taimekaitse
GEO:58.2821746;25.5752233
END:VEVENT
BEGIN:VEVENT
DTSTART;VALUE=DATE:20200707
DTEND;VALUE=DATE:20200708
DTSTAMP:20260424T150710
CREATED:20200619T125857Z
LAST-MODIFIED:20200703T103621Z
UID:10009618-1594080000-1594166399@www.pikk.ee
SUMMARY:Aiasaaduste töötlemine ja tootmisjääkide väärindamine
DESCRIPTION:Eesti Maaülikool korraldab infopäeva 7. juulil 2020 algusega kell 10:30\nAsukoht: Kose mnt 2\, Habaja alevik\, Kose vald Harjumaa\nhttps://goo.gl/maps/DARb4ppz5qRc26Wd7 \nPäevakava\n10.30 Kogunemine\, hommikukohv\n11.00 – 12.30 Mahla tootmise ja kääritamise jaoks vajalikud tarvikud\, seadmed ning tehnoloogia – Villy Paimets\, Loomefarm OÜ\n12.30–13.30 Lõuna\n13.30- 14.15 Väikefirmade toodete müük koroonaviiruse eriolukorras. Tiina Kuuler\, Veinivilla\n14.15–15.30 Puuviljade ja marjade töötlemise ning tootmisjääkide taaskasutuse tulemuste hindamine (praktika) ja arutelu – Kadri Karp \nInfopäeval osalemine on tasuta. Osalemiseks on vajalik registreerimine hiljemalt 2. juuliks siin: https://bit.ly/t66tlemine2020 \nInfo: Kadri Karp 5224167\ne-post: kadri.karp@emu.ee \nInfopäev toimub MAK 2014-2020 “Teadmussiirde pikaajaline programm aianduse tegevusvaldkonnas” toetusmeetme raames\, tegevust toetab Euroopa Liit. \n 
URL:https://www.pikk.ee/sundmus/aiasaaduste-tootlemine-ja-tootmisjaakide-vaarindamine/
LOCATION:Harjumaa\, Harjumaa\, Eesti
CATEGORIES:Aiandus
END:VEVENT
BEGIN:VEVENT
DTSTART;VALUE=DATE:20200707
DTEND;VALUE=DATE:20200708
DTSTAMP:20260424T150710
CREATED:20200622T170230Z
LAST-MODIFIED:20200622T170230Z
UID:10009619-1594080000-1594166399@www.pikk.ee
SUMMARY:Infopäev: Taimekaitse ja umbrohutõrje mahetootmises
DESCRIPTION:Eesti Maaülikooli Mahekeskus korraldab infopäeva Pärnumaa mahetootjatele\, kus teemaks on taimekaitse ja umbrohutõrje mahetootmises. \nAeg: 7. juuli 2020\, kell 10.30-16.00\nKoht: Metsapoole põhikool\, Metsapoole hoiuala\, Treimani\, Pärnu maakond\nPäeva teises pooles külastatakse Saareõue OÜ põlde \nTeemad: \n\nTaimekaitse põhimõtted maheviljeluses\nElurikkus kui taimekasvatuskoosluste iseregulatsiooni alus\nTaimekahjustuste ja umbrohtumuse ennetamine taimekasvatuslike võtetega\nUmbrohtude agrobioloogilised rühmad\nOtsene kahjustajate sh umbrohtude tõrje\nPraktiline vaatlus ja arutelu Saareõue OÜ põldudel\n\nLektorid: Liina Talgre ja Anne Luik\, Eesti Maaülikool \nInfopäev läheb arvesse mahepõllumajandusliku tootmise toetuse saamise kohustusliku koolitusena (6 tundi). \nInfopäev on tasuta\, osalemiseks on vajalik eelregistreerimine hiljemalt 30.06: https://forms.gle/KNrkZC6UTz9anBDB9 (eelistatult) või telefonil 53044003 Registreerumine lõpetatakse kohtade täitumisel. \nLisainfo:\nElen Peetsmann\nelen.peetsmann@emu.ee \nInfopäeva korraldab Eesti Maaülikooli Mahekeskus MAK 2014-2020 meede „Teadmussiirde ja teavituse toetus“ raames\, toetab Euroopa Liit.
URL:https://www.pikk.ee/sundmus/infopaev-taimekaitse-ja-umbrohutorje-mahetootmises-3/
LOCATION:Pärnumaa\, Pärnumaa\, Eesti
CATEGORIES:Taimekaitse,Taimekasvatus
ORGANIZER;CN="Eesti Maa%C3%BClikooli Mahekeskus":MAILTO:mahekeskus@emu.ee
END:VEVENT
BEGIN:VEVENT
DTSTART;VALUE=DATE:20200707
DTEND;VALUE=DATE:20200708
DTSTAMP:20260424T150710
CREATED:20200625T051857Z
LAST-MODIFIED:20200625T052143Z
UID:10009620-1594080000-1594166399@www.pikk.ee
SUMMARY:Põldtunnustajate praktiline täiendõpe
DESCRIPTION:Tartumaa põllumeeste liit korraldab PMK Viljandi katsekeskuses 7. juulil algusega 9.00 põldtunnustajate praktilise täiendõppe. Osaleda saavad aluskoolituse läbinud\, kellele saadetakse e-postiga registreerimislink. \nLisainfo: Jaan Sõrra\, 508 7320; ttl@kodu.ee.
URL:https://www.pikk.ee/sundmus/poldtunnustajate-praktiline-taiendope-2/
LOCATION:Viljandimaa\, Viljandimaa\, Eesti
CATEGORIES:Taimekasvatus
GEO:58.2821746;25.5752233
END:VEVENT
BEGIN:VEVENT
DTSTART;VALUE=DATE:20200708
DTEND;VALUE=DATE:20200709
DTSTAMP:20260424T150710
CREATED:20200515T092949Z
LAST-MODIFIED:20200515T092949Z
UID:10009595-1594166400-1594252799@www.pikk.ee
SUMMARY:Veebipõhine koolitus Põllumajandusloomade transport vastavalt loomakaitsenõuetele\, pädevuskoolitus
DESCRIPTION:Koolitus toimub veebipõhiselt Big Blue Button keskkonnas. \nAjakava \n9.00 – 9.15 veebiruumi sisenemine\, osalejate registreerimine\, sissejuhatus \n9:15 – 10.45 õppetöö\n10:45 – 11:00 võimlemispaus\n11:00 – 12:30 õppetöö\n12:30 – 13:00 paus\n13:00 – 14:30 õppetöö\n14:30 – 14:35 paus\n14:35 – 16.05 õppetöö \nLektor Terje Elias\, PhD\, DVM Eesti Maaülikooli Veterinaarmeditsiini ja loomakasvatuse instituudi toiduhügieeni ja rahvatervise õppetooli dotsent \nKoolitus toimub programmi “Teadmussiirde pikaajaline programm loomakasvatuse valdkonnas” raames ja on rahastatud Eesti maaelu arengukava 2014 – 2020 vahenditest. \nKoolitus on sihtrühmale tasuta. \nKoolituse sihtrühm:\nPõllumajandustoodete tootmise\, töötlemise või turustamisega\, põllumajandusmaa hooldamisega\, põllumajandustoodetest mittepõllumajandustoodete töötlemisega\, sealhulgas toidu valmistamise või töötlemisega\, või metsa majandamisega seotud või nimetatud tegevusega tegelev füüsilisest isikust ettevõtja ja tema töötaja\, eraõigusliku juriidilise isiku osanik\, aktsionär\, liige\, juhtorgani liige ja tema töötaja\, metsa majandamisega tegelev füüsiline isik ja toidu valmistamise või töötlemisega tegelev avalik-õiguslik juriidilise isiku juhtorgani liige või töötaja.\nLisaks valdkonna teenindamisega tegelejad (nt loomasööda\, veterinaarravimite müüjad)\, oma ettevõtte tegevusvaldkonda laiendada soovijad\, põllumajanduslike esindus- ja erialaorganisatsioonide juhatuse liikmed ja töötajad. \nOsalemssoovi korral on kindlasti vajalik eelnevalt osalejaks registreeruda\, seda saate teha SIIN. \nKoolitust korraldab \n\n\n\n\nEesti Maaülikooli avatud ülikool​\nKreutzwaldi 56/1 (III korrus\, ruumid 303-306)\,\n51006 Tartu\ntel 731 3174\, 731 3175\, 731 3275\, 5344 1844\ne-post: avayl@emu.ee
URL:https://www.pikk.ee/sundmus/veebipohine-koolitus-pollumajandusloomade-transport-vastavalt-loomakaitsenouetele-padevuskoolitus/
CATEGORIES:Loomakasvatus
ORGANIZER;CN="Eesti Maa%C3%BClikooli avatud %C3%BClikool":MAILTO:avayl@emu.ee
END:VEVENT
BEGIN:VEVENT
DTSTART;VALUE=DATE:20200708
DTEND;VALUE=DATE:20200709
DTSTAMP:20260424T150710
CREATED:20200522T064559Z
LAST-MODIFIED:20200723T131938Z
UID:10007680-1594166400-1594252799@www.pikk.ee
SUMMARY:Esitluspäev Rannu Seeme OÜ-s
DESCRIPTION:Rannu Seeme OÜ teraviljakeskus\, Annikoru küla\, Tartumaa\nÜritust korraldavad Eesti Taimekasvatuse Instituut ja Rannu Seeme OÜ \nPäevakava: \n10.30–11.00 Kogunemine\, kohv \n11.00-11.10 Avasõnad\, liikumine põllule \n11.10-11.45 Talinisu agrotehnika ja sordivõrdlus – Reine Koppel \n11.45–12.20 Suviteraviljad agrotehnika\, puhtimise võrdlus – Madis Ajaots\, Pille Sooväli \n12.20–12.55 Õlikultuurid talirüps “Legato” – Madis Ajaots\, Lea Narits \n12.55–13.30 Põlduba ja herne agrotehnika\, kahjurid ja haigused – Madis Ajaots\, Lea Narits \n13.30–14.05 Uued liblikõielised kultuurid – kikerhernes ja lääts – Madis Ajaots\, Lea Narits \n14.05–14.40 Meetaimede kasvatamine – Madis Ajaots \n14.40–… Arutelu ja lõuna \n  \nPõldkatsed ja asukohaskeemid \nPõllul tehtud tööd \n  \nEsitluspäeva materjalid on leitavad veebilehtedelt: taim.etki.ee ja www.pikk.ee \nEsitluspäev toimub “Teadmussiirde pikaajaline programm taimekasvatuse tegevusvaldkonnas” raames\, toetab Euroopa Maaelu Arengu Põllumajandusfond. \n 
URL:https://www.pikk.ee/sundmus/esitluspaev-rannu-seeme-ou-s-2/
LOCATION:Tartumaa\, Eesti
CATEGORIES:Taimekasvatus
GEO:58.4057128;26.801576
END:VEVENT
BEGIN:VEVENT
DTSTART;VALUE=DATE:20200708
DTEND;VALUE=DATE:20200709
DTSTAMP:20260424T150710
CREATED:20200528T104851Z
LAST-MODIFIED:20200729T063851Z
UID:10007684-1594166400-1594252799@www.pikk.ee
SUMMARY:Rohumaaviljeluse ja silotootmise infopäev
DESCRIPTION:Rohumaaviljeluse ja silotootmise infopäev\n8. juuli 2020\nPuutsa talu\, Tõrve küla\, Põltsamaa vald\, Jõgevamaa ( <https://goo.gl/maps/hCaJkQDJ4dYNG1GMA> ) \nPäevakava \n09.50–10.10 Kogunemine\, kohv\n10.10–10.15 Avasõnad\n10.15–11.00 Silo kui veiste põhisööt ja selle kvaliteet PMK analüüside põhjal – Inge Harmipaik\, PMK\n11.00–11.45 Heintaimede sileerimise optimaalse aja määramine – Uno Tamm\, ETKI\n11.45–12.45 Tutvumine Puutsa talu (FIE Airi Külvet) Innovatsiooniklastri raames portsjonkarjatamise katse jaoks rajatud  rohumaadega ning katse tulemuste hindamine – Airi Külvet\n12.45–… Arutelu ja lõuna \n  \nInfopäeval osalemine on tasuta. \n  \nInfopäeva materjalid on leitavad ürituse järgselt taim.etki.ee ja www.pikk.ee veebilehtedelt \nInfopäev toimub “Teadmussiirde pikaajaline programm taimekasvatuse tegevusvaldkonnas” raames\, toetab Euroopa Maaelu Arengu Põllumajandusfond.
URL:https://www.pikk.ee/sundmus/rohumaaviljeluse-ja-silotootmise-infopaev/
LOCATION:Jõgevamaa\, Jõgevamaa\, Eesti
CATEGORIES:Taimekasvatus
END:VEVENT
BEGIN:VEVENT
DTSTART;VALUE=DATE:20200709
DTEND;VALUE=DATE:20200710
DTSTAMP:20260424T150710
CREATED:20200616T131906Z
LAST-MODIFIED:20200630T063112Z
UID:10009609-1594252800-1594339199@www.pikk.ee
SUMMARY:Maheviljeluse infopäev
DESCRIPTION:Eesti Taimekasvatuse Instituudis 9. juulil 2020. a\nSeemne 10\, Jõgeva alevik \nPäevakava: \n09.30-10.00    Kogunemine ETKI  (teraviljade aretuskeskuses\, Seemne 10)\, tervituskohv \n10.00-10.20    Talikaera tutvustus (Ilmar Tamm) \n10.20-10.50    Kartuli agrotehnika katse tutvustus (Terje Tähtjärv) \n10.50-11.10    AGRA maheväetise kasutamine kaera kasvatamisel (Ilmar Tamm) \n11.10-11.30    Kaunviljade sortide tutvustus maheviljeluses (Lea Narits) \n11.30-11.50    AGRA maheväetise kasutamine suvinisu kasvatamisel (Anne Ingver) \n11.50-12.10    Suvinisu sordid maheviljeluses (Anne Ingver) \n12.10-12.30    Kaera sordid maheviljeluses (Ilmar Tamm) \n12.30-12.50    Odra sordid maheviljeluses (Ülle Tamm) \n12.50-13.05    Puhkepaus \n13.05-13.25    Talinisu ja -spelta sortide tutvustus (Reine Koppel) \n13.25-13.45    Talirukki sortide tutvustus (Ilme Tupits) \n13.45-14.05    Maheporgandi sordivõrdluskatse tutvustus (Ingrid Bender) \n14.05-14.25    Baltic Agro kaera mahekatse tutvustus (Annika Jõemaa ja Kertrud Jaeski (Baltic Agro)\, Tiia Kangor (ETKI)) \n14.25-14.55   Vahekultuuride ja mulla mineraalide katsete mahekatse tutvustus  (Margus Ess\, Merili Toom) \n14.55- …       Arutelu ja lõuna \nÜrituse kohad on täitunud! \nEsitluspäev läheb arvesse mahepõllumajandusliku tootmise toetuse saamise kohustusliku koolitusena (6 tundi). \nLisainfo: Ilmar Tamm\, ilmar.tamm@etki.ee \nInfopäev toimub “Teadmussiirde pikaajaline programm mahepõllumajanduse tegevusvaldkonnas” raames\, toetab Euroopa Liit.
URL:https://www.pikk.ee/sundmus/maheviljeluse-infopaev/
LOCATION:Jõgevamaa\, Jõgevamaa\, Eesti
END:VEVENT
BEGIN:VEVENT
DTSTART;VALUE=DATE:20200710
DTEND;VALUE=DATE:20200711
DTSTAMP:20260424T150710
CREATED:20200617T082927Z
LAST-MODIFIED:20200723T064557Z
UID:10009612-1594339200-1594425599@www.pikk.ee
SUMMARY:Infopäev Suvi mesilas Harjumaal
DESCRIPTION:Toimub 10. juulil Tallinna Loomaaias\, Paldiski mnt. 145 (põhjavärav) \nGRUPP ON TÄIS! \nAjakava: \n17.15-17.30 kogunemine \n17.30-19.00 ettekanne \n19.00-19.15 jala sirutamise paus \n19.15-20.45 ettekanne\, küsimused ja arutelu \nLektor Valmar Lutsar \nEttekande fail \nKoolitus on sihtrühmale tasuta. \nTäiendkoolitus toimub MAK 2014-2020 “Teadmussiirde ja teavituse toetuse maakondliku ulatusega tegevuste” meetme raames\, tegevust toetab Euroopa Liit \nKoolituse korraldaja Maaelu Edendamise Sihtasutus.
URL:https://www.pikk.ee/sundmus/infopaev-suvi-mesilas-harjumaal-2/
LOCATION:Harjumaa\, Harjumaa\, Eesti
CATEGORIES:Mesindus
ORGANIZER;CN="Maaelu Edendamise Sihtasutus":MAILTO:angelika.nops@pikk.ee
END:VEVENT
BEGIN:VEVENT
DTSTART;VALUE=DATE:20200711
DTEND;VALUE=DATE:20200712
DTSTAMP:20260424T150710
CREATED:20200617T083600Z
LAST-MODIFIED:20200723T065000Z
UID:10009611-1594425600-1594511999@www.pikk.ee
SUMMARY:Infopäev Mesilasemade kasvatamine Harjumaal
DESCRIPTION:Toimub 11. juulil Tallinna Loomaaias\, Paldiski mnt. 145 (põhjavärav) \nGRUPP ON TÄIS! \nAjakava: \n09.45-10.00 kogunemine \n10.00-11.30 ettekanne \n11.30-11.45 jala sirutamise paus \n11.45-13.15 ettekanne\, küsimused ja arutelu \nLektor Valmar Lutsar \nEttekanne \nKoolitus on sihtrühmale tasuta. \nTäiendkoolitus toimub MAK 2014-2020 “Teadmussiirde ja teavituse toetuse maakondliku ulatusega tegevuste” meetme raames\, tegevust toetab Euroopa Liit \nKoolituse korraldaja Maaelu Edendamise Sihtasutus.
URL:https://www.pikk.ee/sundmus/infopaev-mesilasemade-kasvatamine-harjumaal-2/
LOCATION:Harjumaa\, Harjumaa\, Eesti
CATEGORIES:Mesindus
ORGANIZER;CN="Maaelu Edendamise Sihtasutus":MAILTO:angelika.nops@pikk.ee
END:VEVENT
END:VCALENDAR