BEGIN:VCALENDAR
VERSION:2.0
PRODID:-//PIKK.ee - ECPv6.13.2.1//NONSGML v1.0//EN
CALSCALE:GREGORIAN
METHOD:PUBLISH
X-WR-CALNAME:PIKK.ee
X-ORIGINAL-URL:https://www.pikk.ee
X-WR-CALDESC:Events for PIKK.ee
REFRESH-INTERVAL;VALUE=DURATION:PT1H
X-Robots-Tag:noindex
X-PUBLISHED-TTL:PT1H
BEGIN:VTIMEZONE
TZID:Europe/Tallinn
BEGIN:DAYLIGHT
TZOFFSETFROM:+0200
TZOFFSETTO:+0300
TZNAME:EEST
DTSTART:20200329T010000
END:DAYLIGHT
BEGIN:STANDARD
TZOFFSETFROM:+0300
TZOFFSETTO:+0200
TZNAME:EET
DTSTART:20201025T010000
END:STANDARD
END:VTIMEZONE
BEGIN:VEVENT
DTSTART;VALUE=DATE:20200822
DTEND;VALUE=DATE:20200826
DTSTAMP:20260425T153957
CREATED:20200811T124404Z
LAST-MODIFIED:20200811T124659Z
UID:10007717-1598054400-1598399999@www.pikk.ee
SUMMARY:Koolitus "Väiksemate koduloomade (küülik\, lammas) nahkade parkimine koduste vahenditega"
DESCRIPTION:Järvamaa Kutsehariduskeskus korraldab PRIA MAK meede 1.1. raames koolituse “Väiksemate koduloomade (küülik\, lammas) nahkade parkimine koduste vahenditega” (32 tundi) \n  \n22\, 23\, 24\,25 august Valgamaal\, Tsirgumäe külas Järvel. \n  \nLink täpsemate juhistega\, See on Taheva mõisa lähistel\, \nhttps://www.google.com/maps/place/57%C2%B036’18.3%22N+26%C2%B020’13.2%22E/@57.6101509\,26.317399\,13z/data=!4m6!3m5!1s0x0:0x0!7e2!8m2!3d57.6050894!4d26.3369966 \n57°36’18.3″N 26°20’13.2″E \n  \n22. august kell 12.00 … 19.00 \n23-25 august kell 9.00 … 16.00 (olenevalt osalejate soovist ja tööprotsessidest võivad siin kellaajad tunni võrra nihkuda) \n  \nRuth Türk\nruth.turk@jkhk.ee\n+372 5329 2188 \n  \n 
URL:https://www.pikk.ee/sundmus/koolitus-vaiksemate-koduloomade-kuulik-lammas-nahkade-parkimine-koduste-vahenditega/
LOCATION:Valgamaa\, Eesti
CATEGORIES:Loomakasvatus
END:VEVENT
BEGIN:VEVENT
DTSTART;VALUE=DATE:20200824
DTEND;VALUE=DATE:20200825
DTSTAMP:20260425T153957
CREATED:20200808T094857Z
LAST-MODIFIED:20200901T120127Z
UID:10007712-1598227200-1598313599@www.pikk.ee
SUMMARY:Veiseliha meie toidulaual
DESCRIPTION:GRUPP ON TÄIS! \nAnu Ait OÜ korraldab 24.augustil algusega kell 12.00 infopäeva “Veiseliha meie toidulaual” \nAeg: 24. august 2020  kell 12.00\nAsukoht: Ööbika Gastronoomiatalus Raplamaal https://www.oobiku.ee/ \nKuidas tulla: \nhttps://www.oobiku.ee/kontakt-1 \n  \nAjakava: \n12.00-12.30  Tarneahela põhine koostöö lihasektoris. Anu Hellenurme Anu Ait OÜ juhataja\, EPKK Lihatoimkonna juht \n12.30 – 13.45 Soovitused pidamises – ja söötmistingimustes lihaveisekasvatuses Marika Oeselg\, Aasta konsulent 2019 \n13.45 – 14.30 Nõuded söötmises ja lihaveise kasvatuses. Kaja Vainula VTA Juhtivspetsialist (loomatervishoid\, loomakaitse) \n14.30 – 14.45 – Kohvipaus \n14.45- 15.30 Šarolee jõudluskontrolli tulemused. Tõu aretus liha kvaliteedile. Tõnu Põlluäär ETKÜ Tõuraamatu- ja aretusosakonna juhataja \n15.30 – 16.00 Söömust mõjutavad tegurid. Tõu aretus liha kvaliteedile. Targo Pikkmets Parim Lihaveisekasvataja 2014 Talu ja Tulu OÜ\, konsulent. \n16.00 – 16.30 – Ettevõtte tootmistehnika tutvustamine. Kasutatuv tehnoloogia lihaveisekasvatuses. Vallo Kruusimägi\, Parim lihaveisekarjakasvataja 2017 Nurmetu Charolais OÜ \n16.30 – 17.00 Karjatamine\, söötmise hindamine karjas. Andres Vaan\,  Parim lihaveisekarjakasvataja 2019 Topi Mõis OÜ \n17.00-17.30 – Vestlusring – kodumaine veiseliha meie toidulaual \n17.30  Veiseliha meie toidulaual – Ants Uustalu\, Ööbiku Gastronoomiatalu peakokk \nInfopäeval osalemine on tasuta. Kohtade arv on piiratud.\nOsalemiseks on vajalik registreerimine hiljemalt 20.08.2020  \nhttps://forms.gle/sCGjmBVXtmzcSaAg9 \nEttekanded: \nŠarolee tõu jõudluskontrolli tulemused 2019.a. Tõu aretus liha kvaliteedile \nPõllumajandusloomade registrile veiste andmete esitamise tähtaja ja võimalused \n  \nInfo ja kontakt: \nAnu Hellenurme \nAnu Ait OÜ \nBetooni 2a\, Tartu 51014 \n+ 372 501 0842 \nanu@anuait.ee \nhttps://anuait.ee/ \n  \nInfopäev toimub MAK 2014-2020 “Teadmussiirde ja teavituse toetuse üleriigilise ulatusega tegevuste” meetme 1 raames\, tegevust toetab Euroopa Liit. \n 
URL:https://www.pikk.ee/sundmus/veiseliha-meie-toidulaual/
LOCATION:Raplamaa\, Raplamaa
GEO:58.8492625;24.7346569
END:VEVENT
BEGIN:VEVENT
DTSTART;VALUE=DATE:20200825
DTEND;VALUE=DATE:20200826
DTSTAMP:20260425T153957
CREATED:20200811T204716Z
LAST-MODIFIED:20200828T065523Z
UID:10007718-1598313600-1598399999@www.pikk.ee
SUMMARY:Maheköögiviljakasvatuse esitluspäev
DESCRIPTION:Ökoloogiliste Tehnoloogiate Keskus korraldab 25. augustil Tartumaal maheköögiviljakasvatuse esitluspäeva. \nAeg: 25. august 2020 k 11:30 – 16.00 \nKoht: Erto talu\, Kõrenduse küla\, Tartu vald\, Tartumaa 49111 \nTeemad: \n\nErto talu tutvustus\, mahetootmises kasutatavad tehnoloogiad\, maheköögiviljakasvatuse katsed\, Maheklastri innovatsioonitegevuste tutvustus.\n\nEsitlustegevuse läbiviija: Margo Mansberg (Erto talu OÜ) \nKorraldaja: MTÜ Ökoloogiliste Tehnoloogiate Keskus \nEsitluspäev on tasuta\, osalemiseks on vajalik eelregistreerumine lingil https://forms.gle/uu4UmYi3Zm6e9rej6 (eelistatult) või e-maili maheteave@gmail.com teel hiljemalt 16.08.2020.  \nKohtade arv on piiratud\, registreerimine lõpetatakse kohtade täitumisel. \nEsitluspäev läheb arvesse mahepõllumajandusliku tootmise toetuse kohustusliku koolitusena. \nEsitluspäev toimub programmi “Teadmussiirde pikaajaline programm mahepõllumajanduse tegevusvaldkonnas” raames\, toetab Euroopa Liit.
URL:https://www.pikk.ee/sundmus/mahekoogiviljakasvatuse-esitluspaev-2/
LOCATION:Tartumaa\, Eesti
CATEGORIES:Aiandus
GEO:58.4057128;26.801576
END:VEVENT
BEGIN:VEVENT
DTSTART;VALUE=DATE:20200825
DTEND;VALUE=DATE:20200826
DTSTAMP:20260425T153957
CREATED:20200812T122407Z
LAST-MODIFIED:20200812T122549Z
UID:10007720-1598313600-1598399999@www.pikk.ee
SUMMARY:Aroonia ja musta leedri praktiline teabepäev
DESCRIPTION:Eesti Maaülikooli\, Polli aiandusuuringute keskus ja Seedri Puukooli OÜ korraldavad praktilise teabepäeva „Aroonia ja must leeder“ teisipäeval\, 25. augustil\, 2020. \n  \nEesmärgiks on tutvustada arooniat ja musta leedrit: kasvatamist\, sorte\, kasulikkust ja kasutusvõimalusi. \n  \nAeg: 25. august 2020 kell 10.00 – 13.00 \n  \nKoht: kogunemine\, ettekanded ja istandiku külastamine Seedri Puukool OÜ-s\, Mulgi vald\, Polli küla\, Viljandimaa\, 69108 (58°12’28.39″N\, 25°54’21.76″E).  Asukoha link: Google. Maps; otsing Seedri puukool https://www.google.ee/maps/place/Seedri+Puukool+O%C3%9C/@58.1152993\,25.5491848\,17z/data=!3m1!4b1!4m5!3m4!1s0x0:0x3f7c39e60258ed28!8m2!3d58.1152993!4d25.5513735 \n  \nPäevakavas on projekti “Uute puuviljakultuuride kasvatus-\, koristus- ja töötlemistehnoloogiate arendamine” raames tutvustada arooniat ja musta leedrit: kasvatamine\, sordid\, kasutusvõimalused\, koristamine. Külalisesineja Lätist. \n  \nPraktiline teabepäev on tasuta\, osalemiseks on vajalik eelregistreerumine hiljemalt 23. 08.2020 siin: https://docs.google.com/forms/d/1CFUee1aS3iHjNrMgF3ae2jZDd-GhthtvsMjH_O8lLBY/edit \nKohtade arv on piiratud\, registreerumine lõpetatakse kohtade täitumisel. \n  \nLisainfo: Liina Arus\, Eesti Maaülikool\, Polli Aiandusuuringute keskus\, e-post: Liina.Arus@emu.ee\, telef. 5255994 \n  \nPraktiline teabepäev on korraldatud MAK 2014-2020 meetme 16.2. „Uute toodete\, tavade\, protsesside ja tehnoloogiate arendamise“ projekti „Uute puuviljakultuuride kasvatus-\, koristus- ja töötlemistehnoloogiate arendamine“ raames\, toetab Euroopa Liit​.
URL:https://www.pikk.ee/sundmus/aroonia-ja-musta-leedri-praktiline-teabepaev/
LOCATION:Viljandimaa\, Viljandimaa\, Eesti
CATEGORIES:Aiandus
ORGANIZER;CN="Eesti Maa%C3%BClikooli Polli aiandusuuringute keskus":MAILTO:polli@emu.ee
GEO:58.2821746;25.5752233
END:VEVENT
BEGIN:VEVENT
DTSTART;VALUE=DATE:20200825
DTEND;VALUE=DATE:20200828
DTSTAMP:20260425T153957
CREATED:20200803T115441Z
LAST-MODIFIED:20200825T111229Z
UID:10009640-1598313600-1598572799@www.pikk.ee
SUMMARY:Veelindude (haned\, pardid) kasvatamise põhitõed ja iseärasused
DESCRIPTION:Järvamaa Kutsehariduskeskus korraldab 46 tunnise  koolituse “Veelindude (haned\, pardid) kasvatamise põhitõed ja iseärasused” \n25\,26\,27 august Säreveres\, Aia 2a\n15\, 16. september\,  OÜ Estfarmis\, Tartumaal\nLektorid Aleksander Lember ja Janek Prits\n\nInfo ja registreerimine\nhttps://jkhk.ee/et/tasuta-pria-koolitused\n53292188\nruth.turk@jkhk.ee\nRuth Türk
URL:https://www.pikk.ee/sundmus/veelindude-haned-pardid-kasvatamise-pohitoed-ja-isearasused/2020-08-25/
LOCATION:Järvamaa\, Järvamaa\, Eesti
CATEGORIES:Loomakasvatus
GEO:58.8866713;25.5000624
END:VEVENT
BEGIN:VEVENT
DTSTART;VALUE=DATE:20200826
DTEND;VALUE=DATE:20200827
DTSTAMP:20260425T153957
CREATED:20200217T121500Z
LAST-MODIFIED:20200416T061447Z
UID:10009541-1598400000-1598486399@www.pikk.ee
SUMMARY:Koolitus  Karjatervise programmide rakendamine
DESCRIPTION:Toimumiskuupäev 26. august 2020\nToimumiskoht Tartu Eesti Maaülikool Kreutzwaldi 56/1 avatud ülikooli auditoorium III korrusel\nLektorid \nPiret Kalmus\, DVM\, PhD\, EMÜ Veterinaarmeditsiini ja loomakasvatusinstituudi kliinilise veterinaarmeditsiini õppetooli dotsent\nKerli Mõtus\, DVM\, PhD\, EMÜ Veterinaarmeditsiini ja loomakasvatusinstituudi kliinilise veterinaarmeditsiini õppetooli dotsent \nSisu\nRavikulude vähendamine läbi karjatervise programmide\nKarjas levivate haiguste registreerimine ja analüüs\nVasikate enamlevinud haiguste avastamine ning ravivõtted\nUdarapõletike avastamine ning ravivõtted\nKinnisperioodiaegne udarapõletike tõrje \nAjakava\n10.00 – 11.30 õppetöö\n11.30 – 12.00 lõunapaus\n12.00 – 13.30 õppetöö\n13.30 – 13.45 kohvipaus\n13.45 – 15.15 õppetöö \nKoolitus on sihtrühmale tasuta.\nSihtrühm:\nPõllumajandustoodete tootmise\, töötlemise või turustamisega\, põllumajandusmaa hooldamisega\, põllumajandustoodetest mittepõllumajandustoodete töötlemisega\, sealhulgas toidu valmistamise või töötlemisega\, või metsa majandamisega seotud või nimetatud tegevusega tegelev füüsilisest isikust ettevõtja ja tema töötaja\, eraõigusliku juriidilise isiku osanik\, aktsionär\, liige\, juhtorgani liige ja tema töötaja\, metsa majandamisega tegelev füüsiline isik ja toidu valmistamise või töötlemisega tegelev avalik-õiguslik juriidilise isiku juhtorgani liige või töötaja.\nLisaks valdkonna teenindamisega tegelejad (nt loomasööda\, veterinaarravimite müüjad)\, oma ettevõtte tegevusvaldkonda laiendada soovijad\, põllumajanduslike esindus- ja erialaorganisatsioonide juhatuse liikmed ja töötajad. \nKoolitus toimub programmi “Teadmussiirde pikaajaline programm loomakasvatuse valdkonnas” raames\, tegevus on rahastatud Eesti maaelu arengukava 2014 – 2020 vahenditest.. \nProgrammi eesmärk on tõsta loomakasvatussektoris (v.a. vesiviljelus) tegelevate ettevõtjate ja töötajate teadmiste taset teemadel\, mis on seotud põllumajandusloomade pidamise\, söötmise\, heaolu\, tervise\, taudiennetuse\, aretuse ja geneetiliste ressursside säilitamise\, ohutu ja kvaliteetse sööda\, ning esmase töötlemise kaudu lisandväärtuse loomisega. \nOsalemissoovi korral on vajalik eelregistreerimine\, seda saate teha SIIT. \nKorraldaja\nEesti Maaülikooli avatud ülikool​\nKreutzwaldi 56/1 (III korrus\, ruumid 303-306)\,\n51006 Tartu\ntel 731 3174\, 731 3175\, 731 3275\, 5344 1844\ne-post: avayl@emu.ee
URL:https://www.pikk.ee/sundmus/koolitus-karjatervise-programmide-rakendamine/
LOCATION:Tartumaa\, Eesti
CATEGORIES:Loomakasvatus
GEO:58.4057128;26.801576
END:VEVENT
BEGIN:VEVENT
DTSTART;VALUE=DATE:20200826
DTEND;VALUE=DATE:20200827
DTSTAMP:20260425T153957
CREATED:20200304T114342Z
LAST-MODIFIED:20200304T114453Z
UID:10009565-1598400000-1598486399@www.pikk.ee
SUMMARY:Äripäeva veebiseminar „Piiriprobleemide lahendusvariandid”
DESCRIPTION:Äripäeva veebiseminar „Piiriprobleemide lahendusvariandid” \n26.08.2020 kell 10.00-13.15 \n  \nVeebiseminari eesmärk on selgitada välja piiriprobleemide tekkepõhjused ning anda suuniseid nende vältimiseks või tekkinud probleemide lahendamiseks. \n  \nVeebiseminaril räägime kindlasti nendel teemadel: \n\n       Miks tekivad piiriprobleemid;\n       Mida teha\, kui avastad piiriprobleemi;\n       Kes vastutab;\n       Kuidas lahendada piiriprobleemi;\n       Lihtsad maakorraldustoimingud;\n       Piiride kindlakstegemine;\n       Soovitused piiriprobleemide vältimiseks;\n\nVeebiseminari viib läbi Maa-ameti katastri nõunik Alo Kotka. \nVeebiseminar on TASUTA. Lisainformatsioon on leitav https://pood.aripaev.ee/veebiseminar-piiriprobleemide-lahendusvariandid. \nTeil on võimalus saata lektoritele oma küsimus ette\, et kindlustada vastus. Küsimusi saab esitada siin. \nMetsanduse teemal korraldatud tegevuses osalemise toetamine on riigiabi komisjoni määruse (EL) nr 702/2014 Euroopa Liidu toimimise lepingu artiklite 107 ja 108 kohaldamise kohta\, millega teatavat liiki abi põllumajandus- ja metsandussektoris ja maapiirkondades tunnistatakse siseturuga kokkusobivaks (ELT L 193\, 01.07.2014\, lk 1–75)\, artikli 38 tähenduses. \nAbil loetakse olevat ergutav mõju\, kui abisaaja on asjaomasele liikmesriigile esitanud kirjaliku abitaotluse enne projekti või tegevusega seotud töö alustamist. \nTaotluse veebiseminaril osalemissooviga saab täita (registreerimisvorm) SIIN. Kui millegipärast registreerimine ei õnnestu\, siis palun saatke kiri liina.aru@aripaev.ee. \n  \nVeebiseminar toimub 26. augustil kell 10.00-13.15 internetis Äripäeva veebiseminaride keskkonnas.  Enne veebiseminari saadetakse registreerunud kasutajatele infomeil lingiga\, mille kaudu pääseb enne seminari algust veebiseminari keskkonda. \nSeminari on võimalik jälgida oma arvutist töökohal\, kodus või mujal Teile sobivas kohas ning selle jälgimiseks on tarvis arvutit\, internetiühendust ning mugavamaks kuulamiseks kõrvaklappe. Veebiseminari kestel on Teil võimalik esitada ka lektorile küsimusi\, mille saate kirjutada vestluse kasti. \nLisainfot veebiseminari kohta saab küsida kirjutades liina.aru@aripaev.ee. \n  \nVeebiseminar toimub MAK 2014-2020 “Teadmussiirde ja teavituse toetuse (meede 1) üleriigilise ulatusega tegevuste” meetme raames\, tegevust toetab Euroopa Liit. Toetus – infopäeval osaleja kohta 62\,00 eurot.
URL:https://www.pikk.ee/sundmus/aripaeva-veebiseminar-piiriprobleemide-lahendusvariandid/
LOCATION:Muu\, Eesti
GEO:58.595272;25.0136071
END:VEVENT
BEGIN:VEVENT
DTSTART;VALUE=DATE:20200826
DTEND;VALUE=DATE:20200827
DTSTAMP:20260425T153957
CREATED:20200811T082957Z
LAST-MODIFIED:20200811T083157Z
UID:10007715-1598400000-1598486399@www.pikk.ee
SUMMARY:Esitluspäev: Õuna- ja ploomipuude kasvatustehnoloogiad
DESCRIPTION:Eesti Maaülikool PKI Polli aiandusuuringute keskus korraldab õuna- ja ploomipuude esitluspäeva 26. augustil 2020 EMÜ PKI Polli aiandusuuringute keskuses Viljandimaal. \nAeg: 26.august 2020 kell 10.00-14.30\nKoht: EMÜ PKI Polli aiandusuuringute keskus (Polli küla Uus tänav 2\, Mulgi vald\, Viljandimaa; https://goo.gl/maps/CyNU6qLvqGr77UQ77 ) ja EMÜ PKI Polli aiandusuuringute keskuse õuna- ja ploomiaia esitlusaladel. \nPäevakava\n10. 00 Kogunemine EMÜ PKI Polli aiandusuuringute keskuses\n10. 15 Ülevaade õuna -alasest uurimistööst Pollis ja koostööst lähiriikidega. Reelika Rätsepp\, Kristiine Volens EMÜ Polli aiandusuuringute keskus\n11. 15 Nordisk Alkali taimekaitselahendused puuvilja tootmisistandikes. Ingrid Tamla Nordisk Alkali tehniline nõustaja ja turundus.\n11.45 Lõuna\n12.30 Vanade õunapuuistandike renoveerimiskatse esialgsed tulemused. Õunapuude suvine lõikus.\n13.30 Tutvumine erinevate ploomisortidega esitlusalal. Ploomipuude võralõikuse\, väetamise\, taimekaitse ja multšide mõju ploomipuude saagikusele ja saagi kvaliteedile. \nEsitluspäev on tasuta\, osalemiseks on vajalik eelregistreerumine hiljemalt 24. augustiks aadressil: https://bit.ly/ounapuu20 \nKohtade arv on piiratud\, registreerumine lõpetatakse kohtade täitumisel.\nLisainfo:\nKersti Kahu\, Eesti Maaülikool\, Polli aiandusuuringute keskus\ne-post: kersti.kahu@emu.ee \nEsitlustegevus toimub MAK 2014-2020 ’’Teadmussiirde pikaajaline programm aianduse tegevusvaldkonnas’’ raames\, toetab Euroopa Liit.
URL:https://www.pikk.ee/sundmus/esitluspaev-ouna-ja-ploomipuude-kasvatustehnoloogiad/
LOCATION:Viljandimaa\, Viljandimaa\, Eesti
CATEGORIES:Aiandus
GEO:58.2821746;25.5752233
END:VEVENT
BEGIN:VEVENT
DTSTART;VALUE=DATE:20200826
DTEND;VALUE=DATE:20200829
DTSTAMP:20260425T153957
CREATED:20191125T115210Z
LAST-MODIFIED:20200327T073535Z
UID:10009451-1598400000-1598659199@www.pikk.ee
SUMMARY:Toiduhügieen ja -ohutus\, keskaste
DESCRIPTION:Täpsem info ja registreerumine SIIN. \n. \n.Täienduskoolitusest võivad osa võtta:\n– põllumajandustoodete töötlemise või turustamisega tegelev füüsilisest isikust ettevõtja ja tema töötaja ning eraõigusliku juriidilise isiku osanik\, aktsionär\, liige\, juhtorgani liige ja tema töötaja;\n– põllumajandustoodetest mittepõllumajandustoodete töötlemise sh toidu valmistamise või töötlemisega tegelev füüsilisest isikust ettevõtja ja tema töötaja ning eraõigusliku juriidilise isiku osanik\, aktsionär\, liige\, juhtorgani liige ja tema töötaja;\n– toidu valmistamise või töötlemisega tegelev avalik-õigusliku juriidilise isiku juhtorgani liige või töötaja;\n– põllumajandustootjate valdkonda teenindavad isikud (nt kokkuostuga tegelevate ettevõtete töötajad);\n– isikud (FIE-d või ettevõtte esindajad)\, kes koguvad teadmisi uue tegevusvaldkonna kohta;\n– põllumajanduslike esindus- ja erialaorganisatsioonide (MTÜ-d\, mille liikmeteks on põllumajandussaaduste töötlejad) juhatuse liikmed ja töötajad. \nFüüsiliste isikute ja riigiametnike täienduskoolitusel osalemine ei ole toetatav! \nTegevust finantseeritakse Eesti maaelu arengukava 2014-2020 meetme 1 “Teadmussiire ja teavitus” tegevuse “Pikaajalised programmid” raames ja on sihtrühma kuulujatele tasuta. \nNB! Teavitame! Antud koolitustegevuses osalemine on osaleja jaoks vähese tähtsusega abi. \nKoolituse korraldaja:\nEesti Maaülikooli avatud ülikool\nFr. R. Kreutzwaldi 56/1\n51006 Tartu\,\ntel 731 3275\, 731 3174\, 534 41844\ne-post: avayl@emu.ee\nhttp://avatudylikool.emu.ee/
URL:https://www.pikk.ee/sundmus/toiduhugieen-ja-ohutus-keskaste-7/
LOCATION:Tartumaa\, Eesti
CATEGORIES:Toiduainete tootmine
GEO:58.4057128;26.801576
END:VEVENT
BEGIN:VEVENT
DTSTART;VALUE=DATE:20200828
DTEND;VALUE=DATE:20200829
DTSTAMP:20260425T153957
CREATED:20200805T111220Z
LAST-MODIFIED:20200828T100211Z
UID:10009644-1598572800-1598659199@www.pikk.ee
SUMMARY:Põllu- ja metsamajanduse taristu arendamine ja hoid
DESCRIPTION:Tartumaa Põllumeeste Liit korraldab 28. augustil Veskisilla hotellis tasuta infopäeva \nPõllu- ja metsamajanduse taristu arendamine ja hoid \nInfopäev on suunatud MAK 2014-2020 meetme 4.3.2 toetuse taotlejatele (põllumajandustoodete tootmise ja töötlemise ning metsa majandamisega tegelevatele isikutele)\, et nad oleksid teadlikud\, millistele nõuetele peavad nimetatud meetme raames rahastatavad maaparanduse investeeringutoetuste ehitusprojektid vastama\, et need oleksid kvaliteetsed ja vastaksid ka maaparanduse seaduse ja selle rakendusaktide nõuetele. \nEriti soovitatakse osaleda maaparandusühistu spetsialistidel. \nPÄEVAKAVA \n10.45 – 11.00 Registreerimine \n11.00 – 11.45 Maaparanduse investeeringutoetuse (MAK 2014-2020 M 4.3.2) tutvustus – Hannes Puu\, Maaeluministeerium \n11.45 – 12.30 Maaparandusühistud 1.01.2019 jõustunud maaparandusseaduse kohaselt – Olev Krist\, Maaeluministeerium \n12.30 – 13.00 Kohv ja pirukad \n13.00 – 14.30 Tegevused maaparandussüsteemide toimimise tagamiseks – Heiki Pajur Põllumajandusamet \nRegistreerimine kuni 24. augusti kella 12.00: https://forms.gle/JJdQwanV1AMj6Xxm6 \nPalun uuesti registreerida ka neil\, kes seda tegid eriolukorra tõttu 17.03 ära jäänud samale infopäevale. \nLisainfo: Jaan Sõrra\, 508 7320\, ttl@kodu.ee \nMaaparandussusteemid \nMaaparanduse_investeeringutoetus \nMaaparandusuhistute_tegevuskava
URL:https://www.pikk.ee/sundmus/pollu-ja-metsamajanduse-taristu-arendamine-ja-hoid-5/
LOCATION:Järvamaa\, Järvamaa\, Eesti
CATEGORIES:Muu
GEO:58.8866713;25.5000624
END:VEVENT
END:VCALENDAR