BEGIN:VCALENDAR
VERSION:2.0
PRODID:-//PIKK.ee - ECPv6.13.2.1//NONSGML v1.0//EN
CALSCALE:GREGORIAN
METHOD:PUBLISH
X-WR-CALNAME:PIKK.ee
X-ORIGINAL-URL:https://www.pikk.ee
X-WR-CALDESC:Events for PIKK.ee
REFRESH-INTERVAL;VALUE=DURATION:PT1H
X-Robots-Tag:noindex
X-PUBLISHED-TTL:PT1H
BEGIN:VTIMEZONE
TZID:Europe/Tallinn
BEGIN:DAYLIGHT
TZOFFSETFROM:+0200
TZOFFSETTO:+0300
TZNAME:EEST
DTSTART:20200329T010000
END:DAYLIGHT
BEGIN:STANDARD
TZOFFSETFROM:+0300
TZOFFSETTO:+0200
TZNAME:EET
DTSTART:20201025T010000
END:STANDARD
END:VTIMEZONE
BEGIN:VEVENT
DTSTART;VALUE=DATE:20200929
DTEND;VALUE=DATE:20201001
DTSTAMP:20260424T171615
CREATED:20200922T194835Z
LAST-MODIFIED:20200922T194835Z
UID:10009687-1601337600-1601510399@www.pikk.ee
SUMMARY:Veisefarmile bioohutuskava koostamine
DESCRIPTION:Veisefarmile bioohutuskava koostamine (18 t)\, koolitajaks Diivi Põdersoo \n29. ja 30. septembril 2020 Säreveres
URL:https://www.pikk.ee/sundmus/veisefarmile-bioohutuskava-koostamine/
LOCATION:Järvamaa\, Järvamaa\, Eesti
CATEGORIES:Loomakasvatus
GEO:58.8866713;25.5000624
END:VEVENT
BEGIN:VEVENT
DTSTART;VALUE=DATE:20200930
DTEND;VALUE=DATE:20201001
DTSTAMP:20260424T171615
CREATED:20200219T094302Z
LAST-MODIFIED:20200928T132811Z
UID:10009549-1601424000-1601510399@www.pikk.ee
SUMMARY:Infopäev Veiste poegimisperioodi probleemid
DESCRIPTION:Toimumisaeg 30. september 2020\nToimumiskoht Tartu Eesti Maaülikool Kreutzwaldi 56/1 auditoorium II korrusel\nLektor dotsent Kalle Kask\, PhD\, veterinaar-sünnitusabi Eesti Maaülikooli kliinilise veterinaarmeditsiini õppetool \nAjakava\n10.00 – 11.30 õppetöö\n11.30 – 11.45 kohvipaus\n11.45 – 13.15 õppetöö \nOsalema on oodatud kõik teemast huvitatud isikud.\nOsalemine on tasuta.\nInfopäev toimub programmi “Teadmussiirde pikaajaline programm loomakasvatuse valdkonnas” raames. Tegevus on rahastatud Eesti maaelu arengukava 2014 – 2020 vahenditest. \nVajalik on eelregistreerimine. Registreeruda saate SIIN: \nToimunud infopäevade ja konverentsi materjalidega on võimalik tutvuda SIIN. \nKorraldaja\nEesti Maaülikooli avatud ülikool​\nKreutzwaldi 56/1 (III korrus\, ruumid 303-306)\,\n51006 Tartu\ntel 731 3174\, 731 3175\, 731 3275\, 5344 1844\ne-post: avayl@emu.ee
URL:https://www.pikk.ee/sundmus/infopaev-veiste-poegimisperioodi-probleemid/
LOCATION:Tartumaa\, Eesti
CATEGORIES:Loomakasvatus
GEO:58.4057128;26.801576
END:VEVENT
BEGIN:VEVENT
DTSTART;VALUE=DATE:20200930
DTEND;VALUE=DATE:20201001
DTSTAMP:20260424T171615
CREATED:20200903T075234Z
LAST-MODIFIED:20200903T075353Z
UID:10009661-1601424000-1601510399@www.pikk.ee
SUMMARY:Toiduhügieen (vene keeles)
DESCRIPTION:Tasuline koolitus kõigile huvilistele. \nTäpsem info ja registreerumine aadressil: https://ois.emu.ee/pls/ois/!tere.tulemast?leht=OK.AY.VP&id_ay_programm=9862&id_ay_toimumine=14367&systeemi_seaded=3\,1\,12\,1\, \nKoolituse korraldaja:\nEesti Maaülikooli avatud ülikool\nFr. R. Kreutzwaldi 56/1\n51006 Tartu\,\ntel 731 3275\, 534 41844\ne-post: avayl@emu.ee\nhttp://avatudylikool.emu.ee/
URL:https://www.pikk.ee/sundmus/toiduhugieen-vene-keeles-3/
LOCATION:Tartumaa\, Eesti
CATEGORIES:Toiduainete tootmine
GEO:58.4057128;26.801576
END:VEVENT
BEGIN:VEVENT
DTSTART;VALUE=DATE:20201002
DTEND;VALUE=DATE:20201003
DTSTAMP:20260424T171615
CREATED:20191125T115606Z
LAST-MODIFIED:20200327T141900Z
UID:10007541-1601596800-1601683199@www.pikk.ee
SUMMARY:Toidupatogeenid
DESCRIPTION:Täpsem info ja registreerumine SIIN. \n. \n.Täienduskoolitusest võivad osa võtta:\n– põllumajandustoodete töötlemise või turustamisega tegelev füüsilisest isikust ettevõtja ja tema töötaja ning eraõigusliku juriidilise isiku osanik\, aktsionär\, liige\, juhtorgani liige ja tema töötaja;\n– põllumajandustoodetest mittepõllumajandustoodete töötlemise sh toidu valmistamise või töötlemisega tegelev füüsilisest isikust ettevõtja ja tema töötaja ning eraõigusliku juriidilise isiku osanik\, aktsionär\, liige\, juhtorgani liige ja tema töötaja;\n– toidu valmistamise või töötlemisega tegelev avalik-õigusliku juriidilise isiku juhtorgani liige või töötaja;\n– põllumajandustootjate valdkonda teenindavad isikud (nt kokkuostuga tegelevate ettevõtete töötajad);\n– isikud (FIE-d või ettevõtte esindajad)\, kes koguvad teadmisi uue tegevusvaldkonna kohta;\n– põllumajanduslike esindus- ja erialaorganisatsioonide (MTÜ-d\, mille liikmeteks on põllumajandussaaduste töötlejad) juhatuse liikmed ja töötajad. \nFüüsiliste isikute ja riigiametnike täienduskoolitusel osalemine ei ole toetatav! \nTegevust finantseeritakse Eesti maaelu arengukava 2014-2020 meetme 1 “Teadmussiire ja teavitus” tegevuse “Pikaajalised programmid” raames ja on sihtrühma kuulujatele tasuta. \nNB! Teavitame! Antud koolitustegevuses osalemine on osaleja jaoks vähese tähtsusega abi. \nKoolituse korraldaja:\nEesti Maaülikooli avatud ülikool\nFr. R. Kreutzwaldi 56/1\n51006 Tartu\,\ntel 731 3275\, 731 3174\, 534 41844\ne-post: avayl@emu.ee\nhttp://avatudylikool.emu.ee/
URL:https://www.pikk.ee/sundmus/toidupatogeenid/
LOCATION:Tartumaa\, Eesti
CATEGORIES:Toiduainete tootmine
GEO:58.4057128;26.801576
END:VEVENT
BEGIN:VEVENT
DTSTART;VALUE=DATE:20201002
DTEND;VALUE=DATE:20201003
DTSTAMP:20260424T171615
CREATED:20200529T132634Z
LAST-MODIFIED:20200529T132634Z
UID:10007688-1601596800-1601683199@www.pikk.ee
SUMMARY:Koolitus Põllumajandusloomade heaolu - piimaveised
DESCRIPTION:Koolitus toimub teadmussiirde pikaajalikse programmi raames ja on sihtrühmale tasuta. \nKoolitus on rahastatud Eesti maaeluarengukava 2014 – 2020 vahenditest. \nToimumisaeg 2. oktoober \nToimumiskoht Eerika farm Märjal \nMaht 6 akadeemilist tundi\, algus kell 10.00\, orienteeruv lõpp kell 15.30 \nLektorid Eesti Maaülikoolist\ndotsent Marko Kass ja professor David Richard Arney \nKoolitus toimub farmis ja kätkeb endas ka piimaveiste heaolu praktilist hindamist. \nLähem info ja registreerimine SIIT.
URL:https://www.pikk.ee/sundmus/koolitus-pollumajandusloomade-heaolu-piimaveised-5/
LOCATION:Tartumaa\, Eesti
CATEGORIES:Loomakasvatus
GEO:58.4057128;26.801576
END:VEVENT
BEGIN:VEVENT
DTSTART;VALUE=DATE:20201002
DTEND;VALUE=DATE:20201003
DTSTAMP:20260424T171615
CREATED:20200903T082043Z
LAST-MODIFIED:20200903T082226Z
UID:10009663-1601596800-1601683199@www.pikk.ee
SUMMARY:Raalprojekteerimine ja -tootmine
DESCRIPTION:Täpsem info ja registreerumine SIIN. \nKoolitus toimub ülikoolides ja rakenduskõrgkoolides toimuvate täiskasvanute täienduskoolituse kursuste riikliku koolitustellimuse raames.  Tegevust rahastatakse ESF programmist “Täiskasvanuhariduse edendamine ja õppimisvõimaluste avardamine” ning see on sihtrühma kuulujatele TASUTA. \nKoolituste sihtrühma kuuluvad väikeettevõtete töötajaid ja FIE-d\, kellel on vajadust ja huvi õppida kasutama raalprojekteerimise tarkvara. Näiteks\, inimesed kes on tegevad tootmistehnika valdkonnas\, tööstuse\, masinaehituses ja disainis.\nRiigi- ja kohalike omavalitsuste ametnike (sh õpetajate) täienduskoolitusel osalemine ei ole toetatav! \nKoolitus annab tootmises ja tööstuses töötavale inimesele baasteadmised\, mille abil uute tehnoloogiate arendamise ja kasutuselevõtuga edasi minna. \nKoolituse läbinu: \n– teab milles seisneb 3D modelleerimine ja kuidas see suhestub teiste linkidega toote/detaili elütsüklis;\n– teab millised on olulised etapid modelleerimisel ja millised on üldiselt erinevad lähenemised sellele;\n– oskab navigeerida ja käsitleda Fusion 360 töökeskonda;\n– oskab kasutada erinevad modelleerimise tööriistu;\n– oskab loodud mudeli järgi koostada tehnilise joonise. \nKoolitust viib läbi Eesti Maaülikooli Tehnikainstituudi õppejõud Tõnu Leemet\, PhD (tootmistehnika). \nKoolitus toimub viie 8-tunnise õppepäevana: 2. oktoobril\, 9. oktoobril\, 16. oktoobril\, 23. oktoobril ja 30. oktoobril 2020.\nÕppetöö toimub kõigil koolituspäevadel kell 10.00-17.00. \nNB! Enne koolitusele registreerumist mõelge palun läbi\, kas Teil on aega ja valmisolekut osaleda kõigil ettenähtud koolituspäevadel ning sooritada iseseisvaid koduseid ülesandeid. \nKoolituse korraldaja:\nEesti Maaülikooli avatud ülikool\nFr. R. Kreutzwaldi 56/1\n51006 Tartu\,\ntel 731 3275\, 731 3174\, 534 41844\ne-post: avayl@emu.ee\nhttp://avatudylikool.emu.ee/
URL:https://www.pikk.ee/sundmus/raalprojekteerimine-ja-tootmine/
LOCATION:Tartumaa\, Eesti
CATEGORIES:Muu
GEO:58.4057128;26.801576
END:VEVENT
BEGIN:VEVENT
DTSTART;VALUE=DATE:20201002
DTEND;VALUE=DATE:20201003
DTSTAMP:20260424T171615
CREATED:20200910T063055Z
LAST-MODIFIED:20201002T082035Z
UID:10007742-1601596800-1601683199@www.pikk.ee
SUMMARY:XIV Toiduainetööstuse Aastakonverents 2. oktoobril Tallinnas (toimub virtuaalselt)
DESCRIPTION:XIII Toiduainetööstuse Aastakonverents toimub 2. oktoobril virtuaalselt Radisson Blu Olümpia Hotellist. \n  \nRegistreerimine on võimalik lingilt: https://docs.google.com/forms/d/1mn5RW5kBXbdJdKGw287jctTtFUQohnLpiT2tK_1WKFA/edit \nOsalemine üritusel on TASUTA\, aga kohtade arv on piiratud! \n  \nÜrituse kava \n  \n*korraldaja jätab endale õiguse teha vajadusel programmi muudatusi \nTäpsem info ja registreerimine www.toiduliit.ee \, lisainfo telefonil +3726484621 \n  \nXIII Toiduainetööstuse Aastakonverents toimub 2. oktoobril Radisson Blu Olümpia Hotellis. \n  \nLiina Laineveer \n____________________________ \nEesti Toiduainetööstuse Liit \nEstonian Food Industry Association \nSaku 15\, Tallinn \nTel. +372 6 484 978 \nE-mail: liina@toiduliit.ee \nwww.toiduliit.ee \n  \n  \n  \n  \n 
URL:https://www.pikk.ee/sundmus/xiv-toiduainetoostuse-aastakonverents-2-oktoobril-tallinnas/
LOCATION:Tallinn\, Liivalaia 33\, Eesti
END:VEVENT
BEGIN:VEVENT
DTSTART;VALUE=DATE:20201002
DTEND;VALUE=DATE:20201003
DTSTAMP:20260424T171615
CREATED:20200910T071827Z
LAST-MODIFIED:20201002T124040Z
UID:10007744-1601596800-1601683199@www.pikk.ee
SUMMARY:Infopäev "Bioturvalisuse kava koostamine linnukasvatusettevõttes" Hiiumaal
DESCRIPTION:Infopäev teemal „Bioturvalisuse kava koostamine linnukasvatusettevõttes“ toimub 02. oktoobril 2020 Hiiumaal\, Lossi tee 3\, Suuremõisa küla (Hiiumaa Ametikoolis). \nNõutav eelregistreerimine hiljemalt 30.09.2020 SIIN \nAjakava\n12.00-12.15 kogunemine\n12.15-14.00 ettekanne\n14.00-14.15 kohvipaus\n14.15-16.00 ettekanne\, küsimused ja arutelu \nInfopäeva materjalid \nInfopäeva lektor on Janek Prits\, kes on Foodest Baltic OÜ ja Estfarm OÜ juht\, Eesti Linnukasvatajate Selts’i juhatuse liige. Tegeleb linnukasvatusega\, omab erinevate linnuliikide- ja tõugude kollektsiooni. Estfarm OÜ on EMÜ teadus- ja õppebaas ning ainus eesti vuti aretusfarm Eestis. Omab põllumajandustootja 4 ja 5 taseme kutset linnukasvatuse erialal. Omab Veterinaar- ja Toiduameti poolt väljastatud kodulindude\, jäneseliste\, veiste\, sigade\, lammaste tapatoimingute teostaja pädevustunnistust ning lindude ja loomade veo\, juhtide ja vedajate pädevustunnistust. On tegev Järvamaa Kutsehariduskeskuses linnukasvatuse ja karusloomakasvatuse küülikukasvatusvaldkonna 4 ja 5 kutsetaseme erialaõppejõuna. \nInfopäev toimub MAK 2014-2020 meetme „Teadmussiirde pikaajaline programm loomakasvatuse tegevusvaldkonnas II “ raames ja on sihtgrupile tasuta. \n 
URL:https://www.pikk.ee/sundmus/infopaev-bioturvalisuse-kava-koostamine-linnukasvatusettevottes-hiiumaal/
LOCATION:Hiiumaa\, Hiiumaa\, Eesti
ORGANIZER;CN="Maaelu Edendamise Sihtasutus":MAILTO:angelika.nops@pikk.ee
END:VEVENT
BEGIN:VEVENT
DTSTART;VALUE=DATE:20201002
DTEND;VALUE=DATE:20201003
DTSTAMP:20260424T171615
CREATED:20200917T081344Z
LAST-MODIFIED:20200917T110236Z
UID:10009676-1601596800-1601683199@www.pikk.ee
SUMMARY:KEVILI infopäev - "Põllukultuuride vajaduspõhine ja keskkonnasäästlik väetamine"
DESCRIPTION:Infopäev toimub Sadala Rahvamajas. Allolevalt päevakava: \n09:00 – 09:30   Saabumine\, tervituskohv \n09:30 – 09:40   Päeva avamine – Alo Alt\, KEVILI ärijuht \n09:40 – 10:10   Väetamise põhimõtted Agreva OÜ-s – Eva Tuusis\, Agreva OÜ \n10:10 – 11:00      Ca ja Mg seisund Eesti muldades ja muutused – Priit Penu\, PMK Põllumajandusseire ja uuringute osakonna juhataja \n11:00 – 11:15      Kohvipaus \n11:15 – 12:00      Ca ja Mg seisund Eesti muldades ja muutused (jätkub) – Priit Penu\, PMK Põllumajandusseire ja uuringute osakonna juhataja \n12:00 – 13:00      Lõuna \n13:00 – 15:00      2020 hooaja väetamisekatsete tulemused\, väetiste valikud kultuuriti – Meelis Värnik ja Tiiu Annuk\, KEVILI agronoomid \n15:00 – 15:30      KEVILI 2021 kevadväetiste valiku ülevaade ja selgitused – Andre Parm\, ostujuht; Alo Alt\, KEVILI ärijuht \n15:30 – 15:50      KEVILI jooksvad uudised ja meeskonna ning nõukogu infominutid  \n15:50 – …            Kojusõit \nOsalemiseks on kohustuslik registreerida end aadressil kevili@kevili.ee hiljemalt 30. septembiks! \nKohapeal hoolitseme selle eest\, et olemas oleksid kõik vajalikud desinfitseerimisvahendid\, soovikorral kasuta maski. Kui tunned end natukenegi haigena\, ära palun koolitusele tule!
URL:https://www.pikk.ee/sundmus/kevili-infopaev-pollukultuuride-vajaduspohine-ja-keskkonnasaastlik-vaetamine/
END:VEVENT
BEGIN:VEVENT
DTSTART;VALUE=DATE:20201002
DTEND;VALUE=DATE:20201003
DTSTAMP:20260424T171615
CREATED:20200922T113714Z
LAST-MODIFIED:20200924T065351Z
UID:10009686-1601596800-1601683199@www.pikk.ee
SUMMARY:Täienduskoolitus – lambaliha esmane käitlemine
DESCRIPTION:GRUPP ON TÄIS! \nKoolitus toimub 02.oktoober Olustvere Teenindus ja Maamajanduskooli õppetööstuses. \nAjakava: \n 9.45 – 10.00    Kogunemine ja registreerimine õppetööstuse õppeklassis \n10.00 – 11.30  Õppetöö \n11.30 – 11:40  Paus \n11.40 – 13.10  Õppetöö ( sellest 1 h praktiline) \n13.10 – 13:40  Lõuna \n13.40 –  16.40  Parktiline õpe \nTeemad: Lammaste algtöötlemine\, konditustamine\, säilitamine\, liha kvaliteet\, nõuded käitlemisel. \nLektor Eve Klettenberg – Olustvere TMK kutseõpetaja\, lihatoodete tehnoloog \nÕppetööst osavõtmiseks võta kaasa niiskust taluvad puhtad jalanõud ja lihalõikustunniks soe riietus (temp +10 kuni +14 C). \n  \nKontakt marika.oeselg@gmail.com \nTel 513 6242 \nÕppegrupi suurus 12 inimest. Registreerimine kuni 29.september \nÕppekava \nKoolitus on sihtrühmale tasuta. Koolitusest võivad osa võtta põllumajandustoodete tootmise\, töötlemise või turustamisega\, põllumajandusmaa hooldamisega\, põllumajandustoodetest mittepõllumajandustoodete töötlemisega\, sealhulgas toidu valmistamise või töötlemisega\, või metsa majandamisega seotud või nimetatud tegevusega tegelevat füüsilisest isikust ettevõtjat ja tema töötajat\, eraõigusliku juriidilise isiku osanikku\, aktsionäri\, liiget\, juhtorgani liiget ja tema töötajat\, metsa majandamisega tegelevat füüsilist isikut ja toidu valmistamise või töötlemisega tegelevat avalik-õigusliku juriidilise isiku juhtorgani liiget või töötajat. (Teadmussiirde pikaajaliste programmide rakendamise toetus määruse 28.04.2016 nr.46  muutmine. Vastu võetud 24.08.2017 nr 59.RT I\, 30.08.2017\, 1 ) \nTäienduskoolitus toimub MAK 2014-2020 meetme „Teadmussiirde pikaajaline programm loomakasvatuse tegevusvaldkonnas II “ raames\, rahastamisallikas: riigieelarve\, Euroopa Maaelu Põllumajandusfond (EAFRD). \nKoolitusele registreerimine: GRUPP ON TÄIS! \n  \n 
URL:https://www.pikk.ee/sundmus/taienduskoolitus-lambaliha-esmane-kaitlemine/
LOCATION:Viljandimaa\, Viljandimaa\, Eesti
GEO:58.2821746;25.5752233
END:VEVENT
BEGIN:VEVENT
DTSTART;VALUE=DATE:20201003
DTEND;VALUE=DATE:20201004
DTSTAMP:20260424T171615
CREATED:20200910T073811Z
LAST-MODIFIED:20201001T084021Z
UID:10007745-1601683200-1601769599@www.pikk.ee
SUMMARY:Ettevõtete külastused Hiiumaal 03.10.2020
DESCRIPTION:Nõutav eelnev registreerimine kuni 30.09.2020 SIIN \nPäevakava 03.10.2020 \n11.00 kogunemine Hiiumaa Ametikooli juures (Lossi tee 3\, Suuremõisa küla). Liikumine oma transporidivahendiga. \nKülastatakse Lepaniidi mahetalu (FB Lepaniidi mahetalu)\, tegevusala lamba- ja kitsekasvatus ja Uue-Hendriku talu (FB Uue-Hendriku talu)\, tegevusala linnukasvatus. \nGruppi saadab Janek Prits \nSihtgrupp: Ettevõtte külastuse puhul toetatakse põllumajandustoodete tootmise\, töötlemise või turustamisega\, põllumajandusmaa hooldamisega\, põllumajandustoodetest mittepõllumajandustoodete töötlemisega\, sealhulgas toidu valmistamise või töötlemisega\, või metsa majandamisega seotud või nimetatud tegevusega tegelevat füüsilisest isikust ettevõtjat ja tema töötajat\, eraõigusliku juriidilise isiku osanikku\, aktsionäri\, liiget\, juhtorgani liiget ja tema töötajat\, metsa majandamisega tegelevat füüsilist isikut ja toidu valmistamise või töötlemisega tegelevat avalik-õigusliku juriidilise isiku juhtorgani liiget või töötajat. \nEttevõtete külastused toimuvad MAK 2014-2020 meetme „Teadmussiirde pikaajaline programm loomakasvatuse tegevusvaldkonnas II “ raames\, rahastamisallikas: riigieelarve\, Euroopa Maaelu Põllumajandusfond (EAFRD).
URL:https://www.pikk.ee/sundmus/ettevotete-kulastused-hiiumaal-03-10-2020/
END:VEVENT
END:VCALENDAR