BEGIN:VCALENDAR
VERSION:2.0
PRODID:-//PIKK.ee - ECPv6.13.2.1//NONSGML v1.0//EN
CALSCALE:GREGORIAN
METHOD:PUBLISH
X-WR-CALNAME:PIKK.ee
X-ORIGINAL-URL:https://www.pikk.ee
X-WR-CALDESC:Events for PIKK.ee
REFRESH-INTERVAL;VALUE=DURATION:PT1H
X-Robots-Tag:noindex
X-PUBLISHED-TTL:PT1H
BEGIN:VTIMEZONE
TZID:Europe/Tallinn
BEGIN:DAYLIGHT
TZOFFSETFROM:+0200
TZOFFSETTO:+0300
TZNAME:EEST
DTSTART:20230326T010000
END:DAYLIGHT
BEGIN:STANDARD
TZOFFSETFROM:+0300
TZOFFSETTO:+0200
TZNAME:EET
DTSTART:20231029T010000
END:STANDARD
END:VTIMEZONE
BEGIN:VEVENT
DTSTART;TZID=Europe/Tallinn:20230123T093000
DTEND;TZID=Europe/Tallinn:20230123T133000
DTSTAMP:20260423T044159
CREATED:20230111T064815Z
LAST-MODIFIED:20230126T064104Z
UID:10008467-1674466200-1674480600@www.pikk.ee
SUMMARY:Infopäev Uue perioodi otse- ja investeeringutoetused
DESCRIPTION:GRUPP ON TÄIS!\nInfopäev toimub veebis (Zoomis). Kõigile osalejatele saadetakse individuaalne Zoomi sisenemise link enne infopäeva algust meilile.\n\nAjakava:\n9.30-10.00 sisenemine Zoomi\n10.00-11.30 ettekanne\n11.30-11.45 paus\n11.45-13.15 ettekanne \nTeemad: Uue perioodi otse- ja investeeringutoetused. \nLektorid: \nLilia Kulli – pikaajalise kogemusega taimekasvatuse konsulent\, osalenud lektorina erinevatel taimekasvatuse alastel koolitustel. Läbinud erialaseid täiendkoolitusi ja integreeritud taimekaitse koolituse. \nTriin Luksepp – maamajanduse konsulent\, haridus EMÜ maamajandusliku ettevõtlus ja finantsjuhtimine. Lisaks läbinud erinevaid ettevõtte juhtimise ja finantsalaseid täiendkoolitusi. Tegelenud tootjate põllumajandusliku finantsalase nõustamisega 2007.aastast. Osalenud erinevatel põllumajandusalastel koolitustel lektorina. Igapäevaselt tegeleb investeeringu – ja laenuprojektide nõustamise ja elluviimisega. \nEttekanne 1 \nEttekanne 2 \n\nInfopäev on osavõtjatele tasuta. \nKorraldaja Maaelu Edendamise Sihtasutus \nInfopäev toimub MAK 2014-2020 “Teadmussiirde ja teavituse toetuse maakondliku ulatusega tegevuste” meetme raames\, tegevust toetab Euroopa Liit
URL:https://www.pikk.ee/sundmus/infopaev-uue-perioodi-otse-ja-investeeringutoetused-2/
LOCATION:Veebis\, Eesti
ORGANIZER;CN="Maaelu Edendamise Sihtasutus":MAILTO:angelika.nops@pikk.ee
END:VEVENT
BEGIN:VEVENT
DTSTART;VALUE=DATE:20230124
DTEND;VALUE=DATE:20230125
DTSTAMP:20260423T044159
CREATED:20220825T113422Z
LAST-MODIFIED:20220825T113422Z
UID:10008327-1674518400-1674604799@www.pikk.ee
SUMMARY:Kuidas metsaomanikuna deklareerida oma tulusid ja kulusid?
DESCRIPTION:Kuidas metsaomanikuna deklareerida oma tulusid ja kulusid? \n24.01.2023 \nÄripäeva veebiseminar \nVeebiseminaril räägime tuludeklaratsiooni esitamise üldistest põhimõtetest ja metsatulu deklareerimise erisustest. Veebiseminari eesmärk on juhendada metsaomanike oma tulusid ja kulusid õigesti deklareerima. \n  \n  \nVeebiseminaril räägitakse täpsemalt järgmistel teemadel: \n  \n\nKuidas deklaratsiooni esitada?\nMetsamaa müügitulu\, soetamismaksumuse\, müügiga seotud kulu kajastamine (metsaomanik\, kes ei ole FIE ja FIE)\nRaieõiguse ja metsamaterjali müügitulu\, soetamismaksumuse\, müügiga seotud kulu ja metsa majandamise kulude kajastamine (metsaomanik\, kes ei ole FIE ja FIE)\nDeklareeritud andmete alusel maksuvaba tulu suuruse arvutus\, mis suurendab kasvava metsa ja metsamaterjali müügi ning maksustamise erikorra kasutamise järel arvestusliku tulu suurust.\n\n  \nVeebiseminari viib läbi Ülle Läll. \nTeil on võimalus saata lektoritele oma küsimus ette\, et kindlustada vastus. Küsimusi saab esitada siin. \nVeebiseminar on TASUTA. \nMetsanduse teemal korraldatud tegevuses osalemise toetamine on riigiabi komisjoni määruse (EL) nr 702/2014 Euroopa Liidu toimimise lepingu artiklite 107 ja 108 kohaldamise kohta\, millega teatavat liiki abi põllumajandus- ja metsandussektoris ja maapiirkondades tunnistatakse siseturuga kokkusobivaks (ELT L 193\, 01.07.2014\, lk 1–75)\, artikli 38 tähenduses. \nAbil loetakse olevat ergutav mõju\, kui abisaaja on asjaomasele liikmesriigile esitanud kirjaliku abitaotluse enne projekti või tegevusega seotud töö alustamist. \nTaotluse veebiseminaril osalemissooviga saab täita (registreerimisvorm) SIIN. Kui millegipärast registreerimine ei õnnestu\, siis palun saatke kiri hanna.sults@aripaev.ee. \n  \nVeebiseminar toimub 24. jaanuaril 10.00-13.15 internetis Äripäeva veebiseminaride keskkonnas.  Enne veebiseminari saadetakse registreerunud kasutajatele infomeil lingiga\, mille kaudu pääseb enne seminari algust veebiseminari keskkonda. \nSeminari on võimalik jälgida oma arvutist töökohal\, kodus või mujal Teile sobivas kohas ning selle jälgimiseks on tarvis arvutit\, internetiühendust ning mugavamaks kuulamiseks kõrvaklappe. Veebiseminari kestel on Teil võimalik esitada ka lektorile küsimusi\, mille saate kirjutada vestluse kasti. \nLisainfot veebiseminari kohta saab küsida kirjutades hanna.sults@aripaev.ee. \n  \nVeebiseminar toimub MAK 2014-2020 “Teadmussiirde ja teavituse toetuse (meede 1) üleriigilise ulatusega tegevuste” meetme raames\, tegevust toetab Euroopa Liit. Toetus – infopäeval osaleja kohta 62\,00 eurot.
URL:https://www.pikk.ee/sundmus/kuidas-metsaomanikuna-deklareerida-oma-tulusid-ja-kulusid-2/
CATEGORIES:Metsandus
END:VEVENT
BEGIN:VEVENT
DTSTART;TZID=Europe/Tallinn:20230124T000000
DTEND;TZID=Europe/Tallinn:20230125T000000
DTSTAMP:20260423T044159
CREATED:20230104T151538Z
LAST-MODIFIED:20230104T152725Z
UID:10008460-1674518400-1674604800@www.pikk.ee
SUMMARY:Põhisööda tootmine\, ratsiooni koostamine ja söötmise korraldus piimafarmis (26 t)
DESCRIPTION:Põhisööda tootmine\, ratsiooni koostamine ja söötmise korraldus piimafarmis (26 tundi) koolitaja Tõnis Jairus\, \n24. ja 25. jaanuar; 1. ja 9. veebruar 2023. \nkoolitus on TASUTA PRIA sihtgrupile ja täpsema info saadame registreerunuile. \nInfo ja täiendavad küsimused \nRuth Türk\nkoolitusjuht\nJärvamaa Kutsehariduskeskus\,\n+372 5329 2188\,\nruth.turk@jkhk.ee
URL:https://www.pikk.ee/sundmus/pohisooda-tootmine-ratsiooni-koostamine-ja-sootmise-korraldus-piimafarmis-26-t/
LOCATION:Järvamaa\, Järvamaa\, Eesti
CATEGORIES:Loomakasvatus
GEO:58.8866713;25.5000624
END:VEVENT
BEGIN:VEVENT
DTSTART;TZID=Europe/Tallinn:20230124T090000
DTEND;TZID=Europe/Tallinn:20230124T160000
DTSTAMP:20260423T044159
CREATED:20230109T121652Z
LAST-MODIFIED:20230111T115525Z
UID:10008465-1674550800-1674576000@www.pikk.ee
SUMMARY:KEVILI infopäev Lõuna-Eestis "Põllukultuuride vajaduspõhine ja keskkonnasõbralik taimekaitse"
DESCRIPTION:MTÜ KEVILI koolitused korraldab 24. jaanuaril Eesti Lennuakadeemias (Lennu 40\, Reola\, 61707 Tartu maakond) infopäeva “Põllukultuuride vajaduspõhine ja keskkonnasõbralik taimekaitse” \nPäevakava: \n09.00 – 09.30     Saabumine\, tervituskohv \n09.30 – 09.40     Päeva avamine – Hannes Prits\, KEVILI juht \n09.40 – 10.40     Vajaduspõhised taimekaitselahendused – Taimekaitsevahendite firmade esindajad: BASF\, Syngenta\, Bayer\, Corteva\, Nordisk Alkali \n10.40 – 11.00     Kohvipaus \n11.00 – 11.35     Taimekaitsevahendite firmade esindajad jätkavad \n11.35 – 12.35     Tähelepanekud põldudelt 2022 aastal –Tiiu Annuk ja Meelis Värnik\,  KEVILI  taimekasvatusspetsialistid \n12.35 – 13.25     Lõunapaus \n13.25 – 15.25     TKV KEVILI poolne soovitus arvestades keskkonnasõbralikku majandamist  –  Tiiu Annuk ja Meelis Värnik\, KEVILI taimekasvatusspetsialistid \n15.25 – 15.45     KEVILI 2023a. TKV valiku ülevaade ja selgitused Veiko Maastik\, KEVILI ostujuht \n15.45 – 16.00     KEVILI jooksvad uudised\, meeskonna ja nõukogu minutid – KEVILI    meeskond\, nõukogu \n16.00 – …            Kojusõit \nKoolitusel osalemiseks on vajalik registreerumine hiljemalt 20. jaanuariks aadressil kevili@kevili.ee või telefonil +372 5595 5755
URL:https://www.pikk.ee/sundmus/kevili-infopaev-pollukultuuride-vajaduspohine-ja-keskkonnasobralik-taimekaitse/
CATEGORIES:Taimekasvatus
END:VEVENT
BEGIN:VEVENT
DTSTART;VALUE=DATE:20230125
DTEND;VALUE=DATE:20230126
DTSTAMP:20260423T044159
CREATED:20221221T131532Z
LAST-MODIFIED:20221221T131532Z
UID:10010441-1674604800-1674691199@www.pikk.ee
SUMMARY:Süsinikupõllunduse sertifitseerimine ja tasustamine põllumajanduses
DESCRIPTION:LIFE Carbon Farming kutsub osalema süsinikupõllunduse setrifitseerimise ja tasustamismeetmete töötoas 25. jaanuaril Brüsselis. \n\nCarbon farming certification\nand rewarding mechanisms in the agricultural sector\nBRUSSELS\, January 25th\, 2023\n  \nThe LIFE Carbon Farming team invites you to a workshop\non January 25th\, 2023 – 9:30 am to 5:00 pm\nBrussels – Universitaire Stichting – Fondation Universitaire – Egmontstraat/ Rue d’Egmont 11 \nAgenda of the day\nMorning: \n\nIntroduction\nEU vision and objectives on climate change mitigation and adaptation – DG CLIMA\nLessons learnt and synthesis from previous EU carbon projects – IDELE\nPresentation of the LIFE Carbon Farming project and first results – Project partners\nTestimonies of carbon farming implementation from public body\, carbon project developer and carbon buyers\n\nAfternoon: \n\nWorkshops sessions:\nMechanisms to fund agricultural low carbon transition\nCarbon farming methodologies and certification\nImplementation of MRV process\nRound-table discussion with experts answering questions from the audience\nConclusion\n\n\n\n\n\n\nParticipation is free. But for practical reasons\, registration is mandatory. \nRegistreeru siin! \n \nMore info: Anaïs L’Hôte : anais.lhote@idele.fr \n 
URL:https://www.pikk.ee/sundmus/susinikupollunduse-tootuba/
CATEGORIES:Keskkond,Süsinik,Taimekasvatus
ATTACH;FMTTYPE=image/jpeg:https://www.pikk.ee/wp-content/uploads/2021/12/kitsas-Toostusmaastik-Janek-Laanemae-scaled.webp
END:VEVENT
BEGIN:VEVENT
DTSTART;VALUE=DATE:20230125
DTEND;VALUE=DATE:20230126
DTSTAMP:20260423T044159
CREATED:20221222T113740Z
LAST-MODIFIED:20240813T125859Z
UID:10010457-1674604800-1674691199@www.pikk.ee
SUMMARY:„Taimekaitse täienduskoolitus professionaalsele taimekaitsevahendite kasutajale“ (veebis)
DESCRIPTION:25.01.2023 Veebikeskkonnas MS Teams „Taimekaitse täienduskoolitus professionaalsele taimekaitsevahendite kasutajale“ (11h) algusega kell 9.00 \nKursus on tasuline. Täpsem info ja kursusele registreerumine aianduskooli kodulehel https://www.aianduskool.ee/taimekaitse-taienduskoolitus-profile/ \n  \nNB! Vajalik eelregistreerumine\, sest kohtade arv on piiratud.
URL:https://www.pikk.ee/sundmus/taimekaitse-taienduskoolitus-professionaalsele-taimekaitsevahendite-kasutajale-veebis/
CATEGORIES:Taimekaitse
ORGANIZER;CN="R%C3%A4pina Aianduskool":MAILTO:elina.oeselg@aianduskool.ee
END:VEVENT
BEGIN:VEVENT
DTSTART;TZID=Europe/Tallinn:20230126T093000
DTEND;TZID=Europe/Tallinn:20230126T133000
DTSTAMP:20260423T044159
CREATED:20221006T114345Z
LAST-MODIFIED:20221213T130448Z
UID:10008359-1674725400-1674739800@www.pikk.ee
SUMMARY:Infopäev  Tööõigus ja maksukontroll põllumajanduses (toimub Zoomis)
DESCRIPTION:Infopäev toimub veebis Zoomi vahendusel. Registreerimine kuni eelneva tööpäeva kella 17.00. Sisenemise link saadetakse vahetult enne infopäeva algust meilile. Registreerimine SIIN \nAjakava:\n9.30-10.00 seisenemine Zoomi\n10.00-11.30 ettekanne\n11.30-11.45 paus\n11.45-13.15 ettekanne \nTeemad: \nSeminaris antakse ettevõtjale olulised teadmised tööõigusest\, sh keskendutakse põllumajanduse spetsiifikale – summeeritud tööaeg\, töö – ja puhkeaeg\, tööohutus\, töötajate vastutus ning antakse praktilisi soovitusi valdkonnas kasutamiseks. Maksundus alastest teemadest antakse ülevaade töötajate registri (TÖR) kasutamise osas\, Maksu -ja Tolliameti maksuhinnangute osas seoses tööjõumaksude kontrollimisega võrdluses Statistikaameti palgaanalüüsi mudeliga ning nende baasil tehtavate maksukontollide osas. Tuuakse praktilisi näiteid antud valdkonnas esinevatest probleemidest ning antakse soovitused probleemide vältimiseks ning töötajatega seonduvate maksuriskide vähendamiseks. \nLektorid: \nKlen Laus on Advokaadibüroo TRINITI vandeadvokaat\, kelle peamised tegevusvaldkonnad on vaidluste lahendamine\, maksejõuetus ja saneerimine\, tööõigus\, aga ka äriõigus\, liiklusõigus ning pangandus ja finantsõigus. Klen on enam kui 10-aastase töökogemuse jooksul nõustanud ja esindanud kliente paljudes olulistes õigusküsimustes\, samuti on ta aastaid olnud tööõiguse lektoriks nii koolides kui ka erinevatel koolitustel ja konverentsidel. \n  \nTriin Luksepp on maamajanduse konsulent\, haridus EMÜ maamajandusliku ettevõtlus ja finantsjuhtimine. Lisaks läbinud erinevaid ettevõtte juhtimise ja finantsalaseid täiendkoolitusi. Tegelenud tootjate põllumajandusliku finantsalase nõustamisega 2007.aastast. Osalenud erinevatel põllumajandusalastel koolitustel lektorina. Igapäevaselt tegeleb investeeringu – ja laenuprojektide nõustamise ja elluviimisega ning põllumajandustootjatele raamatupidamisteenuse osutamisega. \n  \nInfopäev on osavõtjatele tasuta. \nKorraldaja Maaelu Edendamise Sihtasutus \nInfopäev toimub MAK 2014-2020 “Teadmussiirde ja teavituse toetuse maakondliku ulatusega tegevuste” meetme raames\, tegevust toetab Euroopa Liit
URL:https://www.pikk.ee/sundmus/infopaev-toooigus-ja-maksukontroll-pollumajanduses/
LOCATION:Veebis\, Eesti
ORGANIZER;CN="Maaelu Edendamise Sihtasutus":MAILTO:angelika.nops@pikk.ee
END:VEVENT
BEGIN:VEVENT
DTSTART;TZID=Europe/Tallinn:20230126T100000
DTEND;TZID=Europe/Tallinn:20230126T170000
DTSTAMP:20260423T044159
CREATED:20230116T072900Z
LAST-MODIFIED:20230221T194409Z
UID:10010492-1674727200-1674752400@www.pikk.ee
SUMMARY:Põllumajandusloomade heaolukoolitus – väikemäletsejalised (lambad)
DESCRIPTION:Registreerimise kuni 24.jaanuar või Link registreerimiseks SIIN \nKoolitus toimub 26.jaanuar Eero Praks Tooma talus Rapla maakond\, Paisumaa küla\, Tooma. \nKoolitus toimub 10:00 – 17:00 \nLektor Liilia Tali\, MES lambakasvatuskonsulent\, loomaarst \nTäienduskoolituse eesmärk on anda ülevaade loomade heaolu nõuetest: uttede ja tallede hooldusest poegimisperioodil ( talus hetkel uted poegivad); üldise heaolu tagamise vajadustest ning sobivatest söötmis- ja pidamistingimustest. \nAntud koolitus läheb arvesse loomade heaolu toetuse taotlemisel\, osalejatele väljastatakse tunnistus. \nÕppekava \nInfopäev viiakse läbi „Teadmussiirde pikaajaline programm põllumajanduse\, toidu ja maamajanduse tegevusvaldkonnas“ raames ja on osavõtjatele tasuta.
URL:https://www.pikk.ee/sundmus/pollumajandusloomade-heaolukoolitus-vaikemaletsejalised-lambad-2/
LOCATION:Raplamaa\, Raplamaa
ORGANIZER;CN="Maaelu Edendamise Sihtasutus":MAILTO:angelika.nops@pikk.ee
GEO:58.8492625;24.7346569
END:VEVENT
BEGIN:VEVENT
DTSTART;TZID=Europe/Tallinn:20230127T100000
DTEND;TZID=Europe/Tallinn:20230127T130000
DTSTAMP:20260423T044159
CREATED:20221104T073510Z
LAST-MODIFIED:20221104T092024Z
UID:10010399-1674813600-1674824400@www.pikk.ee
SUMMARY:Koolitusprogramm: Tõhus müük “V moodul”
DESCRIPTION:Koolitusprogramm “Tõhus müük” on üks osa programmist Ekspordivägi\, mille eesmärk on kasvatada toidusektori rahvusvahelise müügi teadmisi ja oskusi. “Tõhus müük” on kuue-päevane ettevõtetele suunatud täienduskoolitus\, mis on kombineeritud ettevõtete juhendamisega\, et koolitusel õpitu saaks parimal moel ellu viidud. \nTõhusa müügi koolitusprogrammi on valitud täna toidusektori jaoks kõige olulisemad teemad\, millele toetudes saavad ettevõtjad aru\, kuhu  oma müügi fookus panna ja kuidas luua professionaalselt pikaajalisi sooje kliendisuhteid. \nSihtrühm \nTäienduskoolitus on mõeldud põllumajandustoodete tootmise ja töötlemise\, põllumajandusmaa hooldamise\, põllumajandustoodetest mittepõllumajandustoodete töötlemise või metsa majandamisega tegelevale füüsilisest isikust ettevõtjale ja tema töötajatele ning eraõigusliku juriidilise isiku osanikele\, aktsionäridele\, liikmetele\, juhtorgani liikmetele ja tema töötajatele. \nPeale programmi läbimist \n\nteavad osalejad\n\n\nmissugused on tõhusa müügisuhtluse alused ja kuidas oma müügisuhtlust korraldada;\nkuidas müüa toodet jaekeskkonnas;\nkuidas koostada vajalikud müügimaterjalid;\nkuidas kujundada toote hinda\, kuidas arvutada omahinda ning kujundada hinda jaeketi jaoks;\nmissugused on müügitöös vajalikud lepingud;\nkuidas edukalt läbi rääkida.\n\n\nsuhtuvad osalejad müüki kui süsteemsesse protsessi.\n\nRegistreeri koolitusele SIIN\nKoolitusprogrammi sisu ja teemad: \nI moodul: Müügisuhtlus.  Esmamulje loomine ja usalduse tekitamine edasimüüja jaoks. Edasimüüja vajaduste kaardistamine. Edasimüüjale sobivate lahenduste leidmine.  Müügisuhtluse rutiinid. Kirjalik ja suuline suhtlus. Lojaalse kliendisuhte ehitamine. \nII moodul: Müük jaekeskkonnas. Visiitide planeerimine. Müüjate koolitamine. Edasimüüja müügiaktiivsuse toetamine. \nIII moodul: Müügimaterjalid. Materjalid müüjate koolitamiseks. Klientide jaoks koostatud materjalid. Müügimaterjalid jaekeskkonnas. Mis materjalidest töötab kõige paremini? \nIV moodul: Toote hinnakujundus. Omahinna arvutus. Hulgi- ja jaehind. Marginalid ja allahindlused. Kampaaniahinnad ja sooduspakkumised. \nV moodul: Müügilepingud. Missugused on müügilepingute tingimused. Millele lepingutes tähelepanu pöörata? Erinevad lepingute tüübid. \nVI moodul: Läbirääkimised. Kuidas saavutada läbirääkimises mõlemaid pooli saavutav lahendus? Läbirääkimisteks ettevalmistumine. Läbirääkimiste tehnikad. Läbirääkimiste praktika. \nKoolituse metoodika ja hindamine \nKõik koolitused toimuvad veebikoolitusena Zoomi keskkonnas. Igale koolitusele  järgneb iseseisev töö. \nOsalejad\, kes iseseisva töö esitavad\, saavad koolitajalt selle kohta koolituskeskkonnas kirjaliku hinnangu\, kas see töö vastab nõuetele või mitte. Kui kõik iseseisvad tööd vastasid nõuetele\, saavad osalejad tunnistuse. Muul juhul tõendi. Tõendi saavad nad ka siis kui osaleja ei ole iseseisvaid töid teinud. \nOsalevate ettevõtete personaalne juhendamine toimub peale vastavat koolituspäeva ning osalejal on võimalik valida\, kas ja mitu tundi ta juhendamist soovib. Juhendaja tutvub eelnevalt ettevõtte taustaga\, spetsiifikaga\, praeguse olukorraga\, kitsaskohtadega\, lahendamist vajavate probleemidega ning uurib väljapakkumiseks võimalikke lahendusviise jms. Selle alusel ta planeerib ja viib läbi juhendamise. \nKõik koolitused salvestatakse ja on olemas online koolituskeskkonnas Talent LMS järelvaatamiseks. Koolitus ja juhendamine toimub eesti keeles. \nKoolituse maht \nKoolitusprogramm sisaldab 18 akadeemilist tundi kontaktõpet\, 50 akadeemilist tundi iseseisvat tööd koduste tööde koostamiseks\, 6 astronoomilist tundi juhendamist. Programmi kogumaht 74\,75 akadeemilist tundi. \nProgrammi koolitajad \nKatrin Maacki müügikogemus ulatub aastasse 1996\, mil ta alustas aktiivse teenuste müügiga suhtekorralduse konsultandi ametikohal. Suurimaks kogemuseks müügi valdkonnas hindab aga Katrin aega\, mil ta töötas rahvusvahelises korporatsioonis SCA Hygiene Products OÜ Eesti müügijuhina ning Balti riikide turundusjuhina. Katrinil on kogemus ka mikroettevõtte Pearlstory era- ja ärimüügi protsesside juhtimisel. \n  \nAndre Sevastjanov on Maris Gildeni turundusjuht\, kellel on kogemus väikese eelarvega nutikast turundamisest ja suurepärane kogemus jaekettides turundamisest ja müügist. Maris Gildeni portfelli kuuluvad snäkid\, küpsetised\, maiustused Väike väänik\, What the Fruit\, Kass Artur jm. Andre Sevastjanov on Marketingi Instituudi koolitaja. \n  \n  \nJanek Kalbin on rohkem kui 15 aastat töötanud toiduainete tootmise ja müügiga\, seda nii müügijuhtmise\, turunduse kui üldjuhtimise alal. Muuhulgas on töötanud Rakvere Lihakombinaadi\, Talleggi ja Bauhofi müügidirektorina ning HKScan lähiturgude asepresidendina. Peamisteks vastutusvaldkondadeks on olnud koostöö läbirääkimised ja arendusprojektid erinevate partneritega ning kaubanduskettidega nii Baltikumis kui ka Suurbritannias ja Saksamaal. \n  \nProgrammi moodulid \nI moodul koolitaja ja juhendaja Katrin Maack \n\nkoolitus 25. november 2022.\, 10:00 – 13:00\nettevõtete personaalne juhendamine\n\nII moodul koolitaja ja juhendaja Katrin Maack \n\nkoolitus 02. detsember 2022\, 10.00-13.00 \nettevõtete personaalne juhendamine\n\nIII moodul koolitaja ja juhendaja Katrin Maack \n\nKoolitus 09. detsember 2022\, 10:00 – 13:00\nettevõtete personaalne juhendamine\n\nIV moodul koolitaja ja juhendaja Andre Sevastjanov \n\nkoolitus 13. jaanuar 2023\, 10:00 – 13:00\nettevõtete personaalne juhendamine\n\nV moodul koolitaja ja juhendaja Janek Kalbin \n\nkoolitus 27.jaanuar 2023\, 10:00 – 13:00\nettevõtete personaalne juhendamine\n\nVI moodul koolitaja ja juhendaja Janek Kalbin \n\nLõpuseminar 03. veebruar 2023 10:00 – 13:00\n\nKoolituse ja juhendamise hind \nKoolitusprogramm on  tasuta\, kuid selle eest arvestatakse vähese tähtsusega abi (VTA) kuni 900€ ühe osaleja kohta. Juhendamine on tasuta kuni viiele osalejale ühest ettevõttest\,  kuid selle eest arvestatakse vähese tähtsusega abi 750€/h ettevõtte  kohta. Vähese tähtsusega abi kohta loe lähemalt SIIT. \nRegistreeri koolitusele SIIN\nToetajad \nTeadmussiirde pikaajaline programm toidusektori müügivõime edenduse tegevusvaldkonnas viiakse ellu “Eesti maaelu arengukava 2014–2020” meetme „Teadmussiire ja teavitus“  tegevuse liigi „Pikaajalised programmid“ raames ning seda rahastatakse Euroopa Maaelu Arengu Põllumajandusfondist (EAFRD).
URL:https://www.pikk.ee/sundmus/koolitusprogramm-tohus-muuk-v-moodul/
LOCATION:Veebis\, Eesti
CATEGORIES:Turundus
ORGANIZER;CN="Visionest Institute / Marketingi Instituut":MAILTO:gloria.saarna@mi.ee
END:VEVENT
END:VCALENDAR