BEGIN:VCALENDAR
VERSION:2.0
PRODID:-//PIKK.ee - ECPv6.13.2.1//NONSGML v1.0//EN
CALSCALE:GREGORIAN
METHOD:PUBLISH
X-WR-CALNAME:PIKK.ee
X-ORIGINAL-URL:https://www.pikk.ee
X-WR-CALDESC:Events for PIKK.ee
REFRESH-INTERVAL;VALUE=DURATION:PT1H
X-Robots-Tag:noindex
X-PUBLISHED-TTL:PT1H
BEGIN:VTIMEZONE
TZID:Europe/Tallinn
BEGIN:DAYLIGHT
TZOFFSETFROM:+0200
TZOFFSETTO:+0300
TZNAME:EEST
DTSTART:20230326T010000
END:DAYLIGHT
BEGIN:STANDARD
TZOFFSETFROM:+0300
TZOFFSETTO:+0200
TZNAME:EET
DTSTART:20231029T010000
END:STANDARD
END:VTIMEZONE
BEGIN:VEVENT
DTSTART;TZID=Europe/Tallinn:20230918T090000
DTEND;TZID=Europe/Tallinn:20230918T170000
DTSTAMP:20260424T080809
CREATED:20230703T103308Z
LAST-MODIFIED:20251229T112444Z
UID:10010730-1695027600-1695056400@www.pikk.ee
SUMMARY:Taimekaitse koolitus turustajale
DESCRIPTION:18.09.2023 „Taimekaitse koolitus turustajale“. (10h) Koolitus toimub veebis MS Teams algusega kell 9.00 \nKoolitusel saavad osaleda nii turustaja taimekaitse tunnistuse pikendajad kui ka taotlejad. \nKursus on tasuline. Täpsem info ja kursusele registreerumine Räpina Aianduskooli kodulehel https://www.aianduskool.ee/taimekaitse-turustajatele/ \n  \nNB! \n\nKõigile koolitustele vajalik eelregistreerumine\, sest kohtade arv on piiratud.\nTaimekaitse täienduskoolitusel saavad osaleda vaid need\, kelle taimekaitse tunnistus ei ole veel aegunud. Kõik aegunud tunnistuse omanikud peavad uuesti läbima taimekaitse aluskoolituse. Pikendada saab vaid veel kehtivat tunnistust.\nKoolitused toimuvad õppegrupi täitumisel. Osalejate vähesusel jätab Räpina Aianduskool omale õiguse koolituse edasilükkamiseks või selle ära jäämiseks.\n\n  \nKontaktisik\nEda Gross\nRäpina Aianduskooli täienduskoolituse metoodik\nEda.gross@aianduskool.ee\nTel 53461 209; 796 1549
URL:https://www.pikk.ee/sundmus/taimekaitse-koolitus-turustajale-3/
CATEGORIES:Taimekaitse
ORGANIZER;CN="R%C3%A4pina Aianduskool":MAILTO:elina.oeselg@aianduskool.ee
END:VEVENT
BEGIN:VEVENT
DTSTART;TZID=Europe/Tallinn:20230919T140000
DTEND;TZID=Europe/Tallinn:20230919T170000
DTSTAMP:20260424T080809
CREATED:20230907T201721Z
LAST-MODIFIED:20230907T202014Z
UID:10010778-1695132000-1695142800@www.pikk.ee
SUMMARY:Mahelambakasvatuse infopäev
DESCRIPTION:Mahepõllumajanduse Koostöökogu korraldab 19.09 kell 14:00-17:00 mahelambakasvatuse infopäeva veebis (Zoom keskkond). \nPeamiseks teemaks on sügisesed tööd lambafarmis: \n\npõhikarja loomade valik;\npaaritusgruppide moodustamine\,\ntalveks valmistumine.\n\nLisaks räägitakse seoses 2023. a erakorralise aastaga lammaste söödaratsioonist – kui oluline on koresööt lamba söödaratsioonis\, millega seda hädapäraselt asendada ja kuidas kehvade varudega kevadeni välja tulla. \nLektor: Katrin Tähepõld (lambakasvatuskonsulent\, veterinaar) \nOsalemiseks on kindlasti vaja registreeruda hiljemalt 15.09.2023 lingil https://forms.gle/gNCTpCvo1HeWsMNA9. \nLisainfo: maheteave@gmail.com \nInfopäev toimub MAK 2014-2020 meetme „Teadmussiirde programm põllumajanduse\, toidu ja maamajanduse tegevusvaldkonnas“ mahemajanduse valdkonna raames \, toetab Euroopa Liit.
URL:https://www.pikk.ee/sundmus/mahelambakasvatuse-infopaev-5/
LOCATION:Veebis\, Eesti
CATEGORIES:Loomakasvatus,Mahemajandus
END:VEVENT
BEGIN:VEVENT
DTSTART;TZID=Europe/Tallinn:20230920T093000
DTEND;TZID=Europe/Tallinn:20230920T153000
DTSTAMP:20260424T080809
CREATED:20230601T104138Z
LAST-MODIFIED:20231003T055008Z
UID:10010681-1695202200-1695223800@www.pikk.ee
SUMMARY:Infopäev M 6.1 Noorte põllumajandustootjate tegevusega alustamine (äriplaan)
DESCRIPTION:Infopäev toimub Zoomis. Kõigile osalejatele saadetakse individuaalne Zoomi sisenemise link ette infopäeva algust meilile. Registreerimine infopäevale on avatud kuni eelneva päeva kell 17-ni. \nRegistreerimine 06. septembri 2023 infopäevale GRUPP ON TÄIS! \nRegistreerimine 13. septembri 2023 infopäevale SIIN \nRegistreerimine 20. septembri 2023 infopäevale SIIN \nRegistreerimine 27. septembri 2023 infopäevale SIIN \nVastavalt meetme 6.1 “Põllumajandusliku tegevusega alustava noore ettevõtja toetus” (edaspidi meede 6.1) määruele\, on taotlejal kohustus läbida enne taotluse esitamist ettevõtlusalane infopäev. Kui planeerid esitada 2023. aastal meetme 6.1 taotlusvoorus taotluse\, siis palun pane ennast aegsasti kirja ettevõtlusalasele infopäevale. Tegemist on samasisuliste infopäevadega. Peale infopäeva lõppu saadame PRIAsse osalejate logi\, mille alusel sisestab PRIA osavõtjad oma andmebaasi. \nInfopäevade ajakava ja sisu: \nInfopäevade ajakava ja sisu: \n9.30-10.00 sisenemine Zoomi \n10.00-11.30 Lühiülevaade meetme 6.1 määrusest\, äriplaani koostamine ja selle vajalikkus põllumajandusliku ettevõtlusega tegelemisel\, tegevuste kirjeldused\, näited\, küsimustele vastamine.  \n12.00-13.30 äriplaani koostamine\, rahavoogude planeerimise eesmärk\, rahavoogude pika- ja lühiajaline planeerimine\, näited\, küsimustele vastamine \n14.00-15.30 ettevõtete rahastamine\, finantssuhtarvud\, küsimused ja vastused \n  \nLektorid Triin Luksepp (MES konsulent maaettevõtlus ja finantsmajandus\, mentorlusteenus\, toetuste taotlemine valdkondades) ja Angelika Nöps (MES konsulent maaettevõtlus ja finantsmajandus\, nõuetele vastavus\, toetuste taotlemine valdkondades) \nInfopäev on osavõtjatele tasuta. \nKorraldaja Maaelu Edendamise Sihtasutus \nInfopäevad viiakse läbi „Teadmussiirde pikaajaline programm põllumajanduse\, toidu ja maamajanduse tegevusvaldkonnas“ (viitenumber 222076) raames ja on osavõtjatele tasuta.
URL:https://www.pikk.ee/sundmus/infopaev-m-6-1-noorte-pollumajandustootjate-tegevusega-alustamine-ariplaan/2023-09-20/
LOCATION:Veebis\, Eesti
ORGANIZER;CN="Maaelu Edendamise Sihtasutus":MAILTO:angelika.nops@pikk.ee
END:VEVENT
BEGIN:VEVENT
DTSTART;TZID=Europe/Tallinn:20230920T100000
DTEND;TZID=Europe/Tallinn:20230920T130000
DTSTAMP:20260424T080809
CREATED:20230814T055032Z
LAST-MODIFIED:20230926T055556Z
UID:10010750-1695204000-1695214800@www.pikk.ee
SUMMARY:Kliimaprojekti tutvustusseminar
DESCRIPTION:Maaelu Teadmuskeskus korraldab 20. septembril projekti Climate Farm Demo tutvustusseminari põllumajandustootjatele \nClimate Farm Demo projekti siht on kliimasõbralike lahenduste teadvustamine ning põllumajandusettevõtete võrgustiku arendamine Euroopas. Projekti üks toetuspunkt ongi demofarmer\, kes on valmis oma kogemusi jagama ja loomulikult ka teadmisi ammutama. METK kutsub Eestist osalema vähemalt 25 põllumajandusettevõtet; Euroopast liitub projektiga kokku 1500 ettevõtet. \nKutsume liituma põllumajandusettevõtteid\, kellel on soov oma tootmise kliimasõbralikkusega tegeleda. \n\nIgale osalevale ettevõttele koostab nõustaja isikliku kliimamuutusega kohanemise ja selle leevendamise tegevusplaani.\nKoolitusseminaridel jagavad nõustajad ja eksperdid kõige värskemat teavet ning ühiselt arutatakse praktikas kogetut.\nSaate tasuta ligipääsu nõustajatele ja ekspertteadmistele\, ning teie kogemus on eeskujuks teistele.\nDemofarmid koguvad ideid\, kuidas edendada oma ettevõtte majandamise tehnilist poolt\, nagu karja haldamine\, põllukultuuride ja sõnniku majandamine.\nDemofarmeri üks põhiülesanne oma ettevõttes on esitluspäevade korraldamine. Samas avanevad võimalused käia ka ise õppereisidel ja esitlustel.\nFarmiga otseselt tegelema hakkavad nõustajad valime vastavalt farmi tegemistele ja vajadustele.\n\nSeminar on suunatud põllumajandustootjana-demofarmina osaleda soovijatele. \nSeminar toimub hübriidvormis: Jänedal ning veebi vahendusel (vali\, kas Zoom või YouTube ülekanne https://www.youtube.com/user/maainfo ). \nMärgi ennast osalejaks kuni 18. septembrini (kl 10) \nAlgus kell 10.00.  Projekti tutvustavad Hanna Tamsalu ja Riina Maruštšak – värske projektikoordinaator METKist \n\nProjekti ja demofamide võimaluste-kohustuste tutvustus\nKüsimused-vastused\nEsimeste esitluspäevade aegade kavandamine järgmiseks 12 kuuks\nDemofarmina osalemise nõusolekuankeedi allkirjastamine\n\nClimate Farm Demo projekti esitluse slaidid \n \nLähimate kuude plaanis on: \n\nSeptember 2023 – projektimeeskond võtab iga soovijaga personaalselt ühendust\n20. september – räägime ühiselt sisu ja küsimused üksipulgi läbi\, kavandame esimeste esitluspäevade ajad järgmiseks 12 kuuks\nNovember 2023 – kliimaplaanide koostamise algus (nõustajad saavad pidevalt koolitusi\, mida plaanides arvesse võtta)\nDetsember 2023 – seminar omavahel: temaatiline koolitus ja kuidas üldiselt läheb\nMärts 2024 – kõikide farmide kliimaplaanid on valmis\n\nInfot projekti kohta on nii https://metk.agri.ee/climatefarmdemo kui  https://www.pikk.ee/metk-otsib-demofarmereid/ ja projekti inglisekeelsel veebil https://climatefarmdemo.eu/ \nDemofarmina osalemise huvist saab teada anda projekti Eesti kodulehel: https://metk.agri.ee/climatefarmdemo
URL:https://www.pikk.ee/sundmus/kliimaprojekti-tutvustusseminar/
LOCATION:Lääne-Virumaa\, Lääne-Virumaa\, Eesti
CATEGORIES:Keskkond,Süsinik
ATTACH;FMTTYPE=image/jpeg:https://www.pikk.ee/wp-content/uploads/2023/07/CFD_ristiku_p6uastress-scaled.webp
END:VEVENT
BEGIN:VEVENT
DTSTART;TZID=Europe/Tallinn:20230920T100000
DTEND;TZID=Europe/Tallinn:20230920T133000
DTSTAMP:20260424T080809
CREATED:20230808T144303Z
LAST-MODIFIED:20231007T163053Z
UID:10010744-1695204000-1695216600@www.pikk.ee
SUMMARY:Infopäev: Toidu märgistamine\, Tallinnas
DESCRIPTION:Eesti Toiduainetööstuse Liit korraldas  toidualase teabe esitamise kontaktinfopäeva\, mille teemaks koostisosade loetelu koostamine. Käsitleme detaile nii loengute kui ka arutelu ja küsimuste-vastuste vormis. \nInfopäev on mõeldud neile\, kellel märgistamise alusteadmised juba olemas ja kes tunnevad huvi nüansside ning detailide vastu. Ootame osalejatelt ettesaadetud küsimusi ning valmisolekut infopäeva käigus arutleda ja kogemusi jagada. \nOsa võivad võtta kõik huvitatud isikud. Osalemine on vähese tähtsusega abi (VTA)\, abisumma ühe osavõtja kohta arvutatakse osavõtjate lõpliku arvu järgi\, kuid see ei ületa 150 eurot. Ettevõtte esindajana osalejale on infopäev tasuta\, kui ettevõttel on piisavalt VTA jääki. VTA vaba jääki saab kontrollida veebilehelt https://fin.ee/riigihanked-riigiabi-osalused-kinnisvara/riigiabi \nJAOTUSMATERJALID: https://toiduteave.ee/infopaev-20-09-23-tallinnas-toidualase-teabe-esitamine/ \nPÄEVAKAVA*: \n9:45 – 10:00    Registreerimine\, hommikukohv \n10:00 – 11:30  Loengud \nMida pidada meeles koostisosade loetelu koostamisel? Koostisosade järjestamine sisalduse kahanevas järjestuses\, vee ja lenduvate ühendite esitamine; koostisosade korrektsed nimetused; teatud komponentide väljajätmine loetelust. \nKoostisosade koguse esitamine ning allergeenide esitamine \nLisaainete esitamine\, s.h tõlgendusotsused ja nende mõju märgistamisele \nLõhna- ja maitseainete esitamine \n11:30 – 12:00  Paus \n12:00 – 13:30  Aruteluring. Küsimustele vastamine\, kogemuste jagamine \n*Korraldaja võib vajadusel teha  päevakavas muudatusi \nKoolitajad: \nHellika Kallaste\, Marit Priinits\, Katrin Kempi Regionaal- ja põllumajandusministeeriumi toiduohutuse osakonnast \nTiiu Rand Põllumajandus- ja Toiduameti toiduosakonnast \nKairi Ringo toidu märgistamise e-käsiraamatu tekstide koostaja\, aruteluringi moderaator \n  \nInfopäev toimub MAK 2014-2020 meetme „Teadmussiirde pikaajaline programm põllumajanduse\, toidu ja maamajanduse tegevusvaldkonnas“ toidu ja toiduohutuse valdkonna raames\, toetab Euroopa Liit.
URL:https://www.pikk.ee/sundmus/infopaev-toidu-margistamine-tallinnas/
LOCATION:Tallinn\, Liivalaia 33\, Eesti
CATEGORIES:Maaettevõtlus,Toiduainete tootmine,Toit ja toiduohutus
END:VEVENT
BEGIN:VEVENT
DTSTART;VALUE=DATE:20230921
DTEND;VALUE=DATE:20230922
DTSTAMP:20260424T080809
CREATED:20230124T113132Z
LAST-MODIFIED:20230124T113132Z
UID:10008502-1695254400-1695340740@www.pikk.ee
SUMMARY:Karjatervis - tasuline koolitus kutsetegevusluba omavatele loomaarstidele
DESCRIPTION:Algus 14. märtsil 2023.\nKoolitusele eelneb tutvustav infopäev 16. märtsil 2023. \nKoolituse sihtrühm on kutsetegevusluba omavad loomaarstid. \nKoolituse maht on 260 akadeemilist tundi\, koolitus kestab aasta\, esialgne lõpukuupäev 23.02.2024.\nKoolitus toimub lähiõppe vormis.\nToimumiskoht on Eesti Maaülikool ning erinevad praktikafarmid. \nKoolituse eduka läbimise tulemusena oskab loomaarst juhtida ja nõustada karjaterviseprogrammi läbiviimist piimaveisekarjas. \nTäiendõppeprogrammi juhid on Eesti Maaülikooli kaasprofessorid Kerli Mõtus ja Piret Kalmus. Lektoritena löövad kaasa mitmed oma ala spetsialistid nii Eestist kui välismaalt.\nVaata programmijuhi pöördumist siit. \nKoolitus on tasuline\, lähem info registreerumine SIIT. \nKoolitust korraldab\nEesti Maaülikooli avatud ülikool​\nFr. R. Kreutzwaldi 56/1 (III korrus\, ruumid 303-306)\, 51006 Tartu\ntel 731 3175\, 5344 1844\ne-post: avayl@emu.ee
URL:https://www.pikk.ee/sundmus/karjatervis-tasuline-koolitus-kutsetegevusluba-omavatele-loomaarstidele/2023-09-21/
LOCATION:Tartu\, Eesti
CATEGORIES:Loomakasvatus
ORGANIZER;CN="Eesti Maa%C3%BClikooli avatud %C3%BClikool":MAILTO:avayl@emu.ee
END:VEVENT
BEGIN:VEVENT
DTSTART;VALUE=DATE:20230921
DTEND;VALUE=DATE:20230924
DTSTAMP:20260424T080809
CREATED:20230815T040212Z
LAST-MODIFIED:20230815T040212Z
UID:10010754-1695254400-1695513599@www.pikk.ee
SUMMARY:Rahvusvaheline noorte künnivõistlus 2023
DESCRIPTION:Rahvusvaheline noorte künnivõistlus 2023 toimub 21.-24. september Olustveres \nAjakava \n21. september\, neljapäev – Välisvõistlejate saabumine\, \n22. september\, reede \n9.15 tehnika loosimine välisvõistlejatele\, tehnikaga tutvumine õppetalus \n13.00 instrueerimine\, loosimine (kõigile võistlejatele) lipuväljakul; järgneb proovikünd \n17.30 traktorite rivistamine lipuväljakul \n  \n23.september\, laupäev \n8.00 künnivõistluste avamine lipuväljakul \n9.00  esimesed kündjad-  avavagu (roheline lipp) \n9.40 esimesed kündjad –  põhikünd (roheline lipp) \n13.00 teised kündjad –  avavagu (roheline lipp) \n13.40 teised kündjad – põhikünd (roheline lipp) \n18.00 võistluste lõpetamine lipuväljakul \n18.15 vastuvõtt leivakojas väliskülalistele \n  \n* Võistlused toimuvad maailmameistrivõistluste reeglite järgi \n  \nVõistluste peakohtunik  Taavi Võsa 53306570 \nOlustvere Teenindus- ja Maamajanduskooli tehniline teostus – Elmut Lehiste 51928901\,  Riho Kala       5133703 \nEsitlustegevusi toetab Euroopa Liit\, MAK 2014–2020 „Teadmussiirde programm põllumajanduse\, toidu ja maamajanduse tegevusvaldkonnas” raames
URL:https://www.pikk.ee/sundmus/rahvusvaheline-noorte-kunnivoistlus-2023/
LOCATION:Viljandimaa\, Viljandimaa\, Eesti
CATEGORIES:Keskkond,Süsinik
GEO:58.2821746;25.5752233
END:VEVENT
BEGIN:VEVENT
DTSTART;TZID=Europe/Tallinn:20230921T100000
DTEND;TZID=Europe/Tallinn:20230921T153000
DTSTAMP:20260424T080809
CREATED:20230103T105127Z
LAST-MODIFIED:20230103T105127Z
UID:10008457-1695290400-1695310200@www.pikk.ee
SUMMARY:Koolitus konsulentidele - "Biomajandus\, innovatsioon ja kliimaneutraalsuse saavutamine maamajanduses"
DESCRIPTION:Maht: 66 akadeemilist tundi (60 tundi auditoorset\, 6 tundi praktikat) \nSihtrühm: Maaeluministri 15. mai 2015. a määruse nr 61 “Nõustajate koolitustoetus” § 6 lõikes 1 nimetatud isikud.\nKonsulendid\, kes soovivad saada viienda\, kuuenda\, seitsmenda taseme kutsestandardis nõutud kompetentside arendamist ja on sobiv kõikidele spetsialiseerumistele. \nToimumisaeg: 08.02.2023 – 12.09.2023\n* bio- ja ringmajandusest (I moodul) – 8.02.2023; 15.02.2023; 21.03.2023; 22.03.2023. Ettevõtte külastus.\n* innovatsioonijuhtimisest (II moodul) – 10.05.2023; 17.05.2023; 07.06.2023; 14.06.2023. Ettevõtte külastus.\n* kliimaneutraalsuse saavutamisest maamajanduses (III moodul) – 21.09.2023; 22.09.2023. \nKoolitus toimub auditoorse kontaktõppe vormis. \nPäevakava (6 AT):\n10.00 – 11.30 loeng ( 2 AT)\n11.30 – 11.45 paus\n11.45 – 13.15 loeng (2 AT)\n13.15 – 14.00 lõuna\n14.00 – 15.15 loeng (2 AT) \n\n\n\nÕppekava valmistab nõustajat ette maamajandusega tegelevatele isikutele bio- ja ringmajanduse erinevate valdkondade\, innovatsiooni ja kliimaneutraalsuse saavutamisega seotud küsimustes praktiliste lahenduste pakkumiseks.\n\n\n\nÕpiväljundid\, koolituse edukalt läbinu:\n* mõistab bio- ja ringmajanduse olemust ning selle sisu ja rakendamise võimalusi\n* oskab pakkuda ettevõtetele nõuandeteenusena praktilisi lahendusi lähtuvalt bio- ja ringmajanduse olukorrast ja perspektiividest Eestis\, Euroopa Liidus.\n* mõistab bio-ja ringmajanduse seoseid ja potentsiaali globaalsete väljakutsete lahendamisel\, sh kliimaneutraalsus ja kliimamuutustega kohanemine; ressursside kestlik kasutamine ja ringlussevõtt; elurikkus\, maismaa ja mereökosüsteemide vastupidavuse suurendamine; toidusüsteemide kestlikkus\, sh toidu- ja energiajulgeolek;\n* teab innovatsioonijuhtimisega seotud aktuaalseid probleeme\, olulisemaid teoreetilisi koolkondi\, arengusuundi ja jätkusuutliku arengu põhiprintsiipe;\n* omab teadmisi innovatsioonivõimekuse arendamisest ja juhtimisest ettevõtetes\, kogukondades\, sh strateegiatest\, süsteemidest\, mõõdikutest;\n* oskab näha innovatsiooni võimalusi ettevõtte edukuse tagamisel ning konkurentsivõime ja lisandväärtuse tõstmisel\, sh omab teadmisi erinevatest investeerimisvõimalustest;\n* teab kliimaeesmärkide põhialuseid\, sh rohelepe\, “Eesmärk 55” ja nendega seotud õigusaktid (kasvuhoonegaaside lubatud heitkoguse ühikutega kauplemise süsteem\, jõupingutuste jagamise määrus\, maakasutuse\, maakasutuse muutuse ja metsanduse (LULUCF) määrus);\n* teab olulisemaid meetmeid maamajanduse kasvuhoonegaaside heite vähendamiseks ja süsiniku sidumise suurendamiseks (mulla süsinikuvaru suurendamine; püsirohumaad\, turvasmuldade harimise vähendamine\, minimeeritud maaharimine\, alternatiivsed orgaanilised väetised\, täppisväetamine; söödakvaliteet ja sõnnikukäitlus loomakasvatuses; biogaasi/-metaani tootmine jne);\n* omab teadmisi kliimamuutustega kohanemise meetmetest põllumajanduses;\n* omab teadmisi ettevõtte ja toodete süsiniku jalajälje hindamisest (süsinikuaudit)\, sh ettevõtjate võimalustest ja kohustustest \nKoolitus on tasuta ning rahastatakse Euroopa Maaelu Põllumajandusfond (EAFRD)\, Eesti maaelu arengukava 2014-2020 meede 2 “Toetus nõustajate koolituseks” \nOsalemissoovi korral on vajalik eelregistreerimine\, hiljemalt 06.02.2023\nLähem info ja registreerimine SIIN.
URL:https://www.pikk.ee/sundmus/koolitus-konsulentidele-biomajandus-innovatsioon-ja-kliimaneutraalsuse-saavutamine-maamajanduses/2023-09-21/
CATEGORIES:Bioenergia ja biomajandus,Keskkond,Loomakasvatus,Süsinik,Taimekasvatus
ORGANIZER;CN="Eesti Maa%C3%BClikooli avatud %C3%BClikool":MAILTO:avayl@emu.ee
END:VEVENT
BEGIN:VEVENT
DTSTART;VALUE=DATE:20230922
DTEND;VALUE=DATE:20230923
DTSTAMP:20260424T080809
CREATED:20230124T113132Z
LAST-MODIFIED:20230124T113132Z
UID:10008503-1695340800-1695427140@www.pikk.ee
SUMMARY:Karjatervis - tasuline koolitus kutsetegevusluba omavatele loomaarstidele
DESCRIPTION:Algus 14. märtsil 2023.\nKoolitusele eelneb tutvustav infopäev 16. märtsil 2023. \nKoolituse sihtrühm on kutsetegevusluba omavad loomaarstid. \nKoolituse maht on 260 akadeemilist tundi\, koolitus kestab aasta\, esialgne lõpukuupäev 23.02.2024.\nKoolitus toimub lähiõppe vormis.\nToimumiskoht on Eesti Maaülikool ning erinevad praktikafarmid. \nKoolituse eduka läbimise tulemusena oskab loomaarst juhtida ja nõustada karjaterviseprogrammi läbiviimist piimaveisekarjas. \nTäiendõppeprogrammi juhid on Eesti Maaülikooli kaasprofessorid Kerli Mõtus ja Piret Kalmus. Lektoritena löövad kaasa mitmed oma ala spetsialistid nii Eestist kui välismaalt.\nVaata programmijuhi pöördumist siit. \nKoolitus on tasuline\, lähem info registreerumine SIIT. \nKoolitust korraldab\nEesti Maaülikooli avatud ülikool​\nFr. R. Kreutzwaldi 56/1 (III korrus\, ruumid 303-306)\, 51006 Tartu\ntel 731 3175\, 5344 1844\ne-post: avayl@emu.ee
URL:https://www.pikk.ee/sundmus/karjatervis-tasuline-koolitus-kutsetegevusluba-omavatele-loomaarstidele/2023-09-22/
LOCATION:Tartu\, Eesti
CATEGORIES:Loomakasvatus
ORGANIZER;CN="Eesti Maa%C3%BClikooli avatud %C3%BClikool":MAILTO:avayl@emu.ee
END:VEVENT
BEGIN:VEVENT
DTSTART;TZID=Europe/Tallinn:20230922T100000
DTEND;TZID=Europe/Tallinn:20230922T153000
DTSTAMP:20260424T080809
CREATED:20230103T105127Z
LAST-MODIFIED:20230103T105127Z
UID:10008458-1695376800-1695396600@www.pikk.ee
SUMMARY:Koolitus konsulentidele - "Biomajandus\, innovatsioon ja kliimaneutraalsuse saavutamine maamajanduses"
DESCRIPTION:Maht: 66 akadeemilist tundi (60 tundi auditoorset\, 6 tundi praktikat) \nSihtrühm: Maaeluministri 15. mai 2015. a määruse nr 61 “Nõustajate koolitustoetus” § 6 lõikes 1 nimetatud isikud.\nKonsulendid\, kes soovivad saada viienda\, kuuenda\, seitsmenda taseme kutsestandardis nõutud kompetentside arendamist ja on sobiv kõikidele spetsialiseerumistele. \nToimumisaeg: 08.02.2023 – 12.09.2023\n* bio- ja ringmajandusest (I moodul) – 8.02.2023; 15.02.2023; 21.03.2023; 22.03.2023. Ettevõtte külastus.\n* innovatsioonijuhtimisest (II moodul) – 10.05.2023; 17.05.2023; 07.06.2023; 14.06.2023. Ettevõtte külastus.\n* kliimaneutraalsuse saavutamisest maamajanduses (III moodul) – 21.09.2023; 22.09.2023. \nKoolitus toimub auditoorse kontaktõppe vormis. \nPäevakava (6 AT):\n10.00 – 11.30 loeng ( 2 AT)\n11.30 – 11.45 paus\n11.45 – 13.15 loeng (2 AT)\n13.15 – 14.00 lõuna\n14.00 – 15.15 loeng (2 AT) \n\n\n\nÕppekava valmistab nõustajat ette maamajandusega tegelevatele isikutele bio- ja ringmajanduse erinevate valdkondade\, innovatsiooni ja kliimaneutraalsuse saavutamisega seotud küsimustes praktiliste lahenduste pakkumiseks.\n\n\n\nÕpiväljundid\, koolituse edukalt läbinu:\n* mõistab bio- ja ringmajanduse olemust ning selle sisu ja rakendamise võimalusi\n* oskab pakkuda ettevõtetele nõuandeteenusena praktilisi lahendusi lähtuvalt bio- ja ringmajanduse olukorrast ja perspektiividest Eestis\, Euroopa Liidus.\n* mõistab bio-ja ringmajanduse seoseid ja potentsiaali globaalsete väljakutsete lahendamisel\, sh kliimaneutraalsus ja kliimamuutustega kohanemine; ressursside kestlik kasutamine ja ringlussevõtt; elurikkus\, maismaa ja mereökosüsteemide vastupidavuse suurendamine; toidusüsteemide kestlikkus\, sh toidu- ja energiajulgeolek;\n* teab innovatsioonijuhtimisega seotud aktuaalseid probleeme\, olulisemaid teoreetilisi koolkondi\, arengusuundi ja jätkusuutliku arengu põhiprintsiipe;\n* omab teadmisi innovatsioonivõimekuse arendamisest ja juhtimisest ettevõtetes\, kogukondades\, sh strateegiatest\, süsteemidest\, mõõdikutest;\n* oskab näha innovatsiooni võimalusi ettevõtte edukuse tagamisel ning konkurentsivõime ja lisandväärtuse tõstmisel\, sh omab teadmisi erinevatest investeerimisvõimalustest;\n* teab kliimaeesmärkide põhialuseid\, sh rohelepe\, “Eesmärk 55” ja nendega seotud õigusaktid (kasvuhoonegaaside lubatud heitkoguse ühikutega kauplemise süsteem\, jõupingutuste jagamise määrus\, maakasutuse\, maakasutuse muutuse ja metsanduse (LULUCF) määrus);\n* teab olulisemaid meetmeid maamajanduse kasvuhoonegaaside heite vähendamiseks ja süsiniku sidumise suurendamiseks (mulla süsinikuvaru suurendamine; püsirohumaad\, turvasmuldade harimise vähendamine\, minimeeritud maaharimine\, alternatiivsed orgaanilised väetised\, täppisväetamine; söödakvaliteet ja sõnnikukäitlus loomakasvatuses; biogaasi/-metaani tootmine jne);\n* omab teadmisi kliimamuutustega kohanemise meetmetest põllumajanduses;\n* omab teadmisi ettevõtte ja toodete süsiniku jalajälje hindamisest (süsinikuaudit)\, sh ettevõtjate võimalustest ja kohustustest \nKoolitus on tasuta ning rahastatakse Euroopa Maaelu Põllumajandusfond (EAFRD)\, Eesti maaelu arengukava 2014-2020 meede 2 “Toetus nõustajate koolituseks” \nOsalemissoovi korral on vajalik eelregistreerimine\, hiljemalt 06.02.2023\nLähem info ja registreerimine SIIN.
URL:https://www.pikk.ee/sundmus/koolitus-konsulentidele-biomajandus-innovatsioon-ja-kliimaneutraalsuse-saavutamine-maamajanduses/2023-09-22/
CATEGORIES:Bioenergia ja biomajandus,Keskkond,Loomakasvatus,Süsinik,Taimekasvatus
ORGANIZER;CN="Eesti Maa%C3%BClikooli avatud %C3%BClikool":MAILTO:avayl@emu.ee
END:VEVENT
END:VCALENDAR