BEGIN:VCALENDAR
VERSION:2.0
PRODID:-//PIKK.ee - ECPv6.13.2.1//NONSGML v1.0//EN
CALSCALE:GREGORIAN
METHOD:PUBLISH
X-WR-CALNAME:PIKK.ee
X-ORIGINAL-URL:https://www.pikk.ee
X-WR-CALDESC:Events for PIKK.ee
REFRESH-INTERVAL;VALUE=DURATION:PT1H
X-Robots-Tag:noindex
X-PUBLISHED-TTL:PT1H
BEGIN:VTIMEZONE
TZID:Europe/Tallinn
BEGIN:DAYLIGHT
TZOFFSETFROM:+0200
TZOFFSETTO:+0300
TZNAME:EEST
DTSTART:20240331T010000
END:DAYLIGHT
BEGIN:STANDARD
TZOFFSETFROM:+0300
TZOFFSETTO:+0200
TZNAME:EET
DTSTART:20241027T010000
END:STANDARD
END:VTIMEZONE
BEGIN:VEVENT
DTSTART;TZID=Europe/Tallinn:20240320T093000
DTEND;TZID=Europe/Tallinn:20240320T140000
DTSTAMP:20260426T060729
CREATED:20240305T085549Z
LAST-MODIFIED:20240306T081011Z
UID:10011033-1710927000-1710943200@www.pikk.ee
SUMMARY:Kalandusest ja põllumajandusest pärit biojäätmete väärindamine
DESCRIPTION:Eesti Maaülikool ja Nutriloop koostöös Regionaal- ja põllumajandusministeeriumiga korraldavad 20. märtsil Eesti Maaülikooli aulas seminari “Kalandusest ja põllumajandusest pärit biojäätmete väärindamine. Majanduslik tasuvus ja turupotentsiaal.“ \nEesmärk on tutvustada biojäätmete baasil valmistatud bakterväetiste omadusi ja tootmispotentsiaali ning avada kääritusjäägi kasutamise võimalusi ja majanduslikku tasuvust. Ootame väga osalema põllumajanduse ja kalandussektori inimesi\, et teie abiga uuringute tulemused läbi testida ja otsida reaalseid tootmismudeleid. \n\n\n  \nPäevakava: \n09.45 – 10.00 Registreerimine \n10.00 – 10.10 Tervitus ja avasõnad \n10.10 – 10.30  Nutriloop\, Marie Soone/Madis Tilga\, Kalajäätmete väärindamine taimekasvatuses. Biojäätmete baasil valminud bakterväetiste kasutus ja omadused. EU Horizon projekti Sea2Land tulemuste tutvustamine. \n10.30 – 11.30  Avatud arutelu. Põllumajandus- ja kalandussektori tagasiside\, ettepanekud. Turupotentsiaal kalanduse\, HoReCa ja taimekasvatuse koostöös. Küsimused tootmistehnoloogia\, ringmajanduse ärimudeli\, seadusandluse ja turu valmiduse kohta. \n11.30 – 11.50  Merrit Shanskiy\, Eesti Maaülikool ja Mihkel Peedimaa\, Mää „Lambavilla kui olulise bioressursi väärindamise võimalused põllumajanduslikeks toodeteks“ \n11.50 – 12.00  Katrin Kepp\, Eesti Maaülikooli Biomajanduse arenduskeskus\, „Häkaton – innovaatiliste lahenduste leidmise mudel organisatsioonis. BioBoosters projekti näitel“. \n12.00 – 12.20  Kohvi ja sirutuspaus \n12.20 – 12.50 Allan Kaasik\, Eesti Maaülikool. Uuringu: “Kääritusjäägi (digestaadi) ohutus\, sobivus mullaparandaja või väetisena kasutamiseks ja kääritusjäägi kasutamise majanduslik tasuvus“ tulemuste tutvustus \n12.50 – 13.20 Mait Kriipsalu\, Eesti Maaülikool. Biogaasi tootmisel kasutatava sisendi (veisevedelsõnniku jmt.) alternatiivsed kasutusvõimalused kompostimisel. Kuidas kompost valmib ja kuidas hinnata selle kvaliteeti. \n13.20 – 13.50 Kaja Orupõld\, „Labori pilk biogaasitootmisele“ \n13.50 – 14.00 Rando Värnik\,  Eesti Maaülikool. Kääritusjäägi majanduslikud aspektid ja edasised kasutuse võimalused. \n\nSeminaril osalemine on tasuta\, kuid selleks tuleb registreeruda hiljemalt 15. märtsiks SIIN. \n\nVt ka uudist: Eests kaardistatakse bioressursse\n\n  \nKontakt:\nJaana Orin\, Eesti Maaülikooli Maamajanduse ökonoomika õppetool\nTel +372 731 3061\, Jaana.orin@emu.ee
URL:https://www.pikk.ee/sundmus/kalandusest-ja-pollumajandusest-parit-biojaatmete-vaarindamine/
LOCATION:Tartu\, Eesti
CATEGORIES:Keskkond,Taimekasvatus
END:VEVENT
BEGIN:VEVENT
DTSTART;TZID=Europe/Tallinn:20240321T093000
DTEND;TZID=Europe/Tallinn:20240321T154500
DTSTAMP:20260426T060729
CREATED:20240305T132943Z
LAST-MODIFIED:20240723T071254Z
UID:10011034-1711013400-1711035900@www.pikk.ee
SUMMARY:"Kommunikatsioon kui juhtimisvahend" täiendkoolitus
DESCRIPTION:Täpsem info ja registreerumine SIIN \nEne Seidla annab õppijaile teadmised organisatsiooni sise- ja välikommunikatsiooni juhtimisest. \nKoolituse läbinu: \n\nmõistab kommunikatsiooni olemust;\noskab kasutada erinevaid kommunikatsioonikanaleid ja -vorme;\noskab arvestada psühholoogiaga seotud aspekte kommunikatsioonis.\n\nAjakava: \n09.30 – 10.00 Registreerimine\, hommikukohv\n10.00 – 12.00 Kommunikatsioon usalduse loomiseks ja kokkulepete tegemiseks. Harjutused. Töövormid.\n12.00 – 13.00 Lõuna\n13.00 – 14.30 Kommunikatsioon praktikas inimeste ja üksuste vahel. Harjutused. Põhireeglid ja kasulikud võtted.\n14.30 – 14.45 Kohvipaus\n14.45 – 15.45 Erinevad käitumistüübid – erinev ootus kommunikatsiooni osas. \nTäienduskoolitusest võivad osa võtta: \nTäienduskoolitusest võib osa võtta põllumajandustoodete tootmise\, töötlemise või turustamisega\, põllumajandusmaa hooldamisega\, põllumajandustoodetest mittepõllumajandustoodete töötlemisega\, sealhulgas toidu valmistamise või töötlemisega\, või metsa majandamisega seotud või nimetatud tegevusega tegelev füüsilisest isikust ettevõtja ja tema töötaja\, eraõigusliku juriidilise isiku osanik\, aktsionär\, liige\, juhtorgani liige ja tema töötaja\, metsa majandamisega tegelev füüsiline isik ja toidu valmistamise või töötlemisega tegelev avalik-õigusliku juriidilise isiku juhtorgani liige või töötaja. \nKohtade arv on piiratud. \nKoolitus toimub MAK 2014-2020 meetme “Teadmussiirde pikaajaline programm põllumajanduse\, toidu ja maamajanduse tegevusvaldkonnas” ühistegevuse valdkonna raames\, toetab Euroopa Liit. \nKoolituse korraldaja: \nEesti Maaülikooli maamajanduse ökonoomika õppetool \nFr. R. Kreutzwaldi 1A\n51006 Tartu\,\ntel 7313061\ne-post: jaana.orin@emu.ee \n 
URL:https://www.pikk.ee/sundmus/kommunikatsioon-kui-juhtimisvahend-taiendkoolitus/
LOCATION:Ida-Virumaa\, Ida-Virumaa\, Eesti
CATEGORIES:Muu
GEO:59.2592663;27.4136535
END:VEVENT
BEGIN:VEVENT
DTSTART;TZID=Europe/Tallinn:20240321T100000
DTEND;TZID=Europe/Tallinn:20240321T130000
DTSTAMP:20260426T060729
CREATED:20240301T141839Z
LAST-MODIFIED:20240321T104246Z
UID:10011031-1711015200-1711026000@www.pikk.ee
SUMMARY:EPKK infopäev "Seemneseminar"
DESCRIPTION:Eesti Põllumajandus-Kaubanduskoda kutsub osalema infopäeval veebis “Seemneseminar” \nToimumisaeg: 21. märts kell 10.00-13:00 \nToimumiskoht:  veebikeskkond Zoom \nInfopäev on järelvaadatav. Lingi leiate SIIT. \n  \nPäevakavas*: \n10:00-10:05 Infopäeva avamine. \n10:10-10:55 Oma tarbeks kasvatatud seeme ja ülevaade Eesti seemnesektorist. Christel Mölder\, Eesti Seemneliit\, tegevjuht \n11:00-11:45 Praktiline taimegeneetika sortide eristamisel\, aretamisel ja parandamisel. Kristiina Laanemets\, METK\, taimebiotehnoloogia osakonna juhataja \n11:50-12:35 METKi nõuandeteenistuse tegevused ja muutused. Leho Verk\, Maaelu Teadmuskeskuse koolitus- ja nõuandeteenistuse juhataja  \n12:30- 13:00 Uued aretustehnoloogiad. Kadri Just\, Regionaal- ja põllumajandusministeerium\, teadus- ja arendusosakonna peaspetsialist \nInfopäeva modereerib: Ragnar Viikoja\, Eesti Põllumajandus-Kaubanduskoja põllumajandusvaldkonna juht \n  \nLisainfo: Marge Mänd\, EPKK projektijuht\, e-post: marge@epkk.ee\, tel: 53009034 \nSündmus toimub MAK 2014-2020 „Teadmussiirde pikaajaline programm põllumajanduse\, toidu ja maamajanduse tegevusvaldkonnas“ raames. Rahastamisallikas: Euroopa Maaelu Põllumajandusfond (EAFRD).
URL:https://www.pikk.ee/sundmus/seemneseminar/
LOCATION:Veebis\, Eesti
CATEGORIES:Aiandus,Taimekaitse,Taimekasvatus
ATTACH;FMTTYPE=image/jpeg:https://www.pikk.ee/wp-content/uploads/2024/03/pexels-markus-spiske-113335-scaled.webp
ORGANIZER;CN="Eesti P%C3%B5llumajandus-Kaubanduskoda":MAILTO:info@epkk.ee
END:VEVENT
BEGIN:VEVENT
DTSTART;TZID=Europe/Tallinn:20240321T100000
DTEND;TZID=Europe/Tallinn:20240321T163000
DTSTAMP:20260426T060729
CREATED:20240227T073202Z
LAST-MODIFIED:20240227T073202Z
UID:10011028-1711015200-1711038600@www.pikk.ee
SUMMARY:Konverents Terve loom 2024
DESCRIPTION:Olete oodatud 21. märtsil 2024 konverentsile „Terve loom\, Uudset loomakasvatuses“\, mis toimub Eesti Maaülikooli peahoone aulas (Fr. R. Kreutzwaldi 1a)\nAlates 2009. aastast oleme korraldanud konverentsi „Terve loom ja tervislik toit“ aruteludeks ja teadmiste vahetamiseks Eesti Maaülikooli veterinaarmeditsiini ja ja loomakasvatuse instituudi vastutusvaldkondades. Sellel aastal\, arvestades praeguseid tingimusi ja tagasisidet kogukonnalt\, oleme otsustanud teha väikese muudatuse meie tavapärases formaadis\, korraldades selle pisut kitsama fookusega. See võimaldab meil senisest rohkem keskenduda loomakasvatusega seotud teemadele: saame pakkuda sügavamaid arutelusid\, et edendada loomade tervist ja valdkonna jätkusuutlikkust. \n\n\n\n\nUudset loomakasvatusest\n\n\n\n\n09.30-10.00\nRegistreerimine\, tervituskohv\n\n\n10.00-10.20\nMeelis Ots – Sissejuhatus\, Söötmissüsteem Eestis ja Põhjamaades\n\n\n10.20-11.05\nPriit Karis – Mis asi on Põhjamaade söötmissüsteemsüsteem NorFor?\n\n\n11.05-11.25\nAndres Olt – Uued tuuled EMÜ söödalaboris\n\n\n11.25-11.45\nMeelis Ots – Ülevaade katsetest Eesti rohusilodega\n\n\n11.45-12.00\nKohvipaus\n\n\n12.00-12.20\nAllan Kaasik – Piimatootmise keskkonna (süsiniku) jalajälg ja seda mõjutavad faktorid Norfor süsteemi näitel\n\n\n12.20-13.10\nPaneel diskussioon teemal „Norfor praktikute ja teadlaste vaatenurgast“: moderaator Priit Karis\, kõnelejad: Baltic Agro AS loomakasvatuse müügiesindaja Marika Rahuoja\, Mangeni PM OÜ loomakasvatusjuht Mikhail Morgunov\, Meelis Ots\, Andres Olt\, Allan Kaasik\n\n\n13.10-13.50\nLõuna\n\n\n13.50-14.10\nPiret Kalmus – Eestis toodetud piima kvaliteet ja nakkushaiguste esinemus jahutipiima uuringutes\n\n\n14.10-14.30\nMerike Henno – Piima rasvhappeline profiil söötmise hindamisel\n\n\n14.30-14.50\nMerko Vaga – Kaksikvasikate mõju piimakarjas ja kaksikute esinemist mõjutavad tegurid\n\n\n14.50-15.00\nKohvipaus\n\n\n15.00-15.20\nTanel Kaart – Eesti piimaveiste genoomaretusväärtustest\n\n\n15.20-15.40\nPeep Piirsalu – Nutikad digilahendused lamba- ja kitsekasvatuses SmaRT väikemäletsejate projekti valguses\n\n\n15.40-16.00\nElina Tsopp – Hobusearetuse uued suunad ja võimalused Eestis – OPU-ICSI tehnoloogia ja kloonimine\n\n\n16.00-16.20\nTriin Rilanto – Astelpaju kõrvalsaadused hobuste söötmisel\n\n\n16.20\nLõpp\n\n\n\nRegistreerumine konverentsile (registreerimine lõppeb 13.03.2024) https://vl.emu.ee/et/teadusinfo/oppepaevad/terve-loom-2024/
URL:https://www.pikk.ee/sundmus/konverents-terve-loom-2024/
LOCATION:Tartu\, Eesti
CATEGORIES:Loomakasvatus
ORGANIZER;CN="Eesti Maa%C3%BClikooli Veterinaarmeditsiini ja loomakasvatuse Instituut":MAILTO:vl@emu.ee
END:VEVENT
BEGIN:VEVENT
DTSTART;TZID=Europe/Tallinn:20240321T160000
DTEND;TZID=Europe/Tallinn:20240321T190000
DTSTAMP:20260426T060729
CREATED:20240312T095704Z
LAST-MODIFIED:20240312T100551Z
UID:10011038-1711036800-1711047600@www.pikk.ee
SUMMARY:Keskkond kahvlis
DESCRIPTION:“Keskkond kahvlis”  – Eesti noortalunikud toidutootmise keskkonnamõjust \n \nToidutoomisel on suur keskkonnamõju. Pea 40% maa pinnast on hõivanud toidutoomine ja elurikkuse kadu pole peatunud. Läänemerre jõuab endiselt liiga palju lämmastikku ja fosforit. Kuidas Eesti noorema põlvkonna talunikud enda tegevust läbi keskkonna mõtestavad ja millise hinnaga sünnib kodumaine kõhutäis?! Ainukordne võimalus kuulda toidutootjate olevikust ja arutada\, kas tulevik on mõru või magus.\n\nSeminar on tasuta. Palume registreeruda hiljemalt 20.03 siin https://forms.gle/tQYwKPmN97Kh53bRA.\nSeminaril osalemise lingi saadame registreerunutele 21. märtsi hommikul.\n\nAeg: 21. märts 2024 kell 16-19\nFormaat: veebiseminar Zoom keskkonnas\n\nSeminari kava:\n16:00 – 16:20 Eestimaa Looduse Fondi toidufoorist räägib projektijuht Silja Kana\n16:20 – 18:30 Neli noortalunikku tutvustavad enda tegevust ja räägivad kuidas nad toidu tootmisel keskkonnaga arvestavad. (Pärast teist ettekannet väike sirutuspaus).\n18:30-19:00 arutelu\n\nEttekanded teevad:\n– Timo Varblas (Ahisilla Taluaed\, rohumaakanad & köögivili)\n– Priidu Veersalu (Iisaka talu\, mahe lambakasvatus)\n– Märtin Rõõmusaar (OÜ Raismikuoja\, mahe teravili)\n– Mirjam Pikkmets (Mätiku Talumeierei\, mahe piimakari)\n\nSeminari korraldavad koostöös Eestimaa Looduse Fond ja MTÜ Eesti Noortalunikud.\n\nLisainfo: Silja Kana\, Eestimaa Looduse Fond\, Eat4Change projektijuht\,\ne-post: silja.kana@elfond.ee\, tel: 5210052
URL:https://www.pikk.ee/sundmus/keskkond-kahvlis/
LOCATION:Veebis\, Eesti
CATEGORIES:Keskkond,Maaettevõtlus
END:VEVENT
BEGIN:VEVENT
DTSTART;TZID=Europe/Tallinn:20240322T100000
DTEND;TZID=Europe/Tallinn:20240322T143000
DTSTAMP:20260426T060729
CREATED:20240319T105406Z
LAST-MODIFIED:20240319T105406Z
UID:10011048-1711101600-1711117800@www.pikk.ee
SUMMARY:Meteoroloogiapäev
DESCRIPTION:Tänavune meteoroloogiapäev pöörab tähelepanu nii kliimamuutuste leevendamisele kui ka nendega kohanemisele \nIga aasta 23. märtsil tähistatakse ülemaailmset meteoroloogiapäeva. Meteoroloogiapäeva eesmärk on tutvustada riiklike meteoroloogia- ja hüdroloogiateenistuste panust ühiskonna turvalisuse ja heaolu tagamisel. \nMeteoroloogiapäevaks valitakse teema\, mis peegeldab päevakajalisi ilma\, kliima ja veega seotud probleeme. Käesoleval aastal on fookuses tegevused\, mis toetavad nii kliimamuutuste leevendamist kui ka nendega kohanemist. \n22. märtsil algusega kell 10 toimub Keskkonnaagentuuri korraldatud konverents\, mis kannab pealkirja „Kliimategevuste eesliinil”. \nRegistreerumine meteoroloogiapäevale 2024: Kliimategevuste eesliinil  \nKeskkonnaagentuuri direktori Taimar Ala sõnul on agentuur just üks selline asutus\, kes toetab kliimategevusi\, pakkudes andmeid\, et hinnata olukorda ning anda soovitusi edasiseks tegutsemiseks. „Keskkonnaagentuur kogub\, jagab ja analüüsib ilma- kliima- ja keskkonnaandmeid. Meie kasutuses on andmed seirevõrgust\, radaritelt ning satelliitidelt. Pingutame selle nimel\, et meie süsteemid oleksid kaasaegsed\, andmed kvaliteetsed ning teenused toetaksid nii majandustegevust\, kui panustaksid inimeste turvalisuse tagamisse. Meie kogutud andmed aitavad ühtlasi mõista\, mis kliimaga toimub ning kuidas see on muutunud. Kliimamuutustega kohanemise seisukohalt on äärmiselt oluline ka õigeaegsete ja asjakohaste ilmahoiatuste jõudmine kõigi inimesteni\,“ sõnas Taimar Ala. \nKonverentsil astuvad üles erialaspetsialistid ja -teadlased\, kes räägivad avaandmetest\, hoiatussüsteemi kaasajastamisest\, globaalsest soojenemisest\, tulevikukliima prognoosimisest ning Läänemere seisundist. Aruteluringis saavad sõna erinevate valdkondade esindajad\, et rääkida\, kuidas ilm ja kliima meid päriselt mõjutab ning millised andmed ja teenused saavad meid abistada ilma ja kliimaga seotud väljakutsetega kohanemisel ja nende seljatamisel. \nKõik huvilised saavad konverentsil osaleda 22. märtsil kell 10.00 – 14.15. Küsimusi on võimalik esitada veebilehe vahendusel. Konverentsi moderaator on Taimar Ala. \n  \nTaust: Keskkonnaagentuur vastutab Eestis ilmaprognooside ja -hoiatuste koostamise ning nende edastamise ja kättesaadavaks tegemise eest. Ilmainfot saavad muuhulgas ka lennundus- ja laevandusettevõtted\, kelle tegevustes ilm olulist rolli mängib. \nKeskkonnaagentuur korraldab seiret\, jagab andmeid ning analüüsib keskkonnas toimuvat. Terviklik vaade loob eeldused teadmistepõhiste otsuste kavandamiseks riigis\, ettevõtluses ja elanike igapäevaelus – selleks\, et säilitada turvaline\, puhas ja mitmekesine elukeskkond. \nMeteoroloogiapäeva toimumist on rahastatud projektist “Implementation of national climate change adaptation activities in Estonia”\, mida rahastatakse Euroopa Liidu liikmesriikide keskkonnaprojektide kaasrahastamise programmist LIFE.
URL:https://www.pikk.ee/sundmus/meteoroloogiapaev/
LOCATION:Harjumaa\, Harjumaa\, Eesti
CATEGORIES:Keskkond
END:VEVENT
BEGIN:VEVENT
DTSTART;TZID=Europe/Tallinn:20240322T100000
DTEND;TZID=Europe/Tallinn:20240322T151500
DTSTAMP:20260426T060729
CREATED:20240112T125442Z
LAST-MODIFIED:20240128T092205Z
UID:10010976-1711101600-1711120500@www.pikk.ee
SUMMARY:Toiduhügieen ja -ohutus\, algaste (veebikoolitus)
DESCRIPTION:Täpsem info ja registreerumine SIIT \nKatrin Laikoja koolitus annab baasteadmised toiduhügieeni põhimõtetest ja toidu käitlemisega seotud kohustustest ja vastutusest. \nKoolitusel käsitletavad teemad: \n\nToitu käsitlevad õigusaktid;\nToiduhügieeni põhimõtted;\nToidukäitleja kohustused (toidu ohutus\, enesekontroll\, jälgitavus jne) ja vastutus;\nEnesekontrolli põhimõtted\, eeltingimusprogrammid ja HACCP;\nMikroorganismid ja nende kasvu ja paljunemist mõjutavad tegurid;\nToiduainete kaudu levivad haigused\, toidumürgistused ja -infektsioonid;\nToidu füüsikaline\, keemiline ja mikrobioloogiline saastumine ja selle vältimine;\nPuhastamine\, desinfitseerimine;\nTootmisruumide korrashoid;\nKahjuritõrje;\nIsiklik hügieen.\n\nTäienduskoolitusest võivad osa võtta: \n\npõllumajandustoodete töötlemise või turustamisega tegelev füüsilisest isikust ettevõtja ja tema töötaja ning eraõigusliku juriidilise isiku osanik\, aktsionär\, liige\, juhtorgani liige ja tema töötaja;\npõllumajandustoodetest mittepõllumajandustoodete töötlemise sh toidu valmistamise või töötlemisega tegelev füüsilisest isikust ettevõtja ja tema töötaja ning eraõigusliku juriidilise isiku osanik\, aktsionär\, liige\, juhtorgani liige ja tema töötaja;\ntoidu valmistamise või töötlemisega tegelev avalik-õigusliku juriidilise isiku juhtorgani liige või töötaja;\npõllumajandustootjate valdkonda teenindavad isikud (nt kokkuostuga tegelevate ettevõtete töötajad);\nisikud (FIE-d või ettevõtte esindajad)\, kes koguvad teadmisi uue tegevusvaldkonna kohta;\npõllumajanduslike esindus- ja erialaorganisatsioonide (MTÜ-d\, mille liikmeteks on põllumajandussaaduste töötlejad) juhatuse liikmed ja töötajad.\n\nFüüsiliste isikute ja riigiametnike täienduskoolitusel osalemine ei ole toetatav! \n  \nKoolitus toimub MAK 2014-2020 meetme “Teadmussiirde pikaajaline programm põllumajanduse\, toidu ja maamajanduse tegevusvaldkonnas” toidu ja toiduohutuse valdkonna raames\, toetab Euroopa Liit. \nKoolitusel osalemine on vähese tähtsusega abi (VTA). Abisumma ühe osavõtja kohta arvutatakse osavõtjate lõpliku arvu järgi\, kuid see ei ületa 270 eurot. \nEttevõtte VTA vaba jääki saab kontrollida veebilehelt: https://fin.ee/riigihanked-riigiabi-osalused-kin.. \nKui osaleja ettevõttel ei ole piisavalt VTA vaba jääki\, siis on osalemise eest antav toetus riigiabi ning sellisel juhul tuleb ettevõttel esitada enne tegevuse toimumist riigiabi taotlus (vormi saab korraldajalt).\nKeskmise suurusega ettevõtja korral toetatakse infopäeval või koolitusel osalemist 60%\, mikro-ja väikeettevõtja korral 70% ning suurettevõtja korral 50% ulatuses osaleja kohta.\nPuudujääv osa tuleb osalejal/ettevõttel endal tasuda. \n  \nKoolituse korraldaja:\nEesti Maaülikooli avatud ülikool\nFr. R. Kreutzwaldi 56/1\n51006 Tartu\,\ntel 731 3275\ne-post: avayl@emu.ee\nhttp://avatudylikool.emu.ee/
URL:https://www.pikk.ee/sundmus/toiduhugieen-ja-ohutus-algaste-veebikoolitus/
CATEGORIES:Maaettevõtlus,Toiduainete tootmine
END:VEVENT
END:VCALENDAR