BEGIN:VCALENDAR
VERSION:2.0
PRODID:-//PIKK.ee - ECPv6.13.2.1//NONSGML v1.0//EN
CALSCALE:GREGORIAN
METHOD:PUBLISH
X-WR-CALNAME:PIKK.ee
X-ORIGINAL-URL:https://www.pikk.ee
X-WR-CALDESC:Events for PIKK.ee
REFRESH-INTERVAL;VALUE=DURATION:PT1H
X-Robots-Tag:noindex
X-PUBLISHED-TTL:PT1H
BEGIN:VTIMEZONE
TZID:Europe/Tallinn
BEGIN:DAYLIGHT
TZOFFSETFROM:+0200
TZOFFSETTO:+0300
TZNAME:EEST
DTSTART:20240331T010000
END:DAYLIGHT
BEGIN:STANDARD
TZOFFSETFROM:+0300
TZOFFSETTO:+0200
TZNAME:EET
DTSTART:20241027T010000
END:STANDARD
END:VTIMEZONE
BEGIN:VEVENT
DTSTART;TZID=Europe/Tallinn:20240618T093000
DTEND;TZID=Europe/Tallinn:20240618T140000
DTSTAMP:20260423T091148
CREATED:20240526T111316Z
LAST-MODIFIED:20240526T111627Z
UID:10011164-1718703000-1718719200@www.pikk.ee
SUMMARY:Linas Agro kutsub põldkatsetele
DESCRIPTION:Pane kalendrisse kirja kaks tähtsat kuupäeva\, sest ees ootavad põnevad ja harivad põllujalutused!\n\n\n\n𝔼𝕤𝕚𝕞𝕖𝕟𝕖 𝕜𝕦𝕦𝕡𝕒̈𝕖𝕧: 𝟱. 𝗷𝘂𝘂𝗻𝗶 𝟮𝟬𝟮𝟰 https://linasagro.ee/agro-uudised/linas-agro-poldkatsed-jogevamaal-05-06-2024 \n\n\nKutsume kõiki huvilisi 𝗝õ𝗴𝗲𝘃𝗮𝗺𝗮𝗮𝗹𝗲\, 𝗠ä𝗹𝗹𝗶𝗸𝘃𝗲𝗿𝗲 𝗣Ü 𝘁𝗼𝗼𝘁𝗺𝗶𝘀𝗽õ𝗹𝗹𝘂𝗹𝗲\, kus keskendume meie talirapsi põldkatsetele. Tule ja saa teada\, millist tehnoloogilist lähenemist oleme kasutanud ning millised on meie viie populaarseima rapsisordi hetkeseisud. Lisaks heidame pilgu üle tee asuvale imekaunile talinisu põllule – Balitus\, ning peatume lähedal asuval Alfa Gold lutsernipõllul.\n\nRohkem infot päeva kohta https://linasagro.ee/…/linas-agro-poldkatsed-jogevamaal…\n\n\nPõllujalutusel osalemiseks on vajalik eelnev registreerimine https://bit.ly/linasagro_jogevamaa\n\n\n\n\n\n𝕋𝕖𝕚𝕟𝕖 𝕜𝕦𝕦𝕡𝕒̈𝕖𝕧: 𝟭𝟴. 𝗷𝘂𝘂𝗻𝗶 𝟮𝟬𝟮𝟰\n\nKutsume huvilisi 𝗝ä𝗿𝘃𝗮𝗺𝗮𝗮𝗹𝗲\, 𝗠ä𝗴𝗲𝗱𝗲 𝗢Ü 𝘁𝗼𝗼𝘁𝗺𝗶𝘀𝗽õ𝗹𝗹𝘂𝗹𝗲\, kus tutvustame meie taliteraviljade põldkatseid. Võrdleme nelja meie populaarset talinisu sorti ning vaatleme\, kuidas taimik on vastu pidanud äärmuslikele ilmastikutingimustele.\nLisaks vaatame üle võimsa talirukki SU Elrondi põllu ning peatume lähedal asuval taliodra Jakubusi ja põldherne Respect põldudel.\n\nRohkem infot päeva kohta\nhttps://linasagro.ee/…/linas-agro-poldkatsed-jaervamaal…\n\n\n\nPõllujalutusel osalemiseks on vajalik eelnev registreerimine\, tee seda siin\nhttps://bit.ly/linasagro_jarvamaa\n\n\n\nKohtumiseni põllul!
URL:https://www.pikk.ee/sundmus/linas-agro-poldkatse-2/
LOCATION:Järvamaa\, Järvamaa\, Eesti
CATEGORIES:Taimekaitse,Taimekasvatus
GEO:58.8866713;25.5000624
END:VEVENT
BEGIN:VEVENT
DTSTART;TZID=Europe/Tallinn:20240618T103000
DTEND;TZID=Europe/Tallinn:20240618T120000
DTSTAMP:20260423T091148
CREATED:20240602T195123Z
LAST-MODIFIED:20240602T195123Z
UID:10011172-1718706600-1718712000@www.pikk.ee
SUMMARY:Innovatsioon metsanduses
DESCRIPTION:Network to Innovate – Innovatsioonid metsanduses\nVeebiseminar “Innovatsioonid metsanduses” toimub 18. juunil 2024 innovatsiooni toetava võrgustiku veebiseminaride sarja “Network to Innovate” raames. Seda organiseerviad Eesti\, Läti\, Soome ja Poola maaeluvõrgustikud. \n\n\n\n\n\n\n\n\n\nVaata teavet https://metk.agri.ee/network-innovate-innovatsioonid-metsanduses
URL:https://www.pikk.ee/sundmus/innovatsioon-metsanduses/
LOCATION:Veebis\, Eesti
CATEGORIES:Metsandus
END:VEVENT
BEGIN:VEVENT
DTSTART;TZID=Europe/Tallinn:20240618T103000
DTEND;TZID=Europe/Tallinn:20240618T153000
DTSTAMP:20260423T091148
CREATED:20240611T194828Z
LAST-MODIFIED:20240611T194828Z
UID:10011184-1718706600-1718724600@www.pikk.ee
SUMMARY:Talust taldrikule: väärindamine\, turustamine\, rahastamine
DESCRIPTION:Taluliit ootab toidutootjaid\, väärindajaid\, turustajaid ja teisi maapiirkonnas toidutootmisega seotud inimesi veebikonverentsile \nAeg: 18.06.2024 10.30 – 15.30\nVEEBIKONVERENTS toimub Zoomis\, osalejatele saadetakse link e-mailile seminari päeva hommikul. \n\nMis veebiseminaril kavas on?\nPäeva alustame mõtlema paneva teemaga\, mis on paljude alustavate või laieneda soovivate talude suur takistus – põllumajandusmaa koondumine suurettevõtjate kätte. \nEdasi keskendume sellele\, kuidas keerulises olukorras enda ettevõtte edukaks toimimiseks sobivad väljundid leida. Selleks oleme oma lugu palunud rääkima erinevate valdkondade talunikud ning ka ühe väärindaja\, kes ise ei tegele tootmisega. Pärastlõunal on kõikide tootjatega ühine aruteluring\, kuhu on võimalik ka enda küsimusi arutamiseks saata. \nPäeva lõpuks on igaühel kindlasti enda ettevõttega seonduvalt mõni hea mõte tekkinud. Mis finantsvõimalused mõtte realiseerimiseks olemas on\, sellest räägime veebiseminari viimases osas. \nVEEBISEMINAR ON TASUTA! \nPÄEVAKAVA\n10.30 Avasõnad (Kerli Ats\, Taluliit)\n10.40 Peretalude proovikivi: põllumajandusmaa koondumine suurettevõtjate kätte (PhD Marii Järve\, Eesti Maaülikool)\n11.00 Tootjate kogemuslood \nMirjam Pikkmets Mätiku talumeiereist. Piima tootmine\, väärindamine ja turustamine kaubaringidel\, OTTidel \nJane Mättik Pirgo Angusest. Lihaveiste kasvatus\, liha turustamine \nTiit Mansberg Jahu-Jaanist. Teraviljakasvataja\, -väärindaja ja turustaja\, müük e-poes ja jaekettides \nAge Viimsalu Treppoja sahvrist. Köögi- ja puuviljade väärindamine ning müük jaekettides\, OTTidel \n12.20 – 12.45 PAUS\n12.45 – 14.00 Väärindamine ja turustamine \nArutelu tootjatega \n14.10 – 15.30 Rahalised võimalused tootmise\, väärindamise ja turustamise arendamiseks \nMaaelu Edendamise Sihtasutuse finantsteenused väiketootjate toetamiseks (Meelis Annus\, Maaelu Edendamise Sihtasutus) \nMilliseid meetmeid on väiketootjatel võimalik kasutada? (Kristel Maidre\, Regionaal- ja Põllumajandusministeerium) \n  \nRegistreerimine on avatud kuni 17.06.2024.a. \nRegistreerimine on avatud järgneval lingil: https://www.surveymonkey.com/r/Tulevikutoit24 \n  \n* Konverents toimub MAK 2014-2020 ühise põllumajanduspoliitika kohase maaelu arengu teadmussiirde ja teavituse (meede 1) üleriigilise ulatusega toetus raames ja seda toetab Euroopa Liit.   \n 
URL:https://www.pikk.ee/sundmus/talust-taldrikule-tulevikutoit24/
LOCATION:Veebis\, Eesti
CATEGORIES:Maaettevõtlus,Toiduainete tootmine,Toit ja toiduohutus,Turundus
END:VEVENT
BEGIN:VEVENT
DTSTART;TZID=Europe/Tallinn:20240618T140000
DTEND;TZID=Europe/Tallinn:20240618T173000
DTSTAMP:20260423T091148
CREATED:20240521T115959Z
LAST-MODIFIED:20240521T125838Z
UID:10011135-1718719200-1718731800@www.pikk.ee
SUMMARY:Pärandkooslused ja nende taimestik põllumajandusmaastikel
DESCRIPTION:Koolitus annab ülevaate erinevatest pärandkooslustest (rannaniit\, loopealne\, luht\, puisniit) ja nendel kasvavast iseloomulikust taimestikust.\nKoolituse sihtrühm: \n– Rohepööret läbiviivate põllumajandusettevõtete ja loodusturismi ettevõtete töötajad;\n– Eesti Maaülikooli töötajad;\n– Koolituse sihtrühma ei kuulu eraisikud\, õpetajad ja EMÜ tasemeõppe üliõpilased.  \n  \nKoolituse toimumise kuupäevad on: 18. juuni\, 19. juuni\, 25. juuni\, 26. juuni\, 3. juuli ja 4. juuli 2024. \nÕppetöö toimub koolituse kahel esimesel õppepäeval (kell 14.00-17.15) veebikeskkonnas BigBlueButton ning neljal järgmisel õppepäeval looduses (kell 9.00-18.00).\nÕppepäevad looduses toimuvad: \n– 25.06.2024 Soomaal ja 26.06.2024 Lääne-Eestis (Ööbimine koos õhtu- ja hommikusöögiga on broneeritud Soomaa Puhkekülas\, hind 55 eur/inimene (tuleb osalejal ise tasuda)).\n– 3.07.2024 Matsalus ja 4.07.2024 Põhja-Pärnumaal (Ööbimine koos õhtu- ja hommikusöögiga on broneeritud Algallika külalistemajas\, hind 43 eur/inimene (tuleb osalejal ise tasuda)). \n  \nKoolitusel osalemiseks on vajalik:  \n– kuulumine sihtrühma;\n– õigeaegne registreerumine koolitusele;\n– tähtajaks esitatud motivatsioonikiri;\n– piisav aeg ja valmisolek osaleda ettenähtud koolituspäevadel sh koolitus lõpetada;\n– suutlikkus liikuda looduses ja selleks sobilik riietus sh jalanõud;\n– valmisolek tasuda ise majutus- ja toitluskulud summas 98 eur/inimene. \n  \nTäpsem info ja registeerumine SIIT \n  \nKoolitus toimub ülikoolides ja rakenduskõrgkoolides toimuvate täiskasvanute täienduskoolituse kursuste riikliku koolitustellimuse 2024. aastaks tellimuse raames ning tegevust rahastatakse taaste- ja vastupidavusrahastu investeeringust “Roheoskused ettevõtete rohepöörde toetamiseks”.\nKoolitus on sihtrühma kuuluvale ja koolituse lõpetamise nõuded täitnud õppijale tasuta.\nOsalejal on tarvis ise tasuda majutus- ja toitlustuskulud vastavalt motivatsioonikirja juures märgitud soovidele. \n \n  \nKoolituse koordinaator:\nLiisi Veske\nAvatud ülikooli täiendusõppe peaspetsialist\nEesti Maaülikool\nTel: 58 847 561\nFr. R. Kreutzwaldi 56/1-A304\nliisi.veske@emu.ee
URL:https://www.pikk.ee/sundmus/parandkooslused-ja-nende-taimestik-pollumajandusmaastikel/
CATEGORIES:Aiandus,Keskkond,Loomakasvatus,Maaettevõtlus,Metsandus,Muu,Taimekaitse,Taimekasvatus
ORGANIZER;CN="Eesti Maa%C3%BClikooli avatud %C3%BClikool":MAILTO:avayl@emu.ee
END:VEVENT
BEGIN:VEVENT
DTSTART;VALUE=DATE:20240619
DTEND;VALUE=DATE:20240622
DTSTAMP:20260423T091148
CREATED:20240512T070055Z
LAST-MODIFIED:20240512T070055Z
UID:10011121-1718755200-1719014399@www.pikk.ee
SUMMARY:Agrovizija messi külastus
DESCRIPTION:AS Dotnuva Baltic ja OÜ Smartfor kutsuvad Sind juunikuus Leetu Agrovizija messi külastama. \nAgrovizija on üle aasta toimuv üks suuremaid põllumajandusmasinate ja -tehnoloogiate näitusi Leedus\, mis on suunatud põllumajandusvaldkonnas tegutsevatele ettevõtetele ja professionaalidele. Tegemist on välialal toimuva näitusega\, kus demonstreeritakse traktoreid\, külvikuid\, iseliikuvaid pritse ja muid põllutöömasinaid\, seejuures saab näha kasvamas ka erinevaid põllukultuuride sorte. Rohkem infot Agrovizija kohta leiad SIIT \nAgrovizija ühiskülastus Eestist toimub 19.-21. juunil 2024 \nKoolitusreisi maksumus 295 € + km \nHind sisaldab: \n\nKohta mugavustega Lux Charter bussis\nÜhepäevast sissepääsupiletit Agrovizija messile\nDotnuva Seeds seemnekeskuse külastust\n2 ööd (kahekohalistes tubades) koos hommiku- ja õhtusöökidega Kaunases hotellis ibis Styles Kaunas Centre***\n\nHinnas ei sisaldu lõunasöögid ning reisikindlustus. \nÜldine ajakava: \n\nKolmapäeval\, 19. juuni varahommikul väljub buss Eestist Tartu Lõunakeskuse parklast\, vahepeatustega AS Dotnuva Balticu Viljandi esindus ja Häädemeeste Circle K tankla\, Leetu Kaunasesse.\nNeljapäeval\, 20. juunil külastame Agrovizija messi ning Dotnuva Seeds seemnekeskust.\nReedel\, 21. juunil tagasisõit Kaunasest Eestisse. Eestis peatused Häädemeeste Circle K tanklas\, AS Dotnuva Balticu Viljandi esinduse ees ning lõpp-peatus Tartu Lõunakeskuse parklas.\n\nTäpsema kellaajalise programmi väljastame osalejatele üks nädal enne väljasõitu. \nHuvi korral palun registreeri end hiljemalt 03.06.2024 tulijaks siin: https://forms.gle/CWsckK7oYCMhEeE9A \nTäpsustavate küsimuste korral võta palun ühendust AS Dotnuva Balticu müügidirektori Oliver Raudnagel´iga – tel +372 523 5257\, e-maili aadress oliver.raudnagel@dotnuvabaltic.ee
URL:https://www.pikk.ee/sundmus/agrovizija-messi-kulastus/
LOCATION:Muu\, Eesti
CATEGORIES:Taimekasvatus
ORGANIZER;CN="O%C3%9C Smartfor":MAILTO:kristiina@smartfor.ee
GEO:58.595272;25.0136071
END:VEVENT
BEGIN:VEVENT
DTSTART;TZID=Europe/Tallinn:20240619T090000
DTEND;TZID=Europe/Tallinn:20240619T180000
DTSTAMP:20260423T091148
CREATED:20240415T043024Z
LAST-MODIFIED:20240513T094909Z
UID:10011098-1718787600-1718820000@www.pikk.ee
SUMMARY:Nõustamismetoodika M02 (kolmas päev)
DESCRIPTION:Maaelu Teadmuskeskus korraldab nõustamismetoodika koolituse “Suhtlemine ja suhete hoidmine”\, CECRA moodul 02\nTäienduskoolitus annab mõistmise põllu- ja maamajanduse nõustajale kliendiga suhete loomisest\, suhete hoidmisest ja nõustamisvestluse läbiviimisest.\nSelle koolituse eelduseks on Moodul 1 läbimine; kaks moodulit koos annavad eelduse konsulendi kutse saamiseks. \nKonsulendi töö on pakkuda kliendile põllu-\, metsa- ja muud maamajanduse alast nõustamist. Lähtuvalt oma spetsialiseerumise valdkonnast edastab konsulent kliendile korrastatud teabe ja juhendab klienti\, arvestades tema vajadusi\, soove\, võimalusi ning piiranguid. Konsulent on kursis nõuandesüsteemi\, majanduskeskkonna suundumuste ning nende mõjuga Eesti maamajandusele.\nKonsulendi töö on enamasti hooajaline\, mitmekesine ja rohkele suhtlemisele ning inimsuhetele tuginev. \n  \nAeg: 11.-12. juuni ja 19. juuni 2024 (kokku 3 päeva\, kohustuslik on osavõtt kõikidest päevadest) \nRegistreerumine koolitusele (kuni 5. juuni 2024 kell 16.00) 11. juuni kalendrisündmuse juures. \n 
URL:https://www.pikk.ee/sundmus/noustamismetoodika-m02-kolmas/
LOCATION:Lääne-Virumaa\, Lääne-Virumaa\, Eesti
CATEGORIES:Maaettevõtlus
END:VEVENT
BEGIN:VEVENT
DTSTART;TZID=Europe/Tallinn:20240619T103000
DTEND;TZID=Europe/Tallinn:20240619T190000
DTSTAMP:20260423T091148
CREATED:20240602T195511Z
LAST-MODIFIED:20240602T195511Z
UID:10011173-1718793000-1718823600@www.pikk.ee
SUMMARY:Märka LEADERit
DESCRIPTION:Näituse “Märka LEADERit” avamine\nMaaeluvõrgustik korraldab 19. juunil 2024. a LEADER edulugude näituse avamine. Sihtrühmaks on LEADER tegevusrühmade ja projektide esindajad. \nToimumiskoht: põllumajandusmuuseumi konverentsisaal II korrus \nPäevakava \n10.30–11.00 Kogunemine\, tervituskohv \n11.00–11.30 Näituse avamine õuealal \n11.30–12.00 Näitusega tutvumine\, tervituskohv. Lood LEADER näituselt. \n12.00–14.00 Näituse taustalugu. Projektilugusid LEADER näituselt. Tartu 2024 ja Lõuna-Eesti kogukonna koostööst \n14.00 Lõpetamine \nLisainfo: Ave Bremse 515 6412 ave.bremse@metk.agri.ee \nÜrituse läbiviimine on toetatud Eesti maaelu arengukava tehnilise abi vahenditest maaeluvõrgustiku tegevusele.\nÜritus on registreeritud osalejatele tasuta. \nViited\n\n\n\nÜrituselink maainfo.ee lehele\nMaaeluvõrgustiku näitused\nSari “Maaelu jutud”\nMaaeluvõrgustik
URL:https://www.pikk.ee/sundmus/marka-leaderit/
LOCATION:Tartumaa\, Eesti
CATEGORIES:Maaettevõtlus
GEO:58.4057128;26.801576
END:VEVENT
BEGIN:VEVENT
DTSTART;TZID=Europe/Tallinn:20240620T100000
DTEND;TZID=Europe/Tallinn:20240620T133000
DTSTAMP:20260423T091148
CREATED:20240606T174858Z
LAST-MODIFIED:20240607T045347Z
UID:10011181-1718877600-1718890200@www.pikk.ee
SUMMARY:Esitluspäev:  Turba vähendamise võimalused köögivilja- ja ilutaimede kasvusubstraatides
DESCRIPTION:Eesti Maaülikool korraldab esitluspäeva „Turba vähendamise võimalused köögivilja- ja ilutaimede kasvusubstraatides“\n\nToimumisaeg: 20. juuni 2024 kell 10.00 – 13.30 \nToimumiskoht: Eesti Maaülikooli Mahekeskus (Eerika tee 2\, Õssu küla\, Kambja vald\, Tartumaa) \n\nPäevakava*\n9:45 Kogunemine\n10:00 Alternatiivsed substraadid aiakultuuride kasvatamisel – Priit Põldma\, EMÜ\, aianduse õppetool\, lektor\n10:45 Suvelillede kasvatamine vähendatud turbaga substraadis begoonia\, pelargooni ja puispetuunia näitel – Leila Mainla\, EMÜ\, aianduse õppetool\, nooremprofessor\n11:30 Kohvipaus\n12:00 Köögiviljade kasvatamine vähendatud turbaga substraadis – Priit Põldma\n12:45-13:30 Alternatiivsete substraatide tutvustus ja arutelu – Leila Mainla ja Priit Põldma*Korraldaja jätab endale õiguse teha päevakavas muudatusi \nRegistreerimine on avatud SIIN \nEsitluspäev on tasuta\, osalemiseks on vajalik eelregistreerumine hiljemalt 17.06.2024. \nKohtade arv on piiratud\, registreerumine lõpetatakse kohtade täitumisel. \n\nInfopäev läheb arvesse nii KSM kui MULD toetuse kohustusliku koolitusena. Märgi osalemisel oma ettevõtte registrikood hoolikalt \n\nLisainfo:\nLeila Mainla\, Eesti Maaülikool\, aianduse õppetool\ne-post: leila.mainla@emu.ee \nPriit Põldma\, Eesti Maaülikool\, aianduse õppetool\ne-post: priit.poldma@emu.ee \nEsitluspäev toimub MAK 2014-2020 meetme „Teadmussiirde pikaajaline programm põllumajanduse\, toidu ja maamajanduse tegevusvaldkonnas“ aianduse valdkonna raames; Rahastamisallikas: Euroopa Maaelu Põllumajandusfond (EAFRD).
URL:https://www.pikk.ee/sundmus/esitluspaev-turba-vahendamise-voimalused-koogivilja-ja-ilutaimede-kasvusubstraatides/
LOCATION:Tartumaa\, Eesti
CATEGORIES:Aiandus
GEO:58.4057128;26.801576
END:VEVENT
END:VCALENDAR