BEGIN:VCALENDAR
VERSION:2.0
PRODID:-//PIKK.ee - ECPv6.13.2.1//NONSGML v1.0//EN
CALSCALE:GREGORIAN
METHOD:PUBLISH
X-WR-CALNAME:PIKK.ee
X-ORIGINAL-URL:https://www.pikk.ee
X-WR-CALDESC:Events for PIKK.ee
REFRESH-INTERVAL;VALUE=DURATION:PT1H
X-Robots-Tag:noindex
X-PUBLISHED-TTL:PT1H
BEGIN:VTIMEZONE
TZID:Europe/Tallinn
BEGIN:DAYLIGHT
TZOFFSETFROM:+0200
TZOFFSETTO:+0300
TZNAME:EEST
DTSTART:20240331T010000
END:DAYLIGHT
BEGIN:STANDARD
TZOFFSETFROM:+0300
TZOFFSETTO:+0200
TZNAME:EET
DTSTART:20241027T010000
END:STANDARD
END:VTIMEZONE
BEGIN:VEVENT
DTSTART;TZID=Europe/Tallinn:20241223T100000
DTEND;TZID=Europe/Tallinn:20241224T170000
DTSTAMP:20260425T062208
CREATED:20241219T063835Z
LAST-MODIFIED:20241219T063928Z
UID:10011386-1734948000-1735059600@www.pikk.ee
SUMMARY:Taimehaiguste koolitus
DESCRIPTION:Koolituse eesmärk on luua võimalused põhjalike teadmiste omandamiseks fütopatogeenide taksonoomiast ja bioloogiast ning taimehaiguste tuvastamiseks vajalike tunnuste mõistmiseks. \nKoolituse teemad: \n\nTaimehaiguste üldosa: Taimepatogeenide olulisemad rühmad (viirused\, bakterid\, protistid\, seened\, munasseened)\, nende bioloogia ja ökoloogilised iseärasused.\nKöögiviljade olulisemad haigused ja nende iseärasused (peamiselt seemnete tootmiseks ja taimede müügiks kasvatatavad köögiviljad nagu tomat\, kurk\, baklažaan\, suvikõrvits\, kartul).\nDekoratiivtaimede olulisemad haigused ja nende iseärasused (begoonia\, pelargoon\, krüsanteem\, salvei\, lavendel\, elulõng\, hortensiad\, kõrrelised\, roosid).\nViljapuude ja marjakultuuride olulisemad haigused ning nende iseärasused (peamiselt sõstrad\, vaarikad\, maasikad\, viinapuud\, pirnid\, õunapuud\, luuviljalised).\nVälipraktikum.\n\nKoolituse toimumise kuupäevad on 23. jaanuar\, 24. jaanuar ja 30. jaanuar 2025. Välipraktikum toimub augustis 2025 (kuupäev täpsustub\, kuid esialgne kuupäev on 15. august 2025).\nKoolitusele on oodatud osalema kõik huvilised.\nKoolitus on tasuline ja osaleja hind on 380 eurot. \n  \nTäpsem info ja registeerumine SIIT\nKoolituse koordinaator:\nKaire Loit\nTaimetervise õppetooli lektor\nPõllumajandus- ja keskkonnainstituut\nEesti Maaülikool\nTel. 731 3510\nFr. R. Kreutzwaldi 5D-228\nkaire.loit@emu.ee
URL:https://www.pikk.ee/sundmus/taimehaiguste-koolitus/
LOCATION:Tartu\, Eesti
CATEGORIES:Taimekaitse,Taimekasvatus
ATTACH;FMTTYPE=image/png:https://www.pikk.ee/wp-content/uploads/2024/12/EMU-logo-png.avif
END:VEVENT
BEGIN:VEVENT
DTSTART;TZID=Europe/Tallinn:20241227T153000
DTEND;TZID=Europe/Tallinn:20241227T183000
DTSTAMP:20260425T062208
CREATED:20241213T143218Z
LAST-MODIFIED:20241213T143218Z
UID:10011379-1735313400-1735324200@www.pikk.ee
SUMMARY:Mahelambakasvatus välislektoriga
DESCRIPTION:Mahepõllumajanduse Koostöökogu korraldab välislektoriga mahelambakasvatuse infopäeva teemal “Tõhus ja jätkusuutlik ussitõrje mahelambakasvatuses: kuidas kasutada looduse pakutud võimalusi”. \nInfopäev toimub 27. detsembril k 15.30 – 18.30 veebis (Zoom keskkond). \nInfopäeva lektoriks on peamiselt lammastele spetsialiseerunud veterinaararst James Patrick Crilly. Lektori ingliskeelne ettekanne tõlgitakse eesti keelde. \n  \nInfopäev on tasuta\, osalemiseks on vaja registreeruda hiljemalt 23. detsembriks siin: https://forms.gle/BUaZKBGoHKwQDDfo9  \nRegistreerunud osalejatele saadetakse osalemiseks vajalik link päev enne infopäeva toimumist. \n  \nLisainfo: maheteave@gmail.com \nInfopäev toimub „Teadmussiirde pikaajaline programm põllumajanduse\, toidu ja maamajanduse tegevusvaldkonnas“ raames. Toetab Euroopa Liit.
URL:https://www.pikk.ee/sundmus/mahelambakasvatus-valislektoriga/
LOCATION:Veebis\, Eesti
CATEGORIES:Loomakasvatus,Mahemajandus
ATTACH;FMTTYPE=image/jpeg:https://www.pikk.ee/wp-content/uploads/2023/10/JLF_PMK_AGRI_3_215-scaled.webp
END:VEVENT
END:VCALENDAR