BEGIN:VCALENDAR
VERSION:2.0
PRODID:-//PIKK.ee - ECPv6.13.2.1//NONSGML v1.0//EN
CALSCALE:GREGORIAN
METHOD:PUBLISH
X-WR-CALNAME:PIKK.ee
X-ORIGINAL-URL:https://www.pikk.ee
X-WR-CALDESC:Events for PIKK.ee
REFRESH-INTERVAL;VALUE=DURATION:PT1H
X-Robots-Tag:noindex
X-PUBLISHED-TTL:PT1H
BEGIN:VTIMEZONE
TZID:Europe/Tallinn
BEGIN:DAYLIGHT
TZOFFSETFROM:+0200
TZOFFSETTO:+0300
TZNAME:EEST
DTSTART:20250330T010000
END:DAYLIGHT
BEGIN:STANDARD
TZOFFSETFROM:+0300
TZOFFSETTO:+0200
TZNAME:EET
DTSTART:20251026T010000
END:STANDARD
END:VTIMEZONE
BEGIN:VEVENT
DTSTART;TZID=Europe/Tallinn:20250205T110000
DTEND;TZID=Europe/Tallinn:20250205T120000
DTSTAMP:20260426T061756
CREATED:20241217T175959Z
LAST-MODIFIED:20250122T064352Z
UID:10011382-1738753200-1738756800@www.pikk.ee
SUMMARY:Mullavesi – tähtsus\, mõõtmine\, erinevad vormid.
DESCRIPTION:Paul-Tech seminarid 2025 \nPaul-Tech OÜ korraldab kõikidele tulevastele ja tänastele klientidele 2025 aasta alguses kolm töötuba\, mis toimuvad veebis. Käsitleme väga laia ala taimekasvatuses – muld\, vesi ja toitained – ning selgitame \, kuidas on nendega seotud küsimused välja toodud Paul-Techi süsteemis. \nMullavesi – tähtsus\, mõõtmine\, erinevad vormid.\nToimub 05.02.2025\, kell 11.00-12.00 \nMullas olev vesi on taimekasvatuse kõige tähtsam ressurss. Mullavee kaudu toimub taimede toitumine (lahusti ja ioonide transpordi keskkond)\,  Mullavesi tagab taimede turgori ning ta on ka keskkonnaks fotosünteesi ja bioloogiliste reaktsioonide läbiviimiseks. Mullavesi erineb vabast veest mitmel moel ning seminari käigus vaatame\, kuidas saab mõõta mullavett ning tema mõju taimede kasvule. \nMiks praktikul on kasulik teada\, kui palju mingil teatud ajaperioodil vett pinnases on? Kas mullavee jälgimine võiks olla oluliseks võtmeks\, et otsustada sisendite kasutuse ajastuse ja koguste üle? Kas see aitab ära hoida kulutusi\, mis toodanguna tagasi ei tule? Vaatame möödunud aasta andmetele otsa ja valmistume uue hooaja kiireks ajaks ette. \nOsalemine on tasuta\, selleks tuleb end registreerida: https://forms.gle/1riG5fvrnEByPSGX7 \n  \n\nMullaanalüüsid VS mullajaama andmed   Toimub 14.01.2025 kell 11:00-12.00 \nTaimede toitumine\, lämmastiku omastamine ja NO3 mõõtmine ning taastav põllumajandus  Toimub 04.03.2024\, kell 11.00-12.00\n\n  \n  \nKontakt: Eve Plakk\, Tootejuht. +372 5245370;  eve.plakk@paul-tech.com \n 
URL:https://www.pikk.ee/sundmus/mullavesi/
LOCATION:Veebis\, Eesti
CATEGORIES:Keskkond,Taimekasvatus
ATTACH;FMTTYPE=image/jpeg:https://www.pikk.ee/wp-content/uploads/2024/12/mullavesi3.avif
ORGANIZER;CN="Paul-Tech":MAILTO:info@paul-tech.com
END:VEVENT
BEGIN:VEVENT
DTSTART;TZID=Europe/Tallinn:20250207T090000
DTEND;TZID=Europe/Tallinn:20250207T133000
DTSTAMP:20260426T061757
CREATED:20250203T055547Z
LAST-MODIFIED:20250203T055547Z
UID:10011415-1738918800-1738935000@www.pikk.ee
SUMMARY:Rohelisuse võimalikkusest hoonetel
DESCRIPTION:Eesti Maastikuehitajate Liidu iga-aastane talveseminar keskendub seekord katuse- ning fassaadihaljastuse temaatikale. Seminar toimub MOMU Mootorispordi Muuseumis. \nSoov rohelisema ja kvaliteetsema elukeskkonna järgi suureneb. Üha enam seotakse loodus ning hoonete konstruktsioonid. Ometi tundub\, et küsimusi on palju ning julgust oleks vaja juurde. \nSeminaril üritame leida vastuseid küsimustele: Milliseid aluskihte tuleks kasutada põhjamaa kliimas? Mis on faktorid millega tuleks arvestada nii haljastuse kui hoone seisukohalt? Millised fassaadilahendused toimivad? Millega tuleb katusehaljastuse rajamisel ning hooldamisel arvestada?
URL:https://www.pikk.ee/sundmus/rohelisuse-voimalikkusest-hoonetel/
LOCATION:Harjumaa\, Harjumaa\, Eesti
CATEGORIES:Keskkond
END:VEVENT
END:VCALENDAR