BEGIN:VCALENDAR
VERSION:2.0
PRODID:-//PIKK.ee - ECPv6.13.2.1//NONSGML v1.0//EN
CALSCALE:GREGORIAN
METHOD:PUBLISH
X-WR-CALNAME:PIKK.ee
X-ORIGINAL-URL:https://www.pikk.ee
X-WR-CALDESC:Events for PIKK.ee
REFRESH-INTERVAL;VALUE=DURATION:PT1H
X-Robots-Tag:noindex
X-PUBLISHED-TTL:PT1H
BEGIN:VTIMEZONE
TZID:Europe/Tallinn
BEGIN:DAYLIGHT
TZOFFSETFROM:+0200
TZOFFSETTO:+0300
TZNAME:EEST
DTSTART:20250330T010000
END:DAYLIGHT
BEGIN:STANDARD
TZOFFSETFROM:+0300
TZOFFSETTO:+0200
TZNAME:EET
DTSTART:20251026T010000
END:STANDARD
END:VTIMEZONE
BEGIN:VEVENT
DTSTART;TZID=Europe/Tallinn:20250311T100000
DTEND;TZID=Europe/Tallinn:20250311T160000
DTSTAMP:20260425T140000
CREATED:20250221T204636Z
LAST-MODIFIED:20250221T204636Z
UID:10011435-1741687200-1741708800@www.pikk.ee
SUMMARY:ESG töötuba väiketootjatele
DESCRIPTION:Tartu Biotehnoloogia Park ja EIT Food kutsuvad kõiki toiduvaldkonna ettevõtjaid ja SME-sid tasuta ESG teemalisse praktilisse töötuppa “Mida tähendab ESG väiketootjatele? Väljakutsed ja võimalused”\, mille väljundiks on praktiline CO2 jalajälje analüüs konkreetsele ettevõttele. \n  \n📅 Kuupäev: 11. märts 2025\n🕙 Kellaaeg: 10:00 – 16:00\n📍 Asukoht: Tartu Loodusmaja\, Lille tn 10\, Tartu\n🎯 Sihtgrupp: Ettevõtjad\, SME-d \n  \n🌱 Miks osaleda?\nESG (Environmental\, Social\, Governance) ehk keskkonna-\, sotsiaal- ja juhtimispõhimõtete rakendamine muutub üha olulisemaks nii seadusandjate\, investorite kui ka tarbijate jaoks. Koolitus annab praktilised tööriistad ja teadmised\, kuidas oma ettevõttes ESG põhimõtteid rakendada\, suurendada jätkusuutlikkust ning vastata seadusandluse nõuetele ja investorite ootustele. \nKoolituse sisu: \n✅ESG taust\, põhimõtted ja tegurid \n✅ÜRO kestliku arengu ja jätkusuutlikkuse eesmärgid \n✅Keskkonnategevused\, nende kaardistamine ja hindamine – mõju kliimasoojenemisele; kasvuhoonegaasid (CO2 jalajälje arvutus) \n✅Sotsiaalsed tegevused\, nende kaardistamine ja hindamine – töötajad\, personalitöö\, töökeskkond ja heaolu\, mitmekesisus\, võrdsed võimalused\, kogukond\, ühiskond \n✅Ettevõtte juhtimistegevused\, nende kaardistamine ja hindamine – läbipaistvus\, juhtimine ja juhtkond\, riskide eesmärkide seadmine ja juhtimine \n✅Euroopa Liidu jätkusuutlikkuse alusdokumendid (EFRAG VSME) \n  \n📌 Praktiline osa: \n\nRühmatöö: ESG mõjude hindamine\nIndividuaalne ülesanne: CO2 jalajälje arvutamine\nIseseisev töö ja selle tagasisidestamine\n\n🎓 Koolitaja: Maarja Mathias (Foodinspect OÜ)\nMaarja on täiskasvanute koolitaja (rahvusvaheline tase 7 koolitajate koolitaja)\, kellel on üle 10 aasta kogemust Suurbritannias. Maarja on spetsialiseerunud kvaliteedihaldusele\, keskkonna- ja tööohutusele ning omab laialdasi teadmisi standardite integreerimisest toiduohutuse ja -kvaliteedi juhtimisse. Viimastel aastatel on Maarja keskendunud ESG strateegiatele ning rakendanud ESG hõlmavaid integreeritud süsteeme\, sealhulgas ISO 14001\, ISO 45001\, ISO 9001 ja B-corp. \n  \n⚠️ Mida kaasa võtta? \n\nSülearvuti CO2 arvutamiseks\nVajalik eelinfo CO2 arvutamiseks (saadetakse registreerunutele)\n\n  \n🔗 Registreerimine: https://forms.gle/8hMc4aKdboqwjzry8 \nKoolitus on tasuta ja kohtade arv on piiratud! Registreeru varakult\, et kindlustada oma koht. \n  \nKüsimused ja lisainfo: \nMaris Väli-Täht\, maris@biopark.ee\, 5662 1301 \nKeiu Käära\, keiu@biopark.ee\, 522 1392 \n  \n 
URL:https://www.pikk.ee/sundmus/esg-tootuba-vaiketootjatele/
LOCATION:Tartu\, Eesti
CATEGORIES:Süsinik
ATTACH;FMTTYPE=image/jpeg:https://www.pikk.ee/wp-content/uploads/2025/02/ESG-koolitus-vaiketootjatele-Facebooki-postitus.avif
ORGANIZER;CN="Tartu Biotehnoloogia Park":MAILTO:biopark@biopark.ee
END:VEVENT
BEGIN:VEVENT
DTSTART;TZID=Europe/Tallinn:20250313T080000
DTEND;TZID=Europe/Tallinn:20250313T170000
DTSTAMP:20260425T140000
CREATED:20250313T090454Z
LAST-MODIFIED:20250313T090454Z
UID:10011468-1741852800-1741885200@www.pikk.ee
SUMMARY:Seminar "Üheteranisu Eestis"
DESCRIPTION:11. aprillil kutsume tutvuma üheteranisuga Hellenurme Veskimuuseumisse. Tutvustame praktilisi kogemusi üheteranisuga\, mis hõlmavad nii kasvatamist kui ka selle jahust küpsetamist. Seminari korraldab METK. \nEttekanded tutvustavad põnevat iidset nisuliiki – üheteranisu. \n\nProjekti eestvedaja OÜ Rannu Seeme tutvustab praktilisi kogemusi selle erilise nisuliigi kasvatusega seoses.\nMaaelu Teadmuskeskuse nooremteadur Riinu Kaasik räägib üheteranisuga tehtud küpsetuskatsetest ning tutvustab üheteranisu digitaalset kokaraamatut.\nMETK vanemteadur Reine Koppel teeb ülevaate projekti põldkatsete tulemustest\, puhkeperioodi uurimisest ning üheteranisu keemilise koostise uurimisest.\nTalTech Toidu ja biotehnoloogia osakonna teadlased Kaarel ja Signe Adamberg tutvustavad üheteranisu kasutamist hapusaia tehnoloogiat kasutades ning võrdlevad seda erilist nisu teiste meil tuntumate teraviljade jahudega.\nPuratosMalt esindaja räägib\, mida nemad üheteranisust teada on saanud ja kuidas oma tootmises seda kasutada saaks.\nRäägime ka vahekultuuride mõjust nisu kvaliteedile\, mida samuti selle projekti raames põgusalt vaatasime.\nLisaks üheteranisule puudutame ka rukki külvisenormi katse tulemusi.\nLisaks vaatame ka praktilises plaanis ühetera jahust küpsetamist\, mida aitab meil teha veskiemand Mae.\n\nPäevakava lisame 21. märtsiks. \nRegistreerimine ja lisainfo  SIIT \nRegistreerida saab 8. aprillini \nSeminari korraldab Maaelu Teadmuskeskus projekti „Üheteranisu Eestis kasvatamine ning nisu ja rukki kasutamise mitmekesistamine“ raames.\nÜheteranisu kasvatamise ja kasutamise uurimist rahastab Eesti maaelu arengukava 2014–2020 meede “Uute toodete\, tavade\, protsesside ja tehnoloogiate arendamine”
URL:https://www.pikk.ee/sundmus/seminar-uheteranisu-eestis/
CATEGORIES:Taimekasvatus,Toiduainete tootmine
END:VEVENT
BEGIN:VEVENT
DTSTART;TZID=Europe/Tallinn:20250313T093000
DTEND;TZID=Europe/Tallinn:20250313T133000
DTSTAMP:20260425T140000
CREATED:20250203T090703Z
LAST-MODIFIED:20250319T190203Z
UID:10011417-1741858200-1741872600@www.pikk.ee
SUMMARY:Taimekaitsevahendite turule lubamine – PTA kogemuslood ja õppetunnid
DESCRIPTION:Infopäev „Taimekaitsevahendite turule lubamine – PTA kogemuslood ja õppetunnid“ \n✅ räägime ameti tähelepanekutest taimekaitse ja väetiste järelevalves; \n✅ tutvustame taimekaitsevahendite turule lubamise praktika telgitaguseid; \n✅ vastame küsimustele ja kuulame hea meelega asjaosaliste mõtteid ja ettepanekuid senisest veelgi tõhusamaks koostööks. \nToimub 13. märtsil kell 10.00 – 13.30 Rapla Riigimaja suures saalis (Tallinna mnt 14\, Rapla). \nOsalemine on tasuta\, kuid vajalik on eelnev registreerimine. \nPalun anna enda osalemisest teada hiljemalt hiljemalt 7. märtsiks SIIN.\nSündmust ei kanta üle veebi teel ja ei salvestata. \n\nülevaade toimunust pressiteatena https://pta.agri.ee/uudised/pta-taimekaitsevahendite-infopaev-sektori-valjakutsete-lahendamisel-votmesonaks-koostoo\npäeva esimese poole ettekanded\n\nPÄEVAKAVA: \n9.30 – 10.00 Tere tulemast! Kogunemine ja hommikukohv \n10.00 – 10.10 Päeva avab PTA taimekaitse ja väetise osakonna juhataja Tiina Kärner \n10.10 – 10.30 Millest räägivad PTA 2024 järelevalve tulemused? PTA peaspetsialist Laine Järs. \n10.30 – 10.50 Väetistega seotud väljakutsed. PTA peaspetsialistid Katrin Muruste ja Katrin Tammvere. \n10.50 – 11.10 Taimekaitsevahendite turule tulemine: üks aasta hiljem. PTA nõunik Rauno Aljas. \n11.10 – 11.30 Kohvi\, sirutus- ja suhtlemispaus riigimaja talveaias! \n11.30 – 13.00 Kogemuslood  “PTA taimekaitsevahendite hindamise praktikum“. \n\nPTA hindamisprotsess meeskonna töölaual. Tiina Kärner\, PTA taimekaitse ja väetise osakonna juhataja.\nKogemuslugu: taimekaitsevahendite turule lubamine. Raimond Strastin\, Eesti Aiandusliidu tegevjuht.\nToodete turule lubamise praktilised näited. Rauno Aljas\, PTA nõunik.\n\n13.00-13.30 Kerge lõuna riigimaja talveaias. \nKui Teil on küsimusi\, võtke palun meiega ühendust:  tiina.karner@pta.agri.ee \nLisainfo PTA kodulehel: https://pta.agri.ee/infopaev-taimekaitsevahendite-turule-lubamine-pta-kogemuslood-ja-oppetunnid
URL:https://www.pikk.ee/sundmus/taimekaitsevahendite-turule-lubamine/
LOCATION:Raplamaa\, Raplamaa
CATEGORIES:Taimekaitse
ATTACH;FMTTYPE=image/jpeg:https://www.pikk.ee/wp-content/uploads/2025/02/PTA_taimekaitsepaev_2025.avif
GEO:58.8492625;24.7346569
END:VEVENT
BEGIN:VEVENT
DTSTART;TZID=Europe/Tallinn:20250313T100000
DTEND;TZID=Europe/Tallinn:20250313T150000
DTSTAMP:20260425T140000
CREATED:20250216T173534Z
LAST-MODIFIED:20250216T173534Z
UID:10011431-1741860000-1741878000@www.pikk.ee
SUMMARY:Magnum kevadseminar
DESCRIPTION:Kutsume kõiki loomaarste ja loomaarsti abilisi osalema Magnum Veterinaaria Kevadseminaril\, mis toimub 13. märtsil 2025 Tallinnas\, Erinevate Tubade Klubis! \nSaame teada\, milline zoonootiline parasiit laiendab oma areaali Euroopas enneolematu kiirusega\, diagnostika keerdkäikudest ja väljakutsetest ning segadusttekitavatest uutestleidudest – parasiitidest\, keda enam välistada eitohi.\nTutvustame silmale nähtamatut mikrobioomi ja saame teada\, miks me eitohiks tema toetamist\nignoreerida. Haara tuhvlid ning sahistame susse\, et saada vastuseid nendele ja paljudele teistele küsimustele! \nLektorid\nMaare Mõtsküla\, DVM\nIngrid Hang\, DVM\, PhD\nLiina Laaneoja\, DVM\, MA\nJulija Abram\, DVM\nSigrid Praats\, DVM \nPaneeldiskussioonis osalevad\nMaare Mõtsküla\, DVM\nValentina Oborina\, DVM\nLiina Laaneoja\, DVM\, MA \nPurina loosib kõikide viktoriinis osalejate vahel välja praktilise kapselkohvimasina Nescafé Dolce Gusto! \nOsalustasu\n25€ + KM \nAjakava peagi tulekul! \nRegistreeru SIIN
URL:https://www.pikk.ee/sundmus/magnum-kevadseminar/
LOCATION:Harjumaa\, Harjumaa\, Eesti
CATEGORIES:Loomakasvatus
END:VEVENT
BEGIN:VEVENT
DTSTART;TZID=Europe/Tallinn:20250313T100000
DTEND;TZID=Europe/Tallinn:20250313T153000
DTSTAMP:20260425T140000
CREATED:20250219T123046Z
LAST-MODIFIED:20250219T123325Z
UID:10011434-1741860000-1741879800@www.pikk.ee
SUMMARY:Täienduskoolitus "Sigadega tervishoid\, parasitaar- ja infektsioonhaigused"
DESCRIPTION:Sigadega tervishoid\, parasitaar- ja infektsioonhaigused \n\nToimumisaeg: 13. ja 28. märts\, 3. ja 10. aprill 2025 (neljapäevane koolitus on tervik)\nToimumiskoht: Eesti Maaülikool\, Tartu\, F. R. Kreutzwaldi 56/1           \nKoolituse lähem kirjeldus vt. SIIT.\nKoolituse maht kokku on 28 akadeemilist tundi\, millest 24 on kontaktõpe loengud/seminarid/rühmatööd + 4 tundi iseseisev töö\nKokku on 4 õppepäeva ja ühe õppepäeva pikkus on 6 akadeemilist tundi \nTeemad:\n1. päev: Sigade tervishoid\, bioturvalisus\n2. päev: Sigade tervishoid ja heaolu -imikpõrsas\, – võrdepõrsas\, -kesik\, nuumik\, -emik ja emis\n3. päev: Parasitaarhaigused\n4. päev: Infektsioonhaigused \nKoolitaja: \nJulia Jeremejeva\, PhD\nEesti Maaülikooli veterinaarmeditsiini ja loomakasvatuse instituudi kliinilise veterinaarmeditsiini õppetooli vanemlektor \nKoolitus toimub ülikoolides ja rakenduskõrgkoolides toimuvate täiskasvanute täienduskoolituse kursuste riikliku koolitustellimuse tellimuse raames ning tegevust rahastab ESF VÕTI programm “Täiskasvanuhariduse arendamine ja mitteformaalsete õppimisvõimaluste pakkumine”.\nKoolitus on lõpetamise nõuded täitnud õppijale tasuta. Koolituse õnnestumiseks on vajalik valmisolek osaleda kõikidel ettenähtud koolituspäevadel\, kuid kindlasti mitte vähem kui 70% ulatuses kontaktõppe mahust ja sooritada õpiväljundi saavutamiseks vajalikud ülesanded.ESF VÕTI programm ei kata koolituskulusid\, juhu kui osaleja ei täida koolituse lõpetamise nõudeid\, sel juhul tuleb osalejal tasuda koolituskulu endal. Tasulise koolitusena on antud koolituse osavõtutasu 360 eurot. \nOsalemissoovi korral on vajalik õigeaegne registreerumine ja motivatsioonikirja esitamine\, hiljemalt 28. veebruariks 2025 \nKoolituse korraldaja: \nEesti Maaülikooli avatud ülikool\nF. R. Kreutzwaldi 56/1\, 51006 Tartu\ntel 731 3175\ne-post: avayl@emu.ee
URL:https://www.pikk.ee/sundmus/taienduskoolitus-sigadega-tervishoid-parasitaar-ja-infektsioonhaigused/
LOCATION:Tartu\, Eesti
CATEGORIES:Loomakasvatus
ORGANIZER;CN="Eesti Maa%C3%BClikooli avatud %C3%BClikool":MAILTO:avayl@emu.ee
END:VEVENT
BEGIN:VEVENT
DTSTART;TZID=Europe/Tallinn:20250313T100000
DTEND;TZID=Europe/Tallinn:20250313T170000
DTSTAMP:20260425T140000
CREATED:20250303T143019Z
LAST-MODIFIED:20250307T074437Z
UID:10011451-1741860000-1741885200@www.pikk.ee
SUMMARY:Kasvuhooneheitgaaside auditeerimise koolitus nõustajatele
DESCRIPTION:Registreerumiseks kõpsa lehe allosas olevat nuppu “Registreeru” (hiljemalt 11. märts kell 10.00) \n  \n  \nKoolituse eesmärk on pakkuda tulevastele või juba tegutsevatele põllumajanduse valdkonna nõustajatele tuge kasvuhooneheitgaaside auditeerimise protsessi paremaks mõistmiseks. \nÜhtlasi annab koolitus osalejatele oskused tööriistade kasutamiseks ja tulemuste tõlgendamiseks. See on oluline\, et tagada nõuandeteenuse jätkusuutlikkus\, mis tuleneb uute nõuandeteenuste vajadustest (sh keskkonnaeesmärgid ja jätkusuutlikkuse aruandlus). \nNB! Kasvuhooneheitgaaside auditeerimise koolitus koosneb kahest osast:  \n\nKasvuhooneheitgaaside auditeerimise tööriistade kasutamise koolitus (Farm Carbon Calculator\, CAP2’ER) 13.03\nTulemuste tõlgendamine ja mõju vähendamise soovituste töötuba (toimumisaeg märtsi lõpp – aprilli algus)\n\nKoolitusel osalenu: \n\nTeab kasvuhooneheitgaaside auditeerimise tööriistu\nOskab kasutada kasvuhooneheitgaaside auditeerimise tööriistu\nOskab teostada andmekorjet kasvuhooneheitgaaside auditeerimise jaoks\nTeab printsiipe ja põhimõtteid\, millest kasvuhooneheitgaaside auditeerimise tööriistad lähtuvad\nTeab\, kuidas sisendandmed mõjutavad kasvuhooneheitgaaside auditeerimise tulemust\nOskab tõlgendada kasvuhooneheitgaaside auditeerimise tulemusi\nOskab anda nõu kasvuhooneheitgaaside auditeerimise tulemuste põhjal\n\nKoolitaja: Sirli Pehme\nSirli Pehme on üle 10 aastase kogemusega keskkonnaekspert\, kes hindab igapäevaselt ettevõtete ja toodete keskkonnamõjusid ning suunab ettevõtteid keskkonnamõjude vähendamise teekonnal. \nKoolituse täies mahus läbinutele väljastab Maaelu Teadmuskeskus tõendi. \nKasvuhooneheitgaaside auditeerimise koolitus on osa Rohumaaveise kvaliteedikava arendamisest. \nLisainfo:\nKelli Talving\nkelli.talving@metk.agri.ee
URL:https://www.pikk.ee/sundmus/kasvuhooneheitgaaside-auditeerimise-koolitus-noustajatele/
LOCATION:Harjumaa\, Harjumaa\, Eesti
CATEGORIES:Keskkond,Loomakasvatus,Süsinik,Taimekasvatus
END:VEVENT
BEGIN:VEVENT
DTSTART;TZID=Europe/Tallinn:20250313T113000
DTEND;TZID=Europe/Tallinn:20250313T130000
DTSTAMP:20260425T140000
CREATED:20250206T121419Z
LAST-MODIFIED:20250206T142221Z
UID:10011419-1741865400-1741870800@www.pikk.ee
SUMMARY:Põllukultuuride haigustekitajate seire seminar
DESCRIPTION:Põllukultuuride haigustekitajate seire seminar (1\,5 tundi)\nKuupäev: 13.03.2025    Kellaaeg: 11:30 – 13:00 \nAsukoht: Eesti Maaülikool. Fr.R. Kreutzwaldi 5\, Tartu. Ruum: D239 \n  \nSeminaril räägib Rothamsted Instituudi professor Jon West viimastest arengutest põllukultuuride kahjurite\, umbrohtude ja haiguste seires. Seminar keskendub haiguste avastamisele nisul\, rapsil\, kartulil ja peedil.\nProfessor Jon West on taimepatoloog ja aerobioloog\, kellel on laialdased kogemused rakendusliku taimepatoloogia ja aerobioloogia vallas. Ta juhib meeskonda\, mis uurib põllukultuuride patogeenide bioloogiat\, seenhaiguste tõrjet\, taimede haiguste resistentsust\, ja põllukultuuride varajase tuvastamise meetodeid (k.a töötab välja õhus levivate seeneeoste seire meetodeid). \nSeminar on inglise keeles. \n Registreerimise link: Registreeri siin \nSeminari korraldajad on MTÜ Põllukultuuride klaster ja Eesti Maaülikool. \nSeminar on osaliselt toetatud uute toodete\, tavade\, protsesside ja tehnoloogiate arendamise meetmest\, mis on Eesti maaelu arengukava (MAK) 2014–2020 meetme 16 „Koostöö” alaliik. \nKontakt: Roosi Soosaar. Tel. 53731509 rose@soilprotection.earth \n  \nProjekti pealkiri: Talinisu haiguste tõrjumine vastavalt õhus levivate seeneeoste hulgale. \nProjekti taotleja: MTÜ Põllukultuuride klaster \nProjektiperiood: 06.07.2024 – 31.05.2025
URL:https://www.pikk.ee/sundmus/pollukultuuride-haigustekitajate-seire/
LOCATION:Tartu\, Eesti
CATEGORIES:Keskkond,Taimekaitse,Taimekasvatus
ATTACH;FMTTYPE=image/jpeg:https://www.pikk.ee/wp-content/uploads/2025/02/Eosepuudja_pilt.avif
END:VEVENT
BEGIN:VEVENT
DTSTART;TZID=Europe/Tallinn:20250313T123000
DTEND;TZID=Europe/Tallinn:20250313T170000
DTSTAMP:20260425T140000
CREATED:20250223T163740Z
LAST-MODIFIED:20250223T163740Z
UID:10011440-1741869000-1741885200@www.pikk.ee
SUMMARY:Ettevõtjate trehvamine Hiiumaal
DESCRIPTION:Hiiumaa Arenduskeskus üritus – Ettevõtjate trehvamine: toetuste infopäev #2\n\n\n\n\n\n\n\n\n\n\n\n\n\n\n\n\n\n\n\n\n\n\n 𝗠𝗶𝗹𝗹𝗮𝗹? 13. märts\n\n\n\n\n\n\n\n 𝗞𝘂𝘀? Hiiumaa Pruulikoja Resto\n\n\n\n\n𝗧𝗲𝗲𝗺𝗮𝗱 𝗷𝗮 𝗮𝗷𝗮𝗱:\n12.15-12.30 Kogunemine ja toekam suupistelaud\n 12.30 Maaelu Edendamise Sihtasutuse toetus ja rahastusvõimalused – Meelis Annus\, Maaelu Edendamise Sihtasutus  https://mes.ee/\n 13.30 Maapiirkonna ettevõtjate konkurentsivõime suurendamise investeeringutoetus – Allar Korjas\, Regionaal- ja Põllumajandusministeerium  https://www.pria.ee/…/konkurentsivoime-suurendamise…Taotluse esitamisega seotud nõuded ja küsimused – PRIA\n14.45 sirutuspaus\n 15.00 Perioodi 2023–2027 toiduainetööstuse investeeringutoetus (avaneb mais 2025) – Kalev Karisalu\, Regionaal- ja Põllumajandusministeerium\n 16.00-17.00 Ettevõtte külastus – 𝐇𝐢𝐢𝐮𝐦𝐚𝐚 𝐏𝐫𝐮𝐮𝐥𝐢𝐤𝐨𝐝𝐚  https://hiiumaapruulikoda.ee/Päeva lõpus külastame Hiiumaa Pruulikoja tootmist Kärdlas.\n\n𝐍𝐁! 𝐈𝐧𝐟𝐨𝐩ä𝐞𝐯 𝐨𝐧 𝐞𝐞𝐥𝐫𝐞𝐠𝐢𝐬𝐭𝐫𝐞𝐞𝐫𝐢𝐦𝐢𝐬𝐞𝐠𝐚\, seega anna enda tulekust kindlasti teada 𝟏𝟎. 𝐦ä𝐫𝐭𝐬𝐢𝐤𝐬: https://forms.office.com/e/iELW8enCmx\n Võimalik on liituda ka vahetult enne iga teemabloki algust.\n\nKorraldaja kontakt: Angela Koit\, ettevõtluskonsultant\, angela.koit@hiiumaa.ee\, +372 5041337
URL:https://www.pikk.ee/sundmus/ettevotjate-trehvamine-hiiumaal/
LOCATION:Hiiumaa\, Hiiumaa\, Eesti
CATEGORIES:Maaettevõtlus
END:VEVENT
BEGIN:VEVENT
DTSTART;VALUE=DATE:20250315
DTEND;VALUE=DATE:20250316
DTSTAMP:20260425T140000
CREATED:20250307T082725Z
LAST-MODIFIED:20250307T083228Z
UID:10011456-1741996800-1742083199@www.pikk.ee
SUMMARY:Viljapuude lõikamine ja tüvede ravimine
DESCRIPTION:Märtsis toimub 3 koolitust viljapuude lõikamisest ja tüvede ravimisest \n\n15.03.2025 Haaslava\, Kastre vald\, Tartumaa (koolitaja Epp Säga)\n22.03.2025 Võiperes\, Lääne-Virumaal (koolitaja Juta Lopp)\n22.03.2025 Jõgevamaal (koolitaja Epp Säga)\n\nKogu maht: 8 ak tundi\nHind: 85€ \nKoolitajad: Epp Säga\, Räpina Aianduskooli puuviljanduse õpetaja\, Jugari Aed perenaine.\nJuta Lopp\, Räpina Aianduskooli aianduse eriala kutseõpetaja\, Tagametsa Mahe perenaine (8 ha erinevas vanuses puuviljaaeda).\nKoolitusjuht: Elina Oeselg\, 56 671 936 elina.oeselg@aianduskool.ee \nSihtgrupp\nHobiaednikud\, väikeettevõtjad\, talunikud\, haljastustöötajad.\nKoolituse alustamise tingimus: olemas algteadmised puittaimedest. \nÕpiväljundid\nKoolituse läbinu: \n\nKasutab ohutuid ja õigeid lõikevõtteid\nKujundab noort viljapuud\nLõikab erinevas vanuses viljapuid\nRavib viljapuude tüvekahjustusi\n\nHindamismeetod: Praktiline töö: Kursusel osaleja lõikab etteantud võratüübi kujundust arvestavalt viljapuu.\nHindamiskriteeriumid: Etteantud viljapuu on nõuetekohaselt lõigatud\, lõiked on tasased ja puu paraja tihedusega. \nRegistreeru: https://koolitus.aianduskool.ee/event/viljapuude-loikamine-ja-tuvede-ravimine/
URL:https://www.pikk.ee/sundmus/viljapuude-loikamine-ja-tuvede-ravimine/
LOCATION:Tartumaa\, Eesti
CATEGORIES:Aiandus
ATTACH;FMTTYPE=image/jpeg:https://www.pikk.ee/wp-content/uploads/2025/03/Viljapuude-loikamine.avif
ORGANIZER;CN="R%C3%A4pina Aianduskool":MAILTO:elina.oeselg@aianduskool.ee
GEO:58.4057128;26.801576
END:VEVENT
END:VCALENDAR