BEGIN:VCALENDAR
VERSION:2.0
PRODID:-//PIKK.ee - ECPv6.13.2.1//NONSGML v1.0//EN
CALSCALE:GREGORIAN
METHOD:PUBLISH
X-WR-CALNAME:PIKK.ee
X-ORIGINAL-URL:https://www.pikk.ee
X-WR-CALDESC:Events for PIKK.ee
REFRESH-INTERVAL;VALUE=DURATION:PT1H
X-Robots-Tag:noindex
X-PUBLISHED-TTL:PT1H
BEGIN:VTIMEZONE
TZID:Europe/Tallinn
BEGIN:DAYLIGHT
TZOFFSETFROM:+0200
TZOFFSETTO:+0300
TZNAME:EEST
DTSTART:20250330T010000
END:DAYLIGHT
BEGIN:STANDARD
TZOFFSETFROM:+0300
TZOFFSETTO:+0200
TZNAME:EET
DTSTART:20251026T010000
END:STANDARD
END:VTIMEZONE
BEGIN:VEVENT
DTSTART;TZID=Europe/Tallinn:20250331T100000
DTEND;TZID=Europe/Tallinn:20250331T153000
DTSTAMP:20260424T080451
CREATED:20250314T090213Z
LAST-MODIFIED:20250325T070830Z
UID:10011469-1743415200-1743435000@www.pikk.ee
SUMMARY:Mahelambakasvatuse infopäev. Poegimise korraldamine
DESCRIPTION:Kohad on täitunud ja registreerumine lõppenud! \nInfopäev keskendub lammaste poegimisega seonduvale. Päeva esimeses osas räägitakse poegimisajaks ettevalmistamisest\, poegimise järelevalvest\, \nTalleke. Foto: Janek Laanemäe \npoegimisabi andmisest\, tallede tervisest esimesel elunädalal ja enamlevinud poegimisjärgsetest probleemidest uttedel. Välja tuuakse mahetootmise eripärad ja aspektid\, millega peab arvestama poegimise korraldamisel välitingimustes. Päeva teises pooles tutvutakse Tsura talu poegimissüsteemi korraldusega ja oma kogemusi jagavad mahelambakasvatajad. Toimub arutelu. \nSihtgrupp: Mahe- ja tavalambakasvatajad\, kes on huvitatud poegimisperioodi tõhusast korraldamisest. \nLektor: Katrin Tähepõld\, loomaarst \nPäevakava:\n9.30 – 10.00 kogunemine Tsura talu seminariruumis\n10.00 – 12.15 \n\nSissejuhatus\nPoegimisajaks ettevalmistamine\nPoegimise järelevalve ja poegimisabi\nPoegimisperiood mahetootmise eripärasid arvestades\nPoegimise korraldamine välitingimustes – millega peab arvestama?\nTallede tervis esimesel elunädalal\nEnamlevinud probleemid poegimisjärgselt uttedel\n\n12.15 Lõuna \n13.00 – 15.30 \n\nKülastatava ettevõtte poegimissüsteemiga tutvumine (Tsura talu laudas).\nMahelambakasvatajate kogemused ja soovitused poegimisperioodi õnnestumiseks. Arutelu\nKokkuvõte\n\n*korraldajal on õigus teha päevakavas muudatusi \n  \nInfopäev viiakse läbi „Põllumajanduslike teadmiste ja innovatsiooni süsteemi“ ehk AKIS raames. Kaasrahastab Euroopa Liit. \nTäpsem info: maheteave@gmail.com
URL:https://www.pikk.ee/sundmus/mahelambakasvatuse-infopaev-poegimise-korraldamine/
LOCATION:Valgamaa\, Eesti
CATEGORIES:Loomakasvatus,Mahemajandus
END:VEVENT
BEGIN:VEVENT
DTSTART;TZID=Europe/Tallinn:20250402T093000
DTEND;TZID=Europe/Tallinn:20250402T150000
DTSTAMP:20260424T080451
CREATED:20250310T074929Z
LAST-MODIFIED:20250310T075753Z
UID:10011458-1743586200-1743606000@www.pikk.ee
SUMMARY:Baltic Agro loomakasvatusseminar
DESCRIPTION:Kutsume Sind osalema loomakasvatusseminaril\, kus päeva keskne teema on piimaveiste üleminekuperiood ja selle väljakutsed. \nTule kuulama – saad põhjalikke teadmisi ja praktilisi nõuandeid üleminekuperioodi juhtimisest\, karjatervise parandamisest ja piimatoodangu tõhustamisest. \nAeg: 02.04.2025 9:30-15:00 \nKoht: Põltsamaa loss (Magnuse saal) \nTeemad ja esinejad:\n“Piimaveiste üleminekuperioodi tervislik seisund ja väljakutsed” Tamasz Kertesz (PhD\, loomakasvatus) \n\nMillised on üleminekuperioodi peamised katsumused ja nende mõju loomade tervisele?\nKuidas toetada lehmi\, et nad saavutaksid kõrge piimatoodangu ja tuleksid toime negatiivse energiabilansiga?\nKuidas vähendada põletikke ja oksüdatiivset stressi?\n\nTamasz Kertesz on veiste söötmise nõustaja ettevõttes VetAgro\, kes omab üle 25 aasta kogemusi mäletsejaliste söötmise ja söödalisandite valdkonnas. \n  \n“Söödarasvade rasvhappelise koostise mõju piimaveisele pärast poegimist” – Thorkild Moos (MSc\, piimaveisekasvatus) \n\nMilline on söödarasvade koostises olevate rasvhapete roll üleminekuperioodil ja negatiivse energiabilansi ajal?\nKuidas valida õigeid söödarasva tooteid sõltuvalt eesmärgist ja lehma tsüklist?\n\n Thorkild Moos töötab nõustajana söödarasvade ettevõttes Lipitec A/S ja on tegutsenud mäletsejaliste söötmise valdkonnas üle 25 aasta. \nRegisteeru: https://balticagro.ee/loomakasvatus/loomakasvatusseminar-2025
URL:https://www.pikk.ee/sundmus/loomakasvatusseminar/
LOCATION:Jõgevamaa\, Jõgevamaa\, Eesti
CATEGORIES:Loomakasvatus
ATTACH;FMTTYPE=image/png:https://www.pikk.ee/wp-content/uploads/2025/03/Loomakasvatusseminar_kujundus-png.avif
END:VEVENT
BEGIN:VEVENT
DTSTART;TZID=Europe/Tallinn:20250402T100000
DTEND;TZID=Europe/Tallinn:20250402T143000
DTSTAMP:20260424T080451
CREATED:20250319T190801Z
LAST-MODIFIED:20250319T190801Z
UID:10011476-1743588000-1743604200@www.pikk.ee
SUMMARY:Innovatsioon põllumajanduses
DESCRIPTION:Põllumajandusettevõtted ja toidutootjad seisavad silmitsi kiiresti muutuvate olude ja kasvavate ootustega – alates keskkonnasäästlikkusest kuni tehnoloogiliste uuendusteni. Uue programmiperioodi toetusskeemid on loodud pakkuma vajalikku tuge kõige mõjukamate ja vajalikumate innovatsiooniprojektide elluviimiseks. Kutsume eelkõige põllumajandus- ja toidutootjaid ning töötlejaid osalema ning jagama oma ootusi\, ettepanekuid ja praktilisi kogemusi\, et tagada uue rahastussüsteemi optimaalne sobivus reaalsesse elusse. Teie arvamus on oluline\, et toetused ja süsteemid aitaksid tõhusalt ja tulemuslikult edendada innovatsiooni põllumajanduses. \nToimumisaeg: 02.04.2025\nToimumiskoht: Suur-Ameerika tn 1\, Ministeeriumide ühishoone\, ruum “Kirsipuu” \nSihtgrupp: Kutsume eelkõige põllumajandus- ja toidutootjaid ning töötlejaid osalema ning jagama oma ootusi\, ettepanekuid ja praktilisi kogemusi \nTutvu lähemalt sündmuse päevakavaga ja pane ennast kirja SIIN \nPäevakava\n10.00 – 10.30 Kogunemine ja tervituskohv \n10.30 – 10.40 Moderaatori tervitus ja päeva sissejuhatus – Tõnis Tänav\, Regionaal- ja Põllumajandusministeeriumi Innovatsiooni ja strateegia asekantsler. \n10.40 – 11.10 Uue perioodi innovatsiooni sekkumiste tutvustus ja ülevaade varasemate meetmete tulemustest – Gret-Kristel Mällo\, Regionaal- ja Põllumajandusministeeriumi teadus- ja arendusosakonna nõunik. \n11.10 – 11.15 Grupiarutelu eesmärk ja töökorraldus \n11.15 – 12.00 Grupiarutelu I (toimub laudkondades)- Partnerite kaasamine projekti ja tõhus koostöö; võimalikud teemad/tegevused lähtuvalt valdkondadest \n12.00 – 12.45 Lõunapaus (omal kulul Ministeeriumite ühishoone sööklas) \n12.45 – 13.30 Grupiarutelu II (toimub laudkondades) – Uue perioodi innovatsiooni sekkumiste hindamiskriteeriumid; projekti tulemuste levitamine \n13.30 – 14.15 Grupiarutelude tulemuste tutvustus ja ühine arutelu \n14.15 Lõppsõnad \n  \n\n\n\n\n\n\n\n\n\n\n\n\n\n\n\n\n\n\n\n\n  \n\n\n   
URL:https://www.pikk.ee/sundmus/innovatsioon-pollumajanduses/
LOCATION:Harjumaa\, Harjumaa\, Eesti
CATEGORIES:Maaettevõtlus
END:VEVENT
BEGIN:VEVENT
DTSTART;TZID=Europe/Tallinn:20250403T100000
DTEND;TZID=Europe/Tallinn:20250403T160000
DTSTAMP:20260424T080451
CREATED:20250313T090032Z
LAST-MODIFIED:20250403T121647Z
UID:10011467-1743674400-1743696000@www.pikk.ee
SUMMARY:EPKK seminar: BreedExpo2 ekspordiseminar lihaveisekasvatajatele  
DESCRIPTION:BreedExpo2 ekspordiseminar lihaveisekasvatajatele   \n  \nAeg: 3.04.2025 kell 10.00 – 16.00  \nKoht: Massu kiviait / Massu meierei Meelise\, Massu küla\, Põhja-Pärnumaa vald\, Pärnu maakond  \n  \nPäevakavas*:   \n9.30 – 10.00 Registreerimine ja tervituskohv   \n10.00 – 11.15 Lihaveiste ekspordi trendid. Hoite Schaap\, Schaap tegevjuht (Holland)  \n11.15 – 12.30 Geneetika turundamine ja eksport. William McLaren \, HW Netherton Angus Scotland (UK)  \n12.30 – 13.30 Lõuna  \n13.30 – 14.00 Aretusloomade valik – genoomtestide kasutamine ja tulemuste tõlgendamine. Maria Liisa Luur\, ETKÜ lihaveiste aretusspetsialist ja Jane Mättik ETKÜ projektijuht  \n14.00 – 15.00 Koostöö Eesti Tõuloomakasvatajate Ühistuga loomade ekspordil . Tanel-Taavi Bulitko\, ETKÜ tegevjuht & Vallo Seera\, loomaarst  \n15.00 – 15.45 Kogemusi loomade müügist jagavad Eesti farmid.  \n  \nInfopäeval on järeltõlge.   \n  \n*Korraldajal on õigus teha päevakavas muudatusi.   \n  \nSündmuse läbiviimist toetab INTERREG Kesk-Läänemere Programmist rahastatav projekt “BreedExpo2”. 
URL:https://www.pikk.ee/sundmus/ekspordiseminar/
LOCATION:Pärnumaa\, Pärnumaa\, Eesti
CATEGORIES:Loomakasvatus,Maaettevõtlus,Muu
ATTACH;FMTTYPE=image/jpeg:https://www.pikk.ee/wp-content/uploads/2025/03/export-2123475_1280.avif
ORGANIZER;CN="Eesti P%C3%B5llumajandus-Kaubanduskoda":MAILTO:info@epkk.ee
END:VEVENT
BEGIN:VEVENT
DTSTART;TZID=Europe/Tallinn:20250403T130000
DTEND;TZID=Europe/Tallinn:20250403T153000
DTSTAMP:20260424T080451
CREATED:20250319T191349Z
LAST-MODIFIED:20250319T191349Z
UID:10011477-1743685200-1743694200@www.pikk.ee
SUMMARY:Konkurentsivõime suurendamise investeeringutoetus
DESCRIPTION:Teemavebinar – Konkurentsivõime suurendamise investeeringutoetusest ja MESi rahastuslahendustest\nToimumisaeg: 03.04.2025\nToimumiskoht: Veebis – Zoom \nSihtgrupp: maapiirkonna ettevõtjad\, biomajanduse ettevõtjad\, maaettevõtluse nõustajad\, teemast huvitatud \n\n\n\n\n\n\n\n\n\n\n\n    \n3. aprillil 2025 korraldab Maaelu Teadmuskeskuse maaeluvõrgustik koostöös  Regionaal- ja Põllumajandusministeeriumi ja Maaelu Edendamise Sihtasutusega ettevõtluse teemalise veebipõhise infoseminari\n \n  \n\n\n\n  \nMilleks saab kasutada konkurentsivõime suurendamise investeeringutoetust!\nMillal on põhjust küsida investeeringu elluviimiseks laenu Maaelu Edendamise Sihtasutuselt\n\nNELJAPÄEV 3. aprill 2025 \nSalvestuse järele vaatamine – Youtube LINK (lisatakse hiljem)\n \n  \n\n\n\n\n\n\n\n12.50\nSisenemine Zoom keskkonda\n\n\n13.00 – 15.30\nEttevõtete konkurentsivõime suurendamise investeeringutoetus.\nstrateegiakava sekkumisest 8.1 \nToetuse sihtgrupp on kuni 49 töötajaga maapiirkonna mikro- ja väikeettevõtjad* \nAllar Korjas\, Regionaal- ja Põllumajandusministeeriumi peaspetsialist\n \nTutvustatakse meetme tingimusi: \n\nkes\, kus ja milleks saab toetust kasutada;\nmillised kohustused kaasnevad toetuse saamisega;\nmis on olnud komistuskohad toetuse taotlemisel ja kuidas neid vältida;\n\n  \nProjekti rahastamise lahendused Maaelu Edendamise Sihtasutuse (MES) laenu ja käenduse abil. \nKristiina Raba\, Maaelu Edendamise Sihtasutuse (MES) analüütik \nTutvustatakse ettevõtjatele MES tegevusi ja rahastuslahendusi: \n\nKuidas MES-i laenud ja käendused aitavad maapiirkondade ettevõtetel investeeringud teoks teha;\nkuidas kasutada MES-i käendust\, kui pangalaenu saamisel tuleb tagatistest puudu;\nMilliseid investeeringuid saab teha MES-i MAK rahastamisvahendi laenude abil;\nkuidas saavad MTÜ-d MES-i laenu kasutada sildfinantseerimiseks;\nkuidas saab MES-i vahendeid kasutada PRIA konkurentsivõime suurendamise investeeringutoetuse omafinantseeringuks.\n\n  \nKüsib: Ave Bremse\nETTEKANNDED  (lisatakse hiljem)\n\n\n\nLISAINFO: \nToetusmeede: \n„Ettevõtete konkurentsivõime suurendamise investeeringutoetus. strateegiakava sekkumise 8.1 raames antav toetus.\nInvesteeringutoetuse suurus on kuni 200 000 € \nMeetme sihtgrupp*: \n\nKuni 49 töötajaga mikro- ja väikeettevõtjad ettevõtted;\ntaotleja tegevuskoht peab asuma maalises või väikelinnalises asustuspiirkonnas\, välja arvatud Tallinnaga piirnevad Harku\, Saue\, Saku\, Kiili\, Rae\, Jõelähtme ja Viimsi vallad;\nkes on enne taotluse esitamist tegutsenud vähemalt kaks majandusaastat;\nteeninud taotluse esitamise aastale vahetult eelnenud mõlemal kahel majandusaastal müügitulu vähemalt 40 000 eurot;\non valmis looma juurde täiendavaid töökohti;\nsoovivad kasutada toetust kas uudse tehnoloogia soetamiseks\, IT lahenduse juurutamiseks või ettevõtte ressursitõhususe parandamiseks.\nToetust ei saa kasutada põllumajanduse\, metsanduse ja kalanduse valdkonnas.\n\nVeel infot: \n\nPerioodi 2023–2027 maapiirkonna ettevõtjate konkurentsivõime suurendamise investeeringutoetus RT I\, 21.02.2025\, 8\n\nToetuse tingimused ja taotlemine PRIA veebilehel\nMaaelu Edendamise Sihtasutus (MES) on loodud Eesti maapiirkondade ettevõtluse elavdamiseks\, laiendades ettevõtjate finantseerimisvõimalusi\, lisaks pakub MES koostöös pankadega eraisikutele eluaseme kaaslaene maapiirkonnas. Laenu võimalusi MES-i veebilehelt\n\n\n\n\n\n\n\n\n\n\n\nÜrituse läbiviimine on toetatud EL vahenditest maaeluvõrgustiku tegevusele. \nÜritus on registreeritud osalejatele tasuta.
URL:https://www.pikk.ee/sundmus/konkurentsivoime-suurendamise-investeeringutoetus/
LOCATION:Veebis\, Eesti
CATEGORIES:Maaettevõtlus
END:VEVENT
BEGIN:VEVENT
DTSTART;VALUE=DATE:20250404
DTEND;VALUE=DATE:20250405
DTSTAMP:20260424T080451
CREATED:20250312T163722Z
LAST-MODIFIED:20250312T164626Z
UID:10011463-1743724800-1743811199@www.pikk.ee
SUMMARY:Taimekaitsevahendite turustaja aluskoolitus (8 t)
DESCRIPTION:Taimekaitsevahendite turustaja aluskoolitus (8 t) \nKoolitus toimub 4.APRILLIL Säreveres\nKoolitaja Kaja Marrandi \nKoolitusele registreerimine toimub SIIT \nTäiendav info:\nRuth Türk\nruth.turk@jkhk.ee\n+372 5329 2188
URL:https://www.pikk.ee/sundmus/taimekaitsevahendite-turustaja-aluskoolitus-8-t-7/
LOCATION:Järvamaa\, Järvamaa\, Eesti
CATEGORIES:Taimekaitse
GEO:58.8866713;25.5000624
END:VEVENT
BEGIN:VEVENT
DTSTART;TZID=Europe/Tallinn:20250404T100000
DTEND;TZID=Europe/Tallinn:20250404T120000
DTSTAMP:20260424T080451
CREATED:20250404T054810Z
LAST-MODIFIED:20250404T064658Z
UID:10011492-1743760800-1743768000@www.pikk.ee
SUMMARY:Suu- ja sõrataudi infopäev
DESCRIPTION:Eesti Põllumajandus-Kaubanduskoda korraldab 4.aprillil kell 10:00-12:00 suu- ja sõrataudi teemalise infopäeva. \nEesmärk on tõsta tootjate teadlikkust ning selgitada ennetusmeetmeid seoses haiguse puhangutega. Infot jagavad Regionaal- ja Põllumajandusministeeriumi\, Põllumajandus- ja Toiduameti ning ettevõtjate esindajad. \n  \nToimumiskoht: Veebikeskkond Zoom. \nLink koosolekule: https://us02web.zoom.us/j/86599140025 \n  \nInfopäeva teemad \n\nülevaade suu- ja sõrataudi levikust\, mõjudest ja tõrjemeetmetest;\npraktilised soovitused bioohutuse tõstmiseks;\njuhised tegutsemiseks haiguskahtlusel ja taudi avastamisel;\ntaudikahjude hüvitamine.\n\nInfopäev on järelkuulatav. \nSuu- ja sõrataud on väga nakkav ning ägedalt kulgev viirushaigus\, mis mõjutab kõiki kodu– ja uluksõralisi loomi – veiseid\, lambaid\, kitsi\, sigu\, aga ka hirvi ja alpakasid. Haigusjuhtumid on avastatud nii Ungaris kui Slovakkias.   \nKontakt: Kristina Unrau\, Büroojuht. Eesti Põllumajandus-Kaubanduskoda. tel +372 600 9349
URL:https://www.pikk.ee/sundmus/suu-ja-sorataudi-infopaev/
LOCATION:Veebis\, Eesti
CATEGORIES:Loomakasvatus
ORGANIZER;CN="Eesti P%C3%B5llumajandus-Kaubanduskoda":MAILTO:info@epkk.ee
END:VEVENT
BEGIN:VEVENT
DTSTART;TZID=Europe/Tallinn:20250404T100000
DTEND;TZID=Europe/Tallinn:20250404T180000
DTSTAMP:20260424T080451
CREATED:20250325T194746Z
LAST-MODIFIED:20250325T194746Z
UID:10011482-1743760800-1743789600@www.pikk.ee
SUMMARY:Tulevik Läänemere kaldal
DESCRIPTION:Arutelupäev                            „Tulevik Läänemere kaldal“\nKõik kohalikud elanikud ja Matsalu piirkonnas toimetavad inimesed on oodatud osalema arutelupäeval\, kus keskendutakse siinse vee- ja elukesekkonna kvaliteedile ning selle tulevikule. \nAeg: 4. aprill 2025\nKoht: Penijõe mõis \nPäevast osavõtt on kõigile tasuta. Eelnevalt on vaja registreeruda\, et lõuna ja kohvipauside toidukoguseid arvestada. Registreerimise tähtaeg 30. märts.  \nRegistreeru siin!\n\n\n\nAjakava:  \n9.40-10.00 Kogunemine\, tervituskohv\n10.00 Tervitus ja lühike päeva sissejuhatus\n10.10 Reeda Iismaa (Kliimaministeerium) – „Vete tervise kaitse korraldamine Eestis“\n10.40 Mehis Rohtla (TÜ mereinstituut) – „Siirdekalade mageveeliste kudealade taastamine“\n11.10 Aleksei Lotman (ELF) – veekaitse vajadustest ja BaltCopi projektist\n11.40 Kuno Kasak\, Jürgen Sarjas (TÜ) – „Kümme aastat hajukoormuse vähendamist Vända tehismärgala näitel – mida oleme õppinud?“\n12.10 Riinu Rannap\, Jürgen Karvak (TÜ) – „Väikeveekogud – liigirikkad ja asendamatud elupaigad meie maastikes”.\n12.40 Lõuna korraldaja kulul\n13.40 Matk Penijõel. Tunnine pärastlõunane jalutuskäik lähedal rahvuspargis giidide Aleksei Lotmani ja Tiiu Annuki juhendamisel. Riietuda vastavalt ilmastikule.\n14.40 Kogunemine tagasi Penijõe mõisa.\n15-18  Avatud arutelu: „Visioonid Matsalu lahe vooluveekogude ja nende ümbruse         tulevikust“.  Aruteluringi juhib Matsalust pärit Mari Palolill. \nKorraldajatel on õigus teha päevakavas muudatusi. \n\n\n\n\n\n\nKontakt: \n\n\n\nKertu Hool\, Eestimaa Looduse Fondi teabejuht\nkertu.hool@elfond.ee\ntel 5524782
URL:https://www.pikk.ee/sundmus/tulevik-laanemere-kaldal/
LOCATION:Läänemaa
CATEGORIES:Keskkond,Veemajandus
END:VEVENT
BEGIN:VEVENT
DTSTART;TZID=Europe/Tallinn:20250404T120000
DTEND;TZID=Europe/Tallinn:20250404T140000
DTSTAMP:20260424T080451
CREATED:20250315T174948Z
LAST-MODIFIED:20250315T174948Z
UID:10011471-1743768000-1743775200@www.pikk.ee
SUMMARY:Noorpullide SHOW 2025
DESCRIPTION:Paneme jõudluskatse kasvandikud ritta\, et valida välja iga tõu parimad ning konkursi üldvõitja. Parimad aitab välja selgitada kohtunik William McLaren Šotimaalt!\nKui oled oma karja just praegu uut pulli otsimas\, siis nüüd on sinu võimalus- kõikidel pullidel on kontrollitud põlvnemine\, sperma kvaliteet\, sõrad ja jalad. Lisaks sellele on loomad geneetiliselt ja lineaarselt hinnatud ning genoomtestitud. Loomulikult on testitud ka veterinaarne pool.\n\nTule vali oma lemmik välja 04. aprillil ning oma panuse saad teha mugavalt veebioksjonil 25. aprillil.\nNädal peale hindamist ilmub kataloog\, kust saate pullide tausta lähemalt uurida. Kõikide pullide ilunumbreid saab jälgida http://www.etky.ee/lihaveis/joudluskatse/ – avades 2024-2025 katsegrupi lingi.\n\nHoia silm peal ETKÜ ja ELKS sotsiaalmeedias ja kodulehel\, et olla värskeima infoga kursis.
URL:https://www.pikk.ee/sundmus/noorpullide-show-2025/
LOCATION:Raplamaa\, Raplamaa
CATEGORIES:Loomakasvatus
ORGANIZER;CN="Eesti Lihaveisekasvatajate Selts":MAILTO:eesti.lihaveis@gmail.com
GEO:58.8492625;24.7346569
END:VEVENT
BEGIN:VEVENT
DTSTART;TZID=Europe/Tallinn:20250404T150000
DTEND;TZID=Europe/Tallinn:20250404T170000
DTSTAMP:20260424T080451
CREATED:20250330T170137Z
LAST-MODIFIED:20250330T170137Z
UID:10011488-1743778800-1743786000@www.pikk.ee
SUMMARY:Säästva taimekasvatuse sümpoosion
DESCRIPTION:4. aprillil algusega kell 15.15 toimub Metsamaja ruumis 1A5 (F. R. Kreutzwaldi 5) säästva taimekasvatuse sümpoosion. \nEttekannete kava: \n15.15 Tee taimekasvatuseni ning taimekasvatuses\, Evelin Loit-Harro \n15.45 Harald Perteni pärand elab\, Illimar Altosaar \n15.50  Üleminekupiima uudsed võimalused\, Siim Teder \n16.05 Peensooles imenduva glükoosi mõju veise laktatsioonile\, Siim Teder \n16.20 Metsaga seotud teema \n16.30 Sisevete pidevseire\, Alo Laas \n16.40 Konfliktid maakasutuses\, Evelin Jürgenson \n  \nAsukoht: Kreutzwaldi 5\, Metsamaja A korpuses \nAeg: 4. aprillil\, algusega kell 15.15 \nLisainfo: evelin.loit-harro@emu.ee \n  \nRegistreeri enda osalemine siin: https://forms.gle/Etnm4tnEtkkmGpgm9
URL:https://www.pikk.ee/sundmus/saastva-taimekasvatuse-sumpoosion/
LOCATION:Tartu\, Eesti
CATEGORIES:Taimekasvatus
END:VEVENT
BEGIN:VEVENT
DTSTART;TZID=Europe/Tallinn:20250404T153000
DTEND;TZID=Europe/Tallinn:20250404T170000
DTSTAMP:20260424T080451
CREATED:20250330T165621Z
LAST-MODIFIED:20250330T165707Z
UID:10011487-1743780600-1743786000@www.pikk.ee
SUMMARY:Energiasööt piimaveistele
DESCRIPTION:Säästva taimekasvatuse sümpoosioni kavas on ka Anu Ait OÜ projekt\, Uudne energiasööt piimaveistele (616224790143). \n  \nAsukoht: Kreutzwaldi 5\, Metsamaja A korpuses \nAeg: 4. aprillil\, algusega kell 15.15 \n  \n15.50  Üleminekupiima uudsed võimalused\, Tõnis Jairus \n16.05 Peensooles imenduva glükoosi mõju veise laktatsioonile\, Tõnis Jairus \n  \n  \nRegistreeri enda osalemine siin: https://forms.gle/Etnm4tnEtkkmGpgm9
URL:https://www.pikk.ee/sundmus/energiasoot-piimaveistele/
LOCATION:Tartu\, Eesti
CATEGORIES:Loomakasvatus
ORGANIZER;CN="Anu Ait O%C3%9C":MAILTO:kontor@anuait.ee
END:VEVENT
BEGIN:VEVENT
DTSTART;TZID=Europe/Tallinn:20250406T100000
DTEND;TZID=Europe/Tallinn:20250406T133000
DTSTAMP:20260424T080451
CREATED:20250226T051843Z
LAST-MODIFIED:20250307T113529Z
UID:10011445-1743933600-1743946200@www.pikk.ee
SUMMARY:Viljapuude hoolduslõikus
DESCRIPTION:Koolitus on mõeldud algajale aiandushuvilisele\, kes soovib õppida viljapuude lõikamise põhialuseid ning täiendada oma oskusi praktilise kogemuse kaudu.\nViljapuude hoolduslõikuse eesmärgiks on saagikuse suurendamine ja terve/haigustevaba puu kujundamine. \nKoolituse teemad\n\nKevadise hoolduslõikuse eesmärgid ja ajastus.\nVõra kujunduslõikuse eesmärgid ja põhimõtted.\nNoorte ja vanade viljapuude lõikamise analüüs.\nLõikamise vajaduse hindamine: põhjused\, ajastus ja vigade vältimine.\nTööriistade valik\nViljapuude taimekaitse (kahjurid\, haigused jne)\n\nPraktiline osa – lõikamine kohapeal: \n\nViljapuude erinevad lõikevõtted: kärpimislõige\, harvenduslõige\, noorenduslõige\nOsalejad teostavad erinevaid lõikevõtteid juhendaja abiga.\n\nOlemasolul kaasa võtta oksasaag ja oksakäärid. \nÕppe kogumaht 5 akadeemilist tundi (teoreetiline ja praktiline töö aias).\nKui soovite\, et koolitus toimuks Teie aias\, siis palun andke sellest registreerumisel teada. Aias võiks olla vähemalt kolm vanemat ja kaks nooremat kirsi- või/ja ploomipuud. Võiks olemas olla ka mõned marjapõõsad.\nKursusele tulek isikliku transpordiga.
URL:https://www.pikk.ee/sundmus/viljapuude-hooldusloikus/
LOCATION:Tartu\, Eesti
CATEGORIES:Aiandus
END:VEVENT
END:VCALENDAR