BEGIN:VCALENDAR
VERSION:2.0
PRODID:-//PIKK.ee - ECPv6.13.2.1//NONSGML v1.0//EN
CALSCALE:GREGORIAN
METHOD:PUBLISH
X-WR-CALNAME:PIKK.ee
X-ORIGINAL-URL:https://www.pikk.ee
X-WR-CALDESC:Events for PIKK.ee
REFRESH-INTERVAL;VALUE=DURATION:PT1H
X-Robots-Tag:noindex
X-PUBLISHED-TTL:PT1H
BEGIN:VTIMEZONE
TZID:Europe/Tallinn
BEGIN:DAYLIGHT
TZOFFSETFROM:+0200
TZOFFSETTO:+0300
TZNAME:EEST
DTSTART:20250330T010000
END:DAYLIGHT
BEGIN:STANDARD
TZOFFSETFROM:+0300
TZOFFSETTO:+0200
TZNAME:EET
DTSTART:20251026T010000
END:STANDARD
END:VTIMEZONE
BEGIN:VEVENT
DTSTART;TZID=Europe/Tallinn:20250527T100000
DTEND;TZID=Europe/Tallinn:20250527T140000
DTSTAMP:20260425T040600
CREATED:20250505T174443Z
LAST-MODIFIED:20250505T174443Z
UID:10011548-1748340000-1748354400@www.pikk.ee
SUMMARY:Innovatsioon ja praktilised lahendused söötmisel
DESCRIPTION:Oleme oma  projektidega jõudnud lõpuspurdini ning on aeg jagada saavutatud tulemusi ka teiega. Olete oodatud infopäevale\, kus tutvustame projekti käigus saadud teadmisi ja arutleme nende praktilise rakendamise üle. \nKuupäev: 27. mai 2025\nAlgus: kell 10:00\nAsukoht: Tralka\, Visusti küla\, Järva vald\, Järvamaa 73012 \nPäevakava: \n\n10:00 – 11:30 – Projekti „Lehmade üleminekupiimast eraldatud IgG söödalisandi kasutamine võõrdepõrsaste kasvu\, tervise ja arengu parandamiseks“ tulemuste esitlus\n11:30 – 12:00 –  Paus\n11:30 – 13:00 –  Projekti „Uudne energiasööt piimaveistele“ tulemuste esitlus\n13:00 – 14:00 –  Avatud arutelu eriala spetsialistidega\n\n👉 Registreeru SIIN \nPalume oma osalemisest teada anda hiljemalt 25. maiks \nÜritus on tasuta! \nNB! Kohtade arv on piiratud! \n  \nKontakt: Karin Juuse. Müügisekretär/juhiabi. Anu Ait OÜ. Vinkli 2\, Tartu 50411\n+372 518 4681\, kontor@anuait.ee \nwww.anuait.ee
URL:https://www.pikk.ee/sundmus/innovatsioon-ja-praktilised-lahendused-sootmisel-2/
LOCATION:Järvamaa\, Järvamaa\, Eesti
CATEGORIES:Loomakasvatus
ORGANIZER;CN="Anu Ait O%C3%9C":MAILTO:kontor@anuait.ee
GEO:58.8866713;25.5000624
END:VEVENT
BEGIN:VEVENT
DTSTART;TZID=Europe/Tallinn:20250528T093000
DTEND;TZID=Europe/Tallinn:20250528T143000
DTSTAMP:20260425T040600
CREATED:20250319T193111Z
LAST-MODIFIED:20250319T193111Z
UID:10011479-1748424600-1748442600@www.pikk.ee
SUMMARY:BASF põllupäevad 2025
DESCRIPTION:BASF põllupäevad 2025 \nKui Sinu kalender ootab juba märkmeid BASF-i selleaastaste põllupäevade kohta\, siis täna avaldamegi nende ajad ja toimumispaigad. Sel kevadel ootab meid ees kaks tavapärast põllupäeva ning lisaks ühine põllusündmus koostöös partneritega. \nBASF Agro põllupäevad 2025 toimuvad: \n\n14.05 Põlvamaal (Tammekalda OÜ)\n28.05 Järvamaal (Järva PM OÜ)\n\n  \nMeie selle aasta esimene põllupäev toimub Tammekalda OÜ põldudel\, mille peremeheks on BASF-i oma Lõuna-Eesti agronoom Kristjan Kasearu. \nTeisel põllupäeval liigume Järva PM-i ja vahetame mõtteid Kesk-Eesti põldude taustal. \nRegistreerimine on avatud!
URL:https://www.pikk.ee/sundmus/basf-pollupaevad-2025/
LOCATION:Järvamaa\, Järvamaa\, Eesti
CATEGORIES:Taimekaitse,Taimekasvatus
ATTACH;FMTTYPE=image/jpeg:https://www.pikk.ee/wp-content/uploads/2025/03/BASF-pollupaevad-25.avif
GEO:58.8866713;25.5000624
END:VEVENT
BEGIN:VEVENT
DTSTART;TZID=Europe/Tallinn:20250528T100000
DTEND;TZID=Europe/Tallinn:20250528T133000
DTSTAMP:20260425T040600
CREATED:20250513T063400Z
LAST-MODIFIED:20250609T074249Z
UID:10011555-1748426400-1748439000@www.pikk.ee
SUMMARY:Infopäev veebis: Ringmajanduse tootmis- ja tarbimismudelid
DESCRIPTION:Järelvaatamine SIIN. \n  \nRingmajanduse tootmis- ja tarbimismudelite rakendamine ning ettevõtetes tööstussümbioosi lahenduste kasutamine. Eestis on rohkem ringmajanduse põhimõtteid arvestavaid ettevõtteid ning on suurenenud vabatahtlikke keskkonnakorralduse lahendusi rakendatavate ettevõtete arv. \nSelgitatakse tööstussümbioosi lahenduste ja ringmajanduse ärimudelite rakendamist (näiteks tervikliku materjalivahetuse süsteemi loomine kahe ettevõtte vahel\, tootmistarkvara arendamine\, tootmisliinid teisese tooraine kasutamiseks\, jagamismajanduse lahendused jms). Lisaks tutvustatakse vastavaid toetusmeetmeid. \n \n  \nToimumisaeg ja-koht:   28. mai 2025 10-13.30\, veebikeskkond Zoom \nPäevakavas: \n\nRingmajanduse ärimudelite toetamine. Gerly Ots\, Keskkonnainvesteeringute Keskus\, projektikoordinaator\n\n\nTööstussümbioosi arendamise võimalused Eestis. Margit Kull\, Talltech\, Jätkusuutliku väärtusahela juhtimise valdkond\n\n\nLoomsete kõrvalsaaduste potentsiaal. Tarmo Terav\, AS Vireen juhataja\n\n\nEesti ringmajanduse visoon. /ettekandja kinnitamisel/\n\n\nLambavilla väärindamise võimalused. /ettekandja kinnitamisel/\n\nModeraator: Ragnar Viikoja\, Eesti Põllumajandus-Kaubanduskoja metsanduse ja maaettevõtluse valdkonna juht \n*Korraldaja jätab endale õiguse teha päevakavas muudatusi  \n  \nSündmus toimub Euroopa Liidu ühise strateegiakava 2023-2027 kohase Põllumajanduse teadmussiirde ja innovatsiooni süsteemi (AKIS) arendamise toetuse raames\, rahastab Euroopa Maaelu Põllumajandusfond. \n  \nLisainfo: \nMarge Mänd\, EPKK projektijuht\ne-post: marge@epkk.ee\ntel: 53009034
URL:https://www.pikk.ee/sundmus/infopaev-ringmajanduse-tootmis-ja-tarbimismudelid/
LOCATION:Veebis\, Eesti
CATEGORIES:Keskkond,Maaettevõtlus
ORGANIZER;CN="Eesti P%C3%B5llumajandus-Kaubanduskoda":MAILTO:info@epkk.ee
END:VEVENT
BEGIN:VEVENT
DTSTART;TZID=Europe/Tallinn:20250529T100000
DTEND;TZID=Europe/Tallinn:20250529T153000
DTSTAMP:20260425T040600
CREATED:20250420T054938Z
LAST-MODIFIED:20250420T054938Z
UID:10011523-1748512800-1748532600@www.pikk.ee
SUMMARY:Sigadega töötavate isikute nõuetekohane väljaõpe
DESCRIPTION:Koolitus annab farmitöötajatele erialaseid teadmisi sigade anatoomia\, füsioloogia\, käitumuslike harjumuste ja loomakaitsenõuete kohta ning praktilised oskused põrsaste kastreerimiseks ja sigade süstimiseks. \nKoolituse sihtrühm: \n\nOsalema on oodatud baasteadmisteta või aegunud oskustega farmitöötajad.\nKoolituse sihtrühma ei kuulu EMÜ töötajad ja üliõpilased.\n\nKoolitus toimub auditoorselt nelja õppepäevana: 29. mai\, 6. juuni\, 13. juuni ja 19. juuni 2025\nÕppetöö toimub kõigil koolituspäevadel kell 10.00-15.30. \nKoolitusel osalemiseks tuleb:  \n\nkuuluda sihtrühma;\nõigeaegselt registreeruda koolitusele;\nhiljemalt 13. maiks 2025 esitada motivatsioonikiri;\nvaruda aega koolituspäevadel osalemiseks ja jaksu valitud koolitus ka lõpetada.
URL:https://www.pikk.ee/sundmus/sigadega-tootavate-isikute-nouetekohane-valjaope/
CATEGORIES:Loomakasvatus
END:VEVENT
BEGIN:VEVENT
DTSTART;TZID=Europe/Tallinn:20250529T100000
DTEND;TZID=Europe/Tallinn:20250529T153000
DTSTAMP:20260425T040600
CREATED:20250519T053400Z
LAST-MODIFIED:20250519T053400Z
UID:10011561-1748512800-1748532600@www.pikk.ee
SUMMARY:Tolmeldamiskonverents
DESCRIPTION:Tolmeldamiseteemaline konverents „Taimed ja tolmeldajad – kes neid suudaks lahuta?“\nTartu Ülikooli ökoloogia ja maateaduste instituudi tolmeldamisökoloogia töörühm korraldab koostöös maastike elurikkuse töörühma\, Tallinna Botaanikaaia ning Tartu Ülikooli loodusmuuseumi ja botaanikaaiaga konverentsi\, millel valdkonna juhtivad teadlased ja praktikud Tartu Ülikoolist\, Eesti Maaülikoolist ning Maaelu Teadmuskeskusest räägivad nii rahvusvahelistest kui ka Eestile keskenduvatest tolmeldamisteemalistest teadusuuringutest. \n\n\n\n\n\n\n\n\n\n\n\nFoto autor: Marianne Kaldra\n\n\n\n\n\n  \nKonverentsil tuleb juttu tolmeldajatest ja putuktolmlevatest taimedest ning nende suhtevõrgustikest. Räägitakse\, milliseid teadusuuringud on praegu Eestis käimas selleks\, et mõista nende organismirühmade tundlikkust erinevate keskkonnamuutuste suhtes\, ning vaadatakse\, kuidas harrastusteadlased saaksid uute teadmiste loomisel oma panuse anda. \nKonverentsil avatakse ka Tartu Ülikooli loodusmuuseumi ja botaanikaaia näitus „Tolmeldamise ilu ja võlu“ Tallinna Botaanikaaia uues külastuskeskuses. Näitus tutvustab taimede ja putukate keerukaid ja põnevaid suhteid ning annab avarama vaate putuktolmlemise erinevatele nüanssidele. \nKonverents toimub 29. mail kell 9.30–15.30 Tallinna Botaanikaaia palmimajas. \nSelleks\, et korraldajad teaksid teid oodata\, palun registreeruge hiljemalt 26. maiks selle lingi kaudu. \nAjakava\n9.30 Saabumine\, kohv\n10.00–10.15 Tervitussõnad: Urve Sinijärv\, Tsipe Aavik\, Triin Reitalu \n10.15–12.30 Ettekanded rahvusvahelistest uuringutest \n10.15–10.45 Tsipe Aavik (Tartu Ülikool) „Euroopa põllumajandusmaastike niidukoosluste sidususe erinevad tahud taime ja tolmeldaja pilgu läbi“ (FuncNet)\n10.45–11.15 Triin Reitalu (Tartu Ülikool) „Taimed\, tolmeldajad ja mullaseened Euroopa lubjarikastel rohumaadel – kuidas mõjutab majandamine ja ümbritsev maastik?“ (InterRest)\n11.15–11.45 Marika Mänd (Eesti Maaülikool) „Üleeuroopaline mesilaste tervist mõjutavate tegurite hindamine\, seire ja leevendamine“ (PoshBee)\n11.45–12.15 Reet Karise (Eesti Maaülikool) „Üleeuroopaline looduslike tolmeldajate tervist mõjutavate keemiliste stressitegurite hindamine\, seire ja leevendamine ning looduslike tolmeldajate kaitse Euroopas“ (SafeGuard ja WildPosh)\n12.15–12.30 Tsipe Aavik (Tartu Ülikool) „Üleeuroopaline nurmenuku-uuring: mida pajatavad nurmenukuõied tolmeldajate kohta?“\n12.30–13.30 Lõuna ja nurmenukuvaatlus \n13.30–15.30 Ettekanded Eesti uuringutest \n13.30–13.50 Virve Sõber (Tartu Ülikool) „Eesti kimalaste elupaigaeelistused“\n13.50–14.10 Anu Tiitsaar (Maaelu Teadmuskeskus) „Quo vadis\, Eesti päevaliblikas? Kaks kümnendit päevaliblikate seiret Eestis“\n14.10–14.30 Meelis Uustal (Tallinna Linnavalitsus) „Tallinn – tolmeldajate paradiis?“\n14.30–14.50 Jaan Liira (Tartu Ülikool) „Tolmeldajakatsed Tallinna Botaanikaaias“\n14.50–15.10 Reet Karise (Eesti Maaülikool) „Harrastusteadusprojekt Better-B“\n15.10 Lõppsõnad ja siirdumine palmimajast külastuskeskusesse \n15.30–16.00 Kohvipaus külastuskeskuse talveaias\n16.00 Tartu Ülikooli loodusmuuseumi ja botaanikaaia näituse avamine külastuskeskuses \nKonverentsi jutujuht on Kristo Elias. \nÜrituse toimumist toetavad programmi Biodiversa+ projekt „Pärandniitude võrgustike funktsionaalse sidususe roll taim-tolmeldaja interaktsioonide tagajana“ (FuncNet) ja Eesti Teadusagentuuri grant „Maakasutuse ajalis-ruumiliste muutuste mõju taim-tolmeldaja interaktsioonide säilenõtkusele põllumajanduslikes ökosüsteemides“ (PRG1751). \nKonverents kuulub looduskaitsekuu ürituste sarja.
URL:https://www.pikk.ee/sundmus/tolmeldamiskonverents/
LOCATION:Tallinn\, Liivalaia 33\, Eesti
CATEGORIES:Keskkond,Mesindus
END:VEVENT
BEGIN:VEVENT
DTSTART;TZID=Europe/Tallinn:20250530T100000
DTEND;TZID=Europe/Tallinn:20250530T130000
DTSTAMP:20260425T040600
CREATED:20250506T102010Z
LAST-MODIFIED:20250609T074445Z
UID:10011549-1748599200-1748610000@www.pikk.ee
SUMMARY:EPKK infopäev “Elurikkus – saagikuse suurendamise võimalused”
DESCRIPTION: Järelvaatamine SIIN. \nInfopäev vastab Keskkonnasõbraliku majandamise (KSM)\, piirkondliku veekaitse (VESI) ja piirkondliku mullakaitse (MULD) toetuste kohustusliku koolituse nõuetele.  Kui soovite toetust mitmele ettevõttele\, lisage registreerimisel kõikide ettevõtete registrikood ja nimi. \n  \nInfopäeva eesmärk on rääkida elurikkuse loomise võimalustest ja leida teiste riikide praktikuid\, kes sel teemal Eesti põllumehi saaksid harida. Ning tuua pilti ka esimesed Eesti katsetused. \nKas liigirikkad rohumaaribad aitavad elurikkust tagada? Millised praktikad toimivad ja millised mitte? Kas elurikkuse loomine on kallis hobi või saab põllumees sellest midagi ka tagasi? \n  \nPäevakavas*:  \n\nElurikkust soodustavad meetmed. Veronika Vallner-Kranich\, Regionaal- ja põllumajandusministeerium\, põllumajanduskeskkonnapoliitika osakonna nõunik\n\n\nÜlevaade II samba elurikkust toetavatest meetmetest. Rufus Trepp\, Regionaal- ja põllumajandusministeerium\, põllumajanduskeskkonnapoliitika osakonna peaspetsialist\n\n\nPõllumajandusmaade elurikkus – mida 15 aastat elurikkuse seiret meile ütleb. Anu Tiitsaar\, METK\, Agroökolooogia peaspetsialist\n\n\nElurikkuse suurendamine põldudel ja rohumaadel – Farm Biodiversity. Karmen Roost\, Eesti Põllumajandus-Kaubanduskoja keskkonnavaldkonna projektijuht\n\n\nElurikkus\, bürokraatia ja poliitika. Mattias Jõesaar\, poliitikavaatleja\n\n\nVahekultuurid – tee mitmekesisuseni. Liina Talgre\, Maaülikooli taimekasvatuse ja maaviljeluse kaasprofessor\n\nInfopäeva modereerib: Ragnar Viikoja\, Eesti Põllumajandus-Kaubanduskoja metsanduse ja maaettevõtluse valdkonna juht \n*Korraldaja jätab endale õiguse teha päevakavas muudatusi  \n  \nSündmus toimub Euroopa Liidu ühise strateegiakava 2023-2027 kohase Põllumajanduse teadmussiirde ja innovatsiooni süsteemi (AKIS) arendamise toetuse raames\, rahastab Euroopa Maaelu Põllumajandusfond. \n  \nLisainfo:\nMarge Mänd\, EPKK projektijuht\ne-post: marge@epkk.ee\ntel: 53009034 \n  \n 
URL:https://www.pikk.ee/sundmus/elurikkus-infopaev/
LOCATION:Veebis\, Eesti
CATEGORIES:Aiandus,Keskkond,Maaettevõtlus,Taimekasvatus
ORGANIZER;CN="Eesti P%C3%B5llumajandus-Kaubanduskoda":MAILTO:info@epkk.ee
END:VEVENT
BEGIN:VEVENT
DTSTART;TZID=Europe/Tallinn:20250530T100000
DTEND;TZID=Europe/Tallinn:20250530T170000
DTSTAMP:20260425T040600
CREATED:20250321T051606Z
LAST-MODIFIED:20250321T051606Z
UID:10011480-1748599200-1748624400@www.pikk.ee
SUMMARY:Kahe jalaga maa peal
DESCRIPTION:Eesti Maaülikool kutsub Sind 30. mail toimuvale juhtimiskonverentsile “Kahe jalaga Maa peal”.\nPROGRAMM\nREEDE\, 30. MAI 2025\, EESTI MAAÜLIKOOLI AULA\n9.30-10.00 saabumine ja suupisted \n10.00 konverentsi avamine \n–  Ülle Jaakma\, Eesti Maaülikooli rektor \n–  Tarmo Soomere\, Eesti Maaülikooli nõukogu esimees \n  \n10.15  – Jaan Lusikas\, Reginett \n– Tõnu Mertsina\, Swedbank \n  \n  \n10.55 – PÕLLUMAJANDUS JA TOIT \nOleg Gross\, OG Elektra – juhtimise lugu \nTemaatilises paneelis: Timo Vunder (Kõpsta Seafarm OÜ)\, Evelin Loit-Harro (Eesti Maaülikool)\, Piret Hartman (Eesti Maaülikooli vilistlane)\, Ülo Kivine (Eesti Maaülikooli vilistlane)\, Teele Eskor (Paevälja talu) \n  \n11.50 – 12.50 – LÕUNA \n  \n12.50 – METS JA PUIT \nMart Erik – juhtimise lugu \nTemaatilises paneelis: Jüri Külvik (Lemeks AS)\, Rein Drenkhan (Eesti Maaülikool)\, Kristjan Tõnisson (RMK)\, Haana Zuba-Reinsalu (Luua Metsanduskool)\, Katrin Jõgi (Fibenol) \n  \nSisuline VAHEPALA \n  \n13.55 – ENERGEETIKA \nAndrus Durejko\, Eesti Energia – juhtimise lugu \nTemaatilises paneelis: Allan Tooming (EMÜ)\, Jaanus Uiga (Kliimaministeerium)\, Siim Muiste (Diotech) \n  \n14.50 – 15.20 Päeva kokkuvõte \n  \n15.30 – 17.30 Rektori vastuvõtt ja võrgustumine aulas ja selle ees. \n  \nKorraldajal on õigus teha kavas muudatusi. \n\nKiire reageerija pilet konverentsile kuni 4. aprillini  –  100 eurot.\nAeglasema reageerija pilet alates 5. aprillist kuni kohtade täitumiseni  – 150 eurot.\n\nRegistreering kinnitatakse pärast osalemistasu laekumist. \nSoeta pilet SIIN. \nKonverents toimub ainult kohapeal\, ülekannet ei toimu.
URL:https://www.pikk.ee/sundmus/kahe-jalaga-maa-peal/
LOCATION:Tartu\, Eesti
CATEGORIES:Maaettevõtlus,Turundus,Ühistegevus
ATTACH;FMTTYPE=image/jpeg:https://www.pikk.ee/wp-content/uploads/2025/03/Kahejalagamaapeal.avif
END:VEVENT
BEGIN:VEVENT
DTSTART;TZID=Europe/Tallinn:20250531T130000
DTEND;TZID=Europe/Tallinn:20250531T150000
DTSTAMP:20260425T040600
CREATED:20250518T093554Z
LAST-MODIFIED:20250518T093729Z
UID:10011559-1748696400-1748703600@www.pikk.ee
SUMMARY:Tähista looduskaitsekuud Harjumaal
DESCRIPTION:Mais ja juunis kutsume Sind saama osa pärandniitude majandajate argielust – neljal nädalavahetusel avavad oma koduväravad talumajapidamised\, et tutvustada oma niitude mitmekesisust\, pärandtõuge ning taastamis- ja hooldustöid. \nProgramm algab kõikjal kell 13 ning lõpeb ühise piknikuga. Sind ootavad põnevad retked\, ehedad maitsed ja looduse ilu! \n  \n31. mail võtab Harjumaal Kurkses meid vastu peremees Priidu Tikk\, kes räägib eesti pärandtõugu hobuste kasvatamisest ja nende rollist puisniitude hoolduses. Saame lähemalt tutvuda taastatud rannaniitudega ning näha\, kuidas toimib segakarjatamine. \n7. juunil kohtume Tihuse Hobuturismi talus Muhumaal\, kus peremees Reedik Kivisoo tutvustab erinevaid niite ja talu igapäevaelu. Niidutaimedest aitab selgust saada botaanik Meeli Mesipuu. Maitsta saab kohalikku toitu ning soovi korral sõita hobuvankriga. Hobustele võib võtta kaasa porgandit\, õunu või kuivatatud leiba! \nRegistreeru SIIN Täpne kogunemiskoht selgub küllakäigule registreerudes! \nElurikkast maaelust kutsuvad osa saama PuisniiduLife ja Loodusrikas Eesti projektid.
URL:https://www.pikk.ee/sundmus/tahista-looduskaitsekuud-harjumaal/
LOCATION:Harjumaa\, Harjumaa\, Eesti
CATEGORIES:Keskkond
END:VEVENT
END:VCALENDAR