BEGIN:VCALENDAR
VERSION:2.0
PRODID:-//PIKK.ee - ECPv6.13.2.1//NONSGML v1.0//EN
CALSCALE:GREGORIAN
METHOD:PUBLISH
X-WR-CALNAME:PIKK.ee
X-ORIGINAL-URL:https://www.pikk.ee
X-WR-CALDESC:Events for PIKK.ee
REFRESH-INTERVAL;VALUE=DURATION:PT1H
X-Robots-Tag:noindex
X-PUBLISHED-TTL:PT1H
BEGIN:VTIMEZONE
TZID:Europe/Tallinn
BEGIN:DAYLIGHT
TZOFFSETFROM:+0200
TZOFFSETTO:+0300
TZNAME:EEST
DTSTART:20240331T010000
END:DAYLIGHT
BEGIN:STANDARD
TZOFFSETFROM:+0300
TZOFFSETTO:+0200
TZNAME:EET
DTSTART:20241027T010000
END:STANDARD
END:VTIMEZONE
BEGIN:VEVENT
DTSTART;TZID=Europe/Tallinn:20241120T100000
DTEND;TZID=Europe/Tallinn:20241120T150000
DTSTAMP:20260424T072553
CREATED:20241118T054716Z
LAST-MODIFIED:20241118T054716Z
UID:10011345-1732096800-1732114800@www.pikk.ee
SUMMARY:Maakasutuse teekaardi mõttetalgud
DESCRIPTION:Maakasutuse teekaardi mõttetalgud\nOlete oodatud Rohetiigri maakasutuse teekaardi mõttetalgutele 20. novembril 2024 algusega kl 10.00. \nMõttetalgud toimuvad Tallinnas\, asukoht täpsustub. \nRohetiigri eestvedamisel on koostamisel maakasutuse teekaart\, mis on üks viiest teekaardist tasakaalus majandusmudeli loomisel. Seni on valminud energia\, ehituse ja transpordi teekaardid ning algamas on ka viimase\, tööstuse ja ringmajanduse\, teekaardi koostamine. \nMaakasutuse teekaardi eesmärk on pakkuda välja tegevused aastani 2040\, mis toetavad süsinikuneutraalset maakasutust nii\, et majandus kasvaks ja keskkond säiliks. Selleks oleme oma fookuse seadnud nelja maakasutusega enim seotud valdkonnale  – metsamaa\, põllumaa\, maardlad ja veestik. Lisaks käsitleme ka nimetatud nelja valdkonda läbivat horisontaalset temaatikat – elukeskkond\, märgalad\, planeerimine ja mullastik. \nAlustasime maakasutuse teekaardi koostamist märtsis 2024. Tänaseks oleme välja töötamas tegevusi nimetatud neljas valdkonnas\, mis võiksid meid viia süsinikuneutraalse maakasutuseni. \nKutsume teid meiega kaasa mõtlema\, tagasisidestama ja ettepanekuid tegema välja töötatavate tegevuste osas. Mõttetalgute esialgne päevakava on lisatud kirjale. \nPalume registreeruda 15. novembriks. Siin lehel registreerimist ei toimu. \nOotame aktiivset osavõttu! \n\n\n  \n\n\n\n\n\nAeg:   20.11.2024 10:00 – 15:00\nRegistreerumine lõpeb: 22.11.2024 23:59\n\n\nAsukoht: Täpsustumisel
URL:https://www.pikk.ee/sundmus/maakasutuse-teekaardi-mottetalgud/
LOCATION:Tallinn\, Liivalaia 33\, Eesti
CATEGORIES:Keskkond
END:VEVENT
END:VCALENDAR