BEGIN:VCALENDAR
VERSION:2.0
PRODID:-//PIKK.ee - ECPv6.13.2.1//NONSGML v1.0//EN
CALSCALE:GREGORIAN
METHOD:PUBLISH
X-WR-CALNAME:PIKK.ee
X-ORIGINAL-URL:https://www.pikk.ee
X-WR-CALDESC:Events for PIKK.ee
REFRESH-INTERVAL;VALUE=DURATION:PT1H
X-Robots-Tag:noindex
X-PUBLISHED-TTL:PT1H
BEGIN:VTIMEZONE
TZID:Europe/Tallinn
BEGIN:DAYLIGHT
TZOFFSETFROM:+0200
TZOFFSETTO:+0300
TZNAME:EEST
DTSTART:20260329T010000
END:DAYLIGHT
BEGIN:STANDARD
TZOFFSETFROM:+0300
TZOFFSETTO:+0200
TZNAME:EET
DTSTART:20261025T010000
END:STANDARD
END:VTIMEZONE
BEGIN:VEVENT
DTSTART;TZID=Europe/Tallinn:20260528T100000
DTEND;TZID=Europe/Tallinn:20260528T130000
DTSTAMP:20260424T054616
CREATED:20260422T121110Z
LAST-MODIFIED:20260422T121110Z
UID:10011960-1779962400-1779973200@www.pikk.ee
SUMMARY:EPKK infopäev veebis: Andmevahetus\, andmeturve ja andmepõhine juhtimine põllumajanduses
DESCRIPTION:Eesti Põllumajandus-Kaubanduskoda kutsub osalema infopäeval:\nAndmevahetus\, andmeturve ja andmepõhine juhtimine põllumajanduses \nToimumisaeg: 28.05.2026 kell 10.00-13.25\nToimumiskoht:  veebikeskkonnas Zoom  \nRegistreerimine on avatud SIIN. \nPäevakavas*:\n10:00 infopäeva avamine\n10:05 – 10:45 Kuidas muudab digiüleminek põllumajandussektorit? /kinnitamisel/\n10:50 – 11:20 Põllumajanduse andmevahetusplatvormid. Miks on andmed põllumajanduses olulised? Kadri Koel\, PRIA teabeteenuste osakonna juhataja\n11:25 – 11:55 Andmepõhine juhtimine tootmises – kuidas otsuseid andmetega toetada? /kinnitamisel/\n12:00 – 12:40 Andmete omandiõigus ja tootja kontroll oma andmete üle. Kristjan Anderson\, eAgronom OÜ Eesti tegevjuht\n12:45 – 13:15 Küberturvalisus ja andmeturve tootja vaates. /kinnitamisel/\n13:20 – 13:25 infopäeva kokkuvõte  \n*Korraldaja jätab endale õiguse teha päevakavas muudatusi  \nLisainfo: Marge Mänd\, EPKK sündmuste juht\, e-post: marge@epkk.ee\, tel: 53009034  \nSündmus toimub Euroopa Liidu ühise strateegiakava 2023-2027 kohase Põllumajanduse teadmussiirde ja innovatsiooni süsteemi (AKIS) arendamise toetuse raames\, rahastab Euroopa Maaelu Põllumajandusfond.  \n 
URL:https://www.pikk.ee/sundmus/andmed/
CATEGORIES:Digitaliseerimine,Haridus,Keskkond,Maaelu,Maaettevõtlus,Muu
ATTACH;FMTTYPE=image/png:https://www.pikk.ee/wp-content/uploads/2026/04/IP-taust.avif
ORGANIZER;CN="Eesti P%C3%B5llumajandus-Kaubanduskoda":MAILTO:info@epkk.ee
END:VEVENT
BEGIN:VEVENT
DTSTART;TZID=Europe/Tallinn:20260528T100000
DTEND;TZID=Europe/Tallinn:20260528T151500
DTSTAMP:20260424T054616
CREATED:20260320T084427Z
LAST-MODIFIED:20260320T115611Z
UID:10011915-1779962400-1779981300@www.pikk.ee
SUMMARY:Veebikoolitus “Toiduhügieen ja -ohutus\, algaste"
DESCRIPTION:Lektor Katrin Laikoja koolitus annab toiduvaldkonna töötajatele baasteadmised toiduhügieeni põhimõtetest ja toidu käitlemisega seotud kohustustest ja vastutusest. \nKoolituse sisu: \n\nToitu käsitlevad õigusaktid;\nToiduhügieeni põhimõtted;\nToidukäitleja kohustused (toidu ohutus\, enesekontroll\, jälgitavus jne) ja vastutus;\nEnesekontrolli põhimõtted\, eeltingimusprogrammid ja HACCP;\nMikroorganismid ja nende kasvu ja paljunemist mõjutavad tegurid;\nToiduainete kaudu levivad haigused\, toidumürgistused ja -infektsioonid;\nToidu füüsikaline\, keemiline ja mikrobioloogiline saastumine ja selle vältimine;\nPuhastamine\, desinfitseerimine;\nTootmisruumide korrashoid;\nKahjuritõrje;\nIsiklik hügieen.\n\nKoolituse sihtrühm: põllumajandus- ja toidusektori ettevõtjad (nii juriidilised kui füüsilised teemast huvitatud isikud) ja valdkonna nõustajad. \nKoolitus eeldab osalemist reaalajas ega ole järelvaadatav. \nKoolitusel osalemine on juriidilisele isikule vähese tähtsusega abi (VTA). \nKoolitusele registreerumine \nKoolitus on rahastatud “Põllumajanduslike teadmiste ja innovatsiooni süsteemi” ehk AKIS programmi raames\, toetab Euroopa Liit. \n  \nKoolituse korraldaja: \nEesti Maaülikool\nTel: 731 3275\nF. R. Kreutzwaldi 56/1-A306\nkarin.kiss@emu.ee\nwww.emu.ee/taiendusope\nwww.emu.ee/akis-tegevused-20252028
URL:https://www.pikk.ee/sundmus/veebikoolitus-toiduhugieen-ja-ohutus-algaste-2/
LOCATION:Veebis\, Eesti
CATEGORIES:Loomakasvatus,Maaettevõtlus,Mahemajandus,Muu,Taimekasvatus,Toiduainete tootmine
ORGANIZER;CN="Eesti Maa%C3%BClikooli avatud %C3%BClikool":MAILTO:avayl@emu.ee
END:VEVENT
BEGIN:VEVENT
DTSTART;TZID=Europe/Tallinn:20260604T100000
DTEND;TZID=Europe/Tallinn:20260604T170000
DTSTAMP:20260424T054616
CREATED:20260310T052532Z
LAST-MODIFIED:20260310T073137Z
UID:10011903-1780567200-1780592400@www.pikk.ee
SUMMARY:Baltic Agro põlluseminar 2026
DESCRIPTION:🗓️ 4. juuni 2026 \n📍 Mällikvere Põllumajandusühistu (Töökoja tee 9\, Pauastvere\, 48017 Jõgevamaa) \nPäeva jooksul toome kokku taimekasvatusspetsialistid üle Eesti\, kellega koos: \n\ntutvume uute sortidega\,\nuurime kasutatud kasvatustehnoloogiaid\,\nuudistame tooteid ja lahendusi.\n\nRegistreeru seminarile \nMäletad eelmise aasta Baltic Agro suvise põllupäeva põnevaid sordikatseid Kivi-Vigalas?\nSeal näitasid vana ja hea Skageni kõrval toidunisu kvaliteeti ka kaks uut talinisu sorti. \nSel hooajal jätkame paljude juba tuttavate ja ka uute sortidega katseid Kesk-Eesti tingimustes. Põldudel on võrdluses hilised ja varased talinisud\, sordisegud\, lisaks ka taliodra ja talirapsi sordid. Kõik selleks\, et näha\, milliseid neist meie tingimustes kõige suurema tulu toovad. \nTule vaata ja arutle koos meiega\, millistel sortidel ja tehnoloogiatel võib olla Eesti tingimustes tulevikku.
URL:https://www.pikk.ee/sundmus/baltic-agro-polluseminar-2026/
LOCATION:Jõgevamaa\, Jõgevamaa\, Eesti
CATEGORIES:Taimekaitse,Taimekasvatus
END:VEVENT
BEGIN:VEVENT
DTSTART;TZID=Europe/Tallinn:20260605T080000
DTEND;TZID=Europe/Tallinn:20260605T170000
DTSTAMP:20260424T054616
CREATED:20260320T084836Z
LAST-MODIFIED:20260320T115822Z
UID:10011916-1780646400-1780678800@www.pikk.ee
SUMMARY:Veebikoolitus “Enesekontrollisüsteemi loomine ja auditeerimine”
DESCRIPTION:Lektor Katrin Laikoja poolt läbiviidav koolitus annab juhiseid\, kuidas välja töötada ja juurutada ettevõttes enesekontrollisüsteemi ning seda auditeerida ja ajakohastada. \nKoolituse sisu: \n\nEnesekontrollisüsteem kui toidukäitleja kohustus;\nJuhendmaterjalid ja infoallikad;\nToiduohutuskultuuri kujundamine\, säilitamine ja hindamine ettevõttes;\nHACCP 7 põhimõtet ja 12 etappi;\nTöörühma loomine\, tootekirjelduste ja toorainelehtede koostamine;\nOhtude analüüs\, ennetavate abinõude määramine;\nRiskide analüüsimine;\nKKPde\, kriitiliste piiride ja korrigeerivate tegevuste määramine;\nSeire kehtestamine;\nEnesekontrolliplaani ja HACCP süsteemi dokumenteerimine;\nSüsteemi tõendustegevused;\nAuditi põhimõtted;\nEeltingimusprogrammide/heade hügieenitavade auditeerimine;\nHACCP põhimõtete auditeerimine.\n\nKoolituse sihtrühm: põllumajandus- ja toidusektori ettevõtjad (nii juriidilised kui füüsilised teemast huvitatud isikud) ja valdkonna nõustajad. \nKoolitus eeldab osalemist reaalajas ega ole järelvaadatav. \nKoolitusel osalemine on juriidilisele isikule vähese tähtsusega abi (VTA). \nKoolitusele registreerumine \nKoolitus on rahastatud “Põllumajanduslike teadmiste ja innovatsiooni süsteemi” ehk AKIS programmi raames\, toetab Euroopa Liit. \n  \nKoolituse korraldaja: \nEesti Maaülikool\nTel: 731 3275\nF. R. Kreutzwaldi 56/1-A306\nkarin.kiss@emu.ee\nwww.emu.ee/taiendusope\nwww.emu.ee/akis-tegevused-20252028
URL:https://www.pikk.ee/sundmus/veebikoolitus-enesekontrollisusteemi-loomine-ja-auditeerimine-2/
LOCATION:Veebis\, Eesti
CATEGORIES:Toiduainete tootmine
ORGANIZER;CN="Eesti Maa%C3%BClikooli avatud %C3%BClikool":MAILTO:avayl@emu.ee
END:VEVENT
BEGIN:VEVENT
DTSTART;VALUE=DATE:20260608
DTEND;VALUE=DATE:20260609
DTSTAMP:20260424T054616
CREATED:20260401T080040Z
LAST-MODIFIED:20260421T141611Z
UID:10011945-1780876800-1780963199@www.pikk.ee
SUMMARY:Taimekaitsevahendite professionaalse kasutaja täienduskoolitus (12 t)
DESCRIPTION:Taimekaitsevahendite professionaalse kasutaja täienduskoolitus (12 t)\nKoolitus toimub 8. juuni 2026 Säreveres\nKoolitaja: Kaja Marrandi\nKoolituse hind 90 eur.\nKoolitusele registreerimine toimub SIIT\nPS! Koolitus on mõeldud kehtiva taimekaitsetunnistuse pikendamiseks! \nPõllumajandusharidusega agronoomidel on võimalik koolitus läbida ka Moodle.ee keskkonnas. \nKaasa palun võtta isikut tõendav dokument. \nTäiendav info:\nkoolitusjuht\nRuth Türk\nruth.turk@kolledz.ee\n+372 5329 2188
URL:https://www.pikk.ee/sundmus/taimekaitsevahendite-professionaalse-kasutaja-taienduskoolitus-12-t-43/
LOCATION:Järvamaa\, Järvamaa\, Eesti
CATEGORIES:Taimekaitse
GEO:58.8866713;25.5000624
END:VEVENT
BEGIN:VEVENT
DTSTART;TZID=Europe/Tallinn:20260608T100000
DTEND;TZID=Europe/Tallinn:20260608T131500
DTSTAMP:20260424T054616
CREATED:20260406T111908Z
LAST-MODIFIED:20260406T113711Z
UID:10011947-1780912800-1780924500@www.pikk.ee
SUMMARY:Veebikoolitus “Patogeenide algallikate väljaselgitamine toidukäitlemise ettevõtetes”
DESCRIPTION:Mihkel Mäesaar´e poolt läbiviidav koolitus annab osalejatele selge arusaama algpõhjuste analüüsi põhimõtetest ning sellest\, kuidas neid praktiliselt kasutada toidupatogeenide algallikate tuvastamisel\, sh kuidas rakendusgenoomika saab selles abiks olla. \nKoolituse sisu: \n\nAlgpõhjuste analüüsi põhimõtete lühiülevaade;\nRakendusgenoomika roll toidupatogeenide algallikate tuvastamisel;\nLihtsamad ja enimkasutatavad genoomika meetodid algpõhjuste analüüsis;\nOtsustusmaatriksi kasutamine ja juhtumipõhine näide algpõhjuste analüüsi samm-sammult rakendamisest;\nParandusmeetmete kavandamine ja nende tõhususe kontroll.\n\nKoolituse sihtrühm: põllumajandus- ja toidusektori ettevõtjad (nii juriidilised kui füüsilised teemast huvitatud isikud) ja valdkonna nõustajad. \nKoolitus eeldab osalemist reaalajas ega ole järelvaadatav. \nKoolitusel osalemine on juriidilisele isikule vähese tähtsusega abi (VTA). \nKoolitusele registreerumine \nKoolitus on rahastatud “Põllumajanduslike teadmiste ja innovatsiooni süsteemi” ehk AKIS programmi raames\, toetab Euroopa Liit. \n  \nKoolituse korraldaja: \nEesti Maaülikool\nTel: 731 3275\nF. R. Kreutzwaldi 56/1-A306\nkarin.kiss@emu.ee\nwww.emu.ee/taiendusope\nwww.emu.ee/akis-tegevused-20252028
URL:https://www.pikk.ee/sundmus/veebikoolitus-patogeenide-algallikate-valjaselgitamine-toidukaitlemise-ettevotetes/
LOCATION:Veebis\, Eesti
CATEGORIES:Toiduainete tootmine
ORGANIZER;CN="Eesti Maa%C3%BClikooli avatud %C3%BClikool":MAILTO:avayl@emu.ee
END:VEVENT
BEGIN:VEVENT
DTSTART;TZID=Europe/Tallinn:20260610T080000
DTEND;TZID=Europe/Tallinn:20260612T170000
DTSTAMP:20260424T054616
CREATED:20260421T142000Z
LAST-MODIFIED:20260421T142647Z
UID:10011957-1781078400-1781283600@www.pikk.ee
SUMMARY:Taimekaitse aluskoolitus professionaalsele kasutajale (22 t)
DESCRIPTION:Taimekaitse aluskoolitus professionaalsele kasutajale (22 t) \nKoolitus toimub 10.-12.juuni 2026\nJärvamaa Rakendusliku Kolledži Särevere õppekohas \nhind 200 eurot (sisaldab paberkandjal konspekti ja raamatut “Taimehaigused ja -kahjurid\, umbrohud”)\nKoolitajad: Kaja Marrandi\, Marek Kõbu \nKoolitusele registreerimine toimub SIIT \nKaasa palun võtta isikut tõendav pildiga dokument! \nTäiendav info:\nRuth Türk\nruth.turk@kolledz.ee\n+372 5329 2188
URL:https://www.pikk.ee/sundmus/taimekaitse-aluskoolitus-professionaalsele-kasutajale-22-t-35/
LOCATION:Järvamaa\, Järvamaa\, Eesti
CATEGORIES:Taimekaitse
GEO:58.8866713;25.5000624
END:VEVENT
BEGIN:VEVENT
DTSTART;TZID=Europe/Tallinn:20260611T093000
DTEND;TZID=Europe/Tallinn:20260611T170000
DTSTAMP:20260424T054616
CREATED:20260204T095554Z
LAST-MODIFIED:20260312T175248Z
UID:10011862-1781170200-1781197200@www.pikk.ee
SUMMARY:Põllupäev - Erilised katsed METKi põldudel
DESCRIPTION:Täpsem info selgumas.
URL:https://www.pikk.ee/sundmus/pollupaev-erilised-katsed-metki-poldudel/
CATEGORIES:Taimekasvatus
END:VEVENT
BEGIN:VEVENT
DTSTART;TZID=Europe/Tallinn:20260612T100000
DTEND;TZID=Europe/Tallinn:20260612T153000
DTSTAMP:20260424T054616
CREATED:20260325T075315Z
LAST-MODIFIED:20260325T075315Z
UID:10011935-1781258400-1781278200@www.pikk.ee
SUMMARY:Infopäev veebis "Tööohutus ja töötajate tervis põllumajanduses"
DESCRIPTION:Infopäev veebis “Tööohutus ja töötajate tervis põllumajanduses” \nToimumiskuupäev 12. juuni 2026 \nInfopäev toimub veebikeskkonnas BigBlueButton ja eeldab osalemist reaalajas.\nOsalemiseks on vajalik toimiv internetiühendus. Teie seadmel peaks olema kuulamiseks kõlar / kõrvaklapid ja rääkimiseks mikrofon. \nSihtrühm: põllumajandustootjad ja -töötlejad. Sihtrühmale on osalemine tasuta. \nAjakava:\n10.00 – 10.15 veebiruumi sisse logimine ja sissejuhatus päeva\n10.15 – 11.45 õppetöö\n11.45 – 12.15 paus\n12.15 – 13.45 õppetöö\n13.45 – 14.00 paus\n14.00 – 15.30 õppetöö \nSisu ja esinejad:\n1. Tööõnnetused põllumajanduses – põhjused ja tagajärjed ning ennetusmeetmed / Anni Enn\n2. Keemilised\, bioloogilised ja psühhosotsiaalsed ohutegurid põllumajanduses / Eda Merisalu\n3. Füsioloogilised ohutegurid ja ergonoomika / Märt Reinvee \nInfopäeva lähem kirjeldus vt. SIIT.\nOsalemissoovi korral on vajalik õigeaegselt registreeruda (tähtaeg 7.06.2026). Registreeruda saab SIIT. Registreerumisele lisaks palume kindlasti täita vormikohane küsimustik \nInfopäev toimub Põllumajanduse teadmussiirde ja innovatsioonisüsteemi (AKIS) raames ja aitab kaasa põllumajanduse ja toidutootmise sektori kestlikkusele ja konkurentsivõime kasvule. \nKoolituse korraldaja:\nEesti Maaülikooli avatud ülikool\nF.R. Kreutzwaldi 56/1 (III korrus\, ruumid 303-306)\, 51014 Tartu\, tel 731 3175\, 534 41844 või e-post: avayl@emu.ee
URL:https://www.pikk.ee/sundmus/infopaev-veebis-tooohutus-ja-tootajate-tervis-pollumajanduses/
LOCATION:Veebis\, Eesti
CATEGORIES:Muu
ORGANIZER;CN="Eesti Maa%C3%BClikooli avatud %C3%BClikool":MAILTO:avayl@emu.ee
END:VEVENT
BEGIN:VEVENT
DTSTART;TZID=Europe/Tallinn:20260617T100000
DTEND;TZID=Europe/Tallinn:20260617T153000
DTSTAMP:20260424T054616
CREATED:20260323T091813Z
LAST-MODIFIED:20260323T092208Z
UID:10011920-1781690400-1781710200@www.pikk.ee
SUMMARY:Koolitus “Toidu sensoorne analüüs”
DESCRIPTION:Lektor Kristi Kerner´i poolt läbiviidav koolitus annab ülevaate toidu sensoorsetest omadustest kui kvaliteedi näitajatest. \nKoolitusel tutvustatakse toidu organoleptilisi omadusi ja nende tajumist meeleorganitega\, antakse ülevaade sensoorse analüüsi põhitõdedest ja sensoorse analüüsi meetoditest. \nKoolituse sisu: \n\nSensoorse hindamise ajalugu ja kasutusvaldkonnad;\nValdkonda reguleerivad standardid ja terminoloogia;\nMeeleorganite anatoomia ja füsioloogia;\nSensoorse analüüsi meetodid;\nAssessorite valiku põhimõtted ja koolitus;\nAssessorite eelvalikuks kasutatavad testid;\nNõuded degusteerimisruumidele ja seadmetele;\nSensoorse analüüsi läbiviimine;\nLiha- ja piimatoodete organoleptilised kvaliteedinäitajad;\nErinevate toiduainete sensoorne hindamine.\nPraktiline osa: meeleorganite tundlikkuse testimine: maitsetundlikkuse katse; lõhnatundlikkuse katse; vastavuskatse; stiimuli eristamisvõime; kolmnurkkatse.\n\nKoolituse sihtrühm: toidutootmise ettevõtete tehnoloogid ja laboritöötajad\, kes igapäevaselt tooteid sensoorselt hindavad. \nKoolitusel õppekoha saamiseks tuleb:  \n\nkuuluda sihtrühma\,\nõigeaegselt koolitusele registreeruda (registreerumise tähtaeg on 4.06.2026)\nhiljemalt 4. juuniks 2026 esitada motivatsioonikiri. Sellele koolitusele mahub õppima ainult 12 soovijat!\n\nKoolitusel osalemine on juriidilisele isikule vähese tähtsusega abi (VTA). \nKoolitusele registreerumine \nKoolitus on rahastatud “Põllumajanduslike teadmiste ja innovatsiooni süsteemi” ehk AKIS programmi raames\, toetab Euroopa Liit. \n  \nKoolituse korraldaja: \nEesti Maaülikool\nTel: 731 3275\nF. R. Kreutzwaldi 56/1-A306\nkarin.kiss@emu.ee\nwww.emu.ee/taiendusope\nwww.emu.ee/akis-tegevused-20252028
URL:https://www.pikk.ee/sundmus/koolitus-toidu-sensoorne-analuus-3/
LOCATION:Tartu\, Eesti
CATEGORIES:Toiduainete tootmine
ORGANIZER;CN="Eesti Maa%C3%BClikooli avatud %C3%BClikool":MAILTO:avayl@emu.ee
END:VEVENT
BEGIN:VEVENT
DTSTART;TZID=Europe/Tallinn:20260618T100000
DTEND;TZID=Europe/Tallinn:20260618T133000
DTSTAMP:20260424T054616
CREATED:20260204T111454Z
LAST-MODIFIED:20260421T080316Z
UID:10011866-1781776800-1781789400@www.pikk.ee
SUMMARY:Linas Agro põllupäev 2026
DESCRIPTION:18. juuni 2026 toimub Linas Agro Põllupäev\nLinas Agro põllupäev 2026 | Taliviljade sordivõrdlused ja põldkatsed -linasagro.ee \n \nLinas Agro põllupäeval on võimalik tutvuda selle hooaja katsetega\, mis on rajatud koostöös Muuga PM OÜ tootmispõllule. Katsete eesmärk on anda võimalikult realistlik ülevaade sortide ja tehnoloogiate toimimisest praktilistes põllutingimustes. \nSel aastal on fookuses taliviljad\, eelkõige talinisu ja talirapsi sordivõrdlus. \nKatsetes on esindatud:\n\n10 talirapsi sorti (36 ha)\n6 talinisu sorti\n2 taliotra sorti\n3 talirukki sorti\nteraviljakatsed kokku ca 32 hektaril\n\nKatsealasid on kokku ligi 70 hektarit. Tegemist on tootmispõllul rajatud katsetega\, mille tulemused on otseselt võrreldavad igapäevase põllumajanduspraktikaga. \nLisaks sortidele on võimalik saada ülevaade taimekaitse ja mikroelementide tehnoloogilistest võrdlustest\, mis aitavad hinnata erinevate lahenduste mõju ning teha teadlikumaid otsuseid järgmiste külvide planeerimisel. \nPõlluekskursioon toimub juhendatult. Päeva jooksul peatatakse olulisemate sortide ja tehnoloogiate juures\, kus selgitusi jagavad Linas Agro agronoomid ja koostööpartnerid. \nToimumiskoht – Muuga PM OÜ\nPõllupäev toimub Muuga PM OÜ põldudel Lääne-Virumaal. \nMuuga PM OÜ on 1993. aastal loodud Eesti erakapitalil põhinev ettevõte\, mis kuulub Artiston Gruppi. Ettevõte tegeleb taime- ja loomakasvatussaaduste tootmise\, varumise\, töötlemise ja müügiga ning põllumajanduslike teenustööde osutamisega. \nPõhitegevusaladeks on piimakarjakasvatus\, teravilja- ja kaunviljakasvatus ning õlitaimede kasvatamine. Taimekasvatuses haritakse ligikaudu 1400 hektarit\, kus kasvatatakse peamiselt rapsi\, nisu ja otra. Lisaks kasvatatakse sööda tootmiseks rukist\, tritikalet ja maisi. \nEttevõtte tegevus ühendab kaasaegsed lahendused ja traditsioonilise põllumajanduse\, keskendudes efektiivsusele ja jätkusuutlikkusele. \nAadress: Valeliku tee 1\, Muuga küla\, Vinni vald\, Lääne-Virumaa\nPäevakava\n9.30–10.00\nKogunemine ja hommikukohv \n10.00\nPõldkatsed ja ekskursioon\n– taliviljade ja suviviljade sordivõrdlused\n– katsetulemused ja tähelepanekud\n– agronoomide ja tootejuhtide selgitused \n13.00\nLõuna\, päeva kokkuvõte ja soovitused sügishooajaks
URL:https://www.pikk.ee/sundmus/linas-agro-pollupaev-2026/
LOCATION:Lääne-Virumaa\, Lääne-Virumaa\, Eesti
CATEGORIES:Taimekasvatus
END:VEVENT
BEGIN:VEVENT
DTSTART;TZID=Europe/Tallinn:20260630T100000
DTEND;TZID=Europe/Tallinn:20260630T150000
DTSTAMP:20260424T054616
CREATED:20260202T131735Z
LAST-MODIFIED:20260202T131735Z
UID:10011857-1782813600-1782831600@www.pikk.ee
SUMMARY:BASF Agrcultural solutions põllupäev 2026
DESCRIPTION:Sündmus: BASF Agricultural Solutions põllupäev\nAeg: 30.06.2026\nKoht: Vitsjärve Põldur OÜ\, Põltsamaa vald\, Jõgeva maakond \n  \nInfo: Teine kahest BASF Agricultural Solutions 2026. aasta põllupäevast. \nBASF Agro korraldab sel aastal Põltsamaa vallas\, Vitsjärve Põldur OÜ põldudel kaks põllupäeva\, et jälgida põllukultuuride arengut samadel põldudel kogu kevadhooajal vältel.\nTäpsem info ja registreerimine jooksvalt – jälgige BASF Agricultural Solutions kodulehte www.agro.basf.ee ning Facebooki lehte.
URL:https://www.pikk.ee/sundmus/basf-agrcultural-solutions-pollupaev-2026/
LOCATION:Jõgevamaa\, Jõgevamaa\, Eesti
CATEGORIES:Taimekasvatus
END:VEVENT
BEGIN:VEVENT
DTSTART;TZID=Europe/Tallinn:20260822T110000
DTEND;TZID=Europe/Tallinn:20260822T180000
DTSTAMP:20260424T054616
CREATED:20260222T124054Z
LAST-MODIFIED:20260222T124054Z
UID:10011890-1787396400-1787421600@www.pikk.ee
SUMMARY:Hiiumaa põllupäev 2026
DESCRIPTION:22. augustil 2026 toimub juba kolmandat korda Hiiumaa Põllupäev! Juba kolmas kord? Jah! \nKoht\, kus saavad kokku Hiiumaa ja kõik teisel pool merd olevad peast põllumehed\, maaelu huvilised ja head mõtted. \nTule vaata tehnikat\, kuula kogemusi\, suhtle ja veeda üks mõnus päev maal. \nTäpsem info programmi\, esinejate ja tegevuste kohta lisandub jooksvalt. Hoia sündmusel silm peal!
URL:https://www.pikk.ee/sundmus/hiiumaa-pollupaev-2026/
LOCATION:Hiiumaa\, Hiiumaa\, Eesti
CATEGORIES:Loomakasvatus,Maaelu,Taimekasvatus
END:VEVENT
BEGIN:VEVENT
DTSTART;TZID=Europe/Tallinn:20260824T100000
DTEND;TZID=Europe/Tallinn:20260828T160000
DTSTAMP:20260424T054616
CREATED:20260107T181540Z
LAST-MODIFIED:20260107T181540Z
UID:10011815-1787565600-1787932800@www.pikk.ee
SUMMARY:Euroopa Agronoomia Kongress
DESCRIPTION:Kallid sõbrad\, \nMul on suur rõõm teid tervitada Euroopa Agronoomiaühingu kongressil Tartus\, Eestis 24.–28. augustil 2026. \nEuroopa Agronoomiaühingu kongress hõlmab agronoomia laia ja dünaamilist valdkonda\, tuues kokku teadlasi\, praktikuid ja poliitikakujundajaid\, et tegeleda tänapäevase taimekasvatuse väljakutsete ja võimalustega. Agronoomia on oma olemuselt interdistsiplinaarne\, ühendades mulla- ja taimeteadlasi\, kes kõik töötavad säästvate ja vastupidavate põllumajandussüsteemide nimel. \n 
URL:https://www.pikk.ee/sundmus/euroopa-agronoomia-kongress/
LOCATION:Tartu\, Eesti
CATEGORIES:Taimekasvatus
END:VEVENT
BEGIN:VEVENT
DTSTART;TZID=Europe/Tallinn:20260825T090000
DTEND;TZID=Europe/Tallinn:20260827T160000
DTSTAMP:20260424T054616
CREATED:20260320T091603Z
LAST-MODIFIED:20260320T120038Z
UID:10011917-1787648400-1787846400@www.pikk.ee
SUMMARY:Veebikoolitus “Toiduhügieen ja -ohutus\, keskaste”
DESCRIPTION:Prof Mati Roasto ja lektor Katrin Laikoja poolt läbiviidav koolitus annab teadmisi toiduhügieenialase koolituse läbiviimiseks ettevõttes\, toiduohutuse töörühma juhtimiseks ja töötajates toiduohutusele suunatud hoiakute kujundamiseks. \nKoolitus toimub kolme 8-tunnise õppepäevana 25.-27. august 2026\nÕppetöö toimub kõigil koolituspäevadel kell 9.00-16.00 \nKoolituse põhiteemad: \n\nEnesekontrolli rakendamine\nTootmishügieen\nToiduhügieen\n\nKoolituse sihtrühm: põllumajandus- ja toidusektori ettevõtjad (nii juriidilised kui füüsilised teemast huvitatud isikud) ja valdkonna nõustajad. \nKoolitus eeldab osalemist reaalajas ega ole järelvaadatav. \nIga koolituspäeva lõpus tuleb koolitusel osalejal sooritada selle päeva õpiväljundite saavutatust kontrolliv test. \nKoolitusel osalemine on juriidilisele isikule vähese tähtsusega abi (VTA). \nKoolitusele registreerumine \nKoolitus on rahastatud “Põllumajanduslike teadmiste ja innovatsiooni süsteemi” ehk AKIS programmi raames\, toetab Euroopa Liit. \n  \nKoolituse korraldaja: \nEesti Maaülikool\nTel: 731 3275\nF. R. Kreutzwaldi 56/1-A306\nkarin.kiss@emu.ee\nwww.emu.ee/taiendusope\nwww.emu.ee/akis-tegevused-20252028
URL:https://www.pikk.ee/sundmus/veebikoolitus-toiduhugieen-ja-ohutus-keskaste-2/
LOCATION:Veebis\, Eesti
CATEGORIES:Toiduainete tootmine
ORGANIZER;CN="Eesti Maa%C3%BClikooli avatud %C3%BClikool":MAILTO:avayl@emu.ee
END:VEVENT
BEGIN:VEVENT
DTSTART;TZID=Europe/Tallinn:20260912T100000
DTEND;TZID=Europe/Tallinn:20260912T170000
DTSTAMP:20260424T054616
CREATED:20251228T175426Z
LAST-MODIFIED:20251229T111611Z
UID:10011810-1789207200-1789232400@www.pikk.ee
SUMMARY:Metsarahvapäev
DESCRIPTION:METSARAHVAPÄEV 2026 toimub 12. septembril. \nMetsarahvapäev on üle-eestiline üritustesari\, mille eesmärk on tutvustada Eesti elanikele metsaelu ning metsaga seotud tegevusi ja ettevõtteid. \n\n\nSellel päeval kutsuvad metsaomanikud\, metsamajandajad ja puittoodete valmistajad külla\, et anda ülevaadet metsanduses ja puidutööstuses toimuvast. Näitame\, kuidas meie metsade eest hoolitsetakse heaperemehelikult\, meie tööstused on tehnoloogiliselt kõrgel tasemel ning puit on keskkonnasõbralik materjal. \n\n\nToimuvad ekskursioonid tööstustesse\, metsaretked metsaomanikega\, õpitoad käsitöömeistritega\, näha saab metsatehnikat ja õppida kuidas metsas hakkama saada. \n\n\nMetsarahvapäev toimus esimest korda 2021. aasta septembris.
URL:https://www.pikk.ee/sundmus/metsarahvapaev-2/
LOCATION:Muu\, Eesti
CATEGORIES:Metsandus
GEO:58.595272;25.0136071
END:VEVENT
END:VCALENDAR