BEGIN:VCALENDAR
VERSION:2.0
PRODID:-//PIKK.ee - ECPv6.13.2.1//NONSGML v1.0//EN
CALSCALE:GREGORIAN
METHOD:PUBLISH
X-WR-CALNAME:PIKK.ee
X-ORIGINAL-URL:https://www.pikk.ee
X-WR-CALDESC:Events for PIKK.ee
REFRESH-INTERVAL;VALUE=DURATION:PT1H
X-Robots-Tag:noindex
X-PUBLISHED-TTL:PT1H
BEGIN:VTIMEZONE
TZID:Europe/Tallinn
BEGIN:DAYLIGHT
TZOFFSETFROM:+0200
TZOFFSETTO:+0300
TZNAME:EEST
DTSTART:20120325T010000
END:DAYLIGHT
BEGIN:STANDARD
TZOFFSETFROM:+0300
TZOFFSETTO:+0200
TZNAME:EET
DTSTART:20121028T010000
END:STANDARD
END:VTIMEZONE
BEGIN:VEVENT
DTSTART;VALUE=DATE:20120809
DTEND;VALUE=DATE:20120810
DTSTAMP:20260424T015151
CREATED:20171231T220000Z
LAST-MODIFIED:20171231T220000Z
UID:10005273-1344470400-1344556799@www.pikk.ee
SUMMARY:Infopäev „Viinapuude istutamine ja suvine lõikus“
DESCRIPTION:Pärnumaa \nVändra\, Saare-Tõrvaaugu Aiand OÜ`s (Pärnumaal) \nPärnumaa \n	09. 08.2012  korraldab Pärnumaa Kutsehariduskeskuse Voltveti koolituskeskus PRIA poolt rahastatud MAK meetme 1.1 „Koolitus- ja teavitustegevus“ raames tasuta infopäeva \n	„Viinapuude istutamine ja suvine lõikus“ \n	(viitenumber taotlusel 111011670305). \n	Infopäeva sihtgrupiks on põllumajandusega tegelevad iskukud ja/või toidu tootmise või töötlemisega tegelevad isikud. \n	Infopäev toimub Saare-Tõrvaaugu Aiand OÜ`s Pärnumaal\, Vändras\, infopäeva algus kell 8.30. \n	Teemad: viinapuude kasvatamine Eestis ning meie naaberriikides; viinapuude bioloogia (taimede ehitus fenoloogia\, kasvunõuded); soovitussordid Eestis ja viinapuuliigid\, millest need on aretatud; mahekasvatus; istikute valik; istutamine; suvine hooldamine esimesel kasvuaastal; vanemate viinapuude suvine lõikamine. Praktiline tegevus: Viinapuude lõikamine ja hooldusvõtted. \n	Lektor: Harri Poom – Saare-Tõrvaaugu Aiand OÜ üks omanikest\, Pärumaa Kutsehariduskeskuse aiandusõppe praktika juhendaja. \n	Grupp: 12 inimest. \n	Registreerimine ja lisainformatsioon: Piret Koorep\, piret.koorep@hariduskeskus.ee \, tel 5168099;\n	Hanna-Liisa Pikkur\, hanna-liisa.pikkur@hariduskeskus.ee \, tel 53924376; \n	www.hariduskeskus.ee \n\n	 
URL:https://www.pikk.ee/sundmus/infopaev-viinapuude-istutamine-ja-suvine-loikus/
LOCATION:Pärnumaa\, Pärnumaa\, Eesti
CATEGORIES:Taimekasvatus
END:VEVENT
BEGIN:VEVENT
DTSTART;VALUE=DATE:20120718
DTEND;VALUE=DATE:20120719
DTSTAMP:20260424T015151
CREATED:20171231T220000Z
LAST-MODIFIED:20171231T220000Z
UID:10005259-1342569600-1342655999@www.pikk.ee
SUMMARY:Infopäev Pärnumaa erametsaomanikele "Energiapuidu kasutamine energeetikas"
DESCRIPTION:Pärnumaa \nToimumiskoht täpsustamisel \nPärnumaa \n	Inseneribüroo UNEKO  korraldab 18. juulil  Pärnumaa erametsaomanikele infopäeva teemal \n	energiapuidu kasutamine energeetikas\, \n\n	milline hõlmab lehtmetsade rajamist ja hooldustöid endistel põllumaadel\, puidu hakkimist ja kasutust väikeasulate katlamajades. \n\n	  \n\n	Info ja kontakt:   Uno Jääger\, inseneribüroo UNEKO juhataja\, 5151844\, uno[A]uneko.ee \n\n	 
URL:https://www.pikk.ee/sundmus/infopaev-parnumaa-erametsaomanikele-energiapuidu-kasutamine-energeetikas/
LOCATION:Pärnumaa\, Pärnumaa\, Eesti
CATEGORIES:Metsandus
END:VEVENT
BEGIN:VEVENT
DTSTART;VALUE=DATE:20120717
DTEND;VALUE=DATE:20120718
DTSTAMP:20260424T015151
CREATED:20171231T220000Z
LAST-MODIFIED:20171231T220000Z
UID:10005367-1342483200-1342569599@www.pikk.ee
SUMMARY:Mahepõllumajanduse algõppe koolitus
DESCRIPTION:Pärnumaa \n Pärnu\, Rüütli 44\, Hotell Pärnu \nPärnumaa \n\n	  \n\n	Mahepõllumajanduse algõppe koolitus\, I osa\n\n	 \n\n	Mahepõllumajanduse algõppe koolitus toimub üle Eesti kolmes osas. 1. päev on sissejuhatus ja üldine ülevaade mahepõllumajanduse nõuetest ning mahetaimekasvatuse põhialustest\, 2. päeval käsitletakse mahetaimekasvatuse temaatikat põhjalikumalt ja 3. päev on maheloomakasvatuse teemal (toimuvad septembris). Mahetoetuse esmakordsetel taotlejatel on kohustuslik osaleda neist vähemalt kahel päeval. Juhul\, kui viimase viie aasta jooksul on vähemalt kahel arvessemineval mahekoolituspäeval osaletud\, siis pole algõppe koolitusel osalemine kohustuslik.\n\n	 \n\n	Algõppe I osa koolitused toimuvad:\n\n\n		 \n\n		17. juuli Pärnu\, Rüütli 44\, Hotell Pärnu\n\n		18. juuli Saku\, Üksnurme tee 8\, Harju Taluliidu Nõuandekeskus\n\n		18. juuli Tartumaa\, Ülenurme vald\, Õssu küla\, Eesti Maaülikooli Mahekeskus (http://mahekeskus.emu.ee/uldinfo/kontakt)\n\n		19. juuli Võru\, Jüri 12\, Võru Maavalitsus\n\n		20. juuli Rakvere\, Pikk 18\, Vanalinna kool (sissepääs Mahe Mees poe poolsest uksest)\n\n		23. juuli Kuressaare\, Tallinna tn 27\, Saarte Nõuandekeskus\n\n		 \n\n		Kava:\n\n		10:00 Ülevaade mahepõllumajanduse olukorrast.\n\n		Mahepõllumajanduse põhimõtted ja seda reguleerivad õigusaktid\n\n		Peamised mahetaimekasvatuse nõuded\n\n\n	Mullaviljakus\, toitained\, orgaanilised väetised\n\n\n		12:00 Kohvipaus\n\n		12:30 Külvikord. Taimekaitse (umbrohi\, kahjurid\, haigused)\n\n\n	13:45 Paus\n\n	14:00 Taimekaitse jätkub\n\n\n		Toetusega seotud nõuded\n\n		Nõustamissüsteemi tutvustamine\n\n		15:30 Lõpp\n\n		 \n\n		 \n\n		Kahjuks ei ole võimalik korraldada koolitusi kõigis maakondades\, seetõttu palume valida pakututest sobivaima.\n\n		Koolitustel osalemine on tasuta. Osalemiseks on vajalik registreerimine e-mailil mahepm@gmail.com (eelistatult) või telefonil\n\n		5662 0955. Registreerimisel kindlasti esitada oma ettevõtte nimi\, soovitud koolituse koht ja kuupäev.  \n\n		 \n\n\n	Koolitused korraldab Põllumajandusministeeriumi tellimusel Eesti Mahepõllumajanduse Sihtasutus. Toetab Euroopa Liit.
URL:https://www.pikk.ee/sundmus/mahepollumajanduse-algoppe-koolitus/
LOCATION:Pärnumaa\, Pärnumaa\, Eesti
CATEGORIES:Taimekasvatus
END:VEVENT
END:VCALENDAR