BEGIN:VCALENDAR
VERSION:2.0
PRODID:-//PIKK.ee - ECPv6.13.2.1//NONSGML v1.0//EN
CALSCALE:GREGORIAN
METHOD:PUBLISH
X-WR-CALNAME:PIKK.ee
X-ORIGINAL-URL:https://www.pikk.ee
X-WR-CALDESC:Events for PIKK.ee
REFRESH-INTERVAL;VALUE=DURATION:PT1H
X-Robots-Tag:noindex
X-PUBLISHED-TTL:PT1H
BEGIN:VTIMEZONE
TZID:Europe/Tallinn
BEGIN:DAYLIGHT
TZOFFSETFROM:+0200
TZOFFSETTO:+0300
TZNAME:EEST
DTSTART:20120325T010000
END:DAYLIGHT
BEGIN:STANDARD
TZOFFSETFROM:+0300
TZOFFSETTO:+0200
TZNAME:EET
DTSTART:20121028T010000
END:STANDARD
BEGIN:DAYLIGHT
TZOFFSETFROM:+0200
TZOFFSETTO:+0300
TZNAME:EEST
DTSTART:20130331T010000
END:DAYLIGHT
BEGIN:STANDARD
TZOFFSETFROM:+0300
TZOFFSETTO:+0200
TZNAME:EET
DTSTART:20131027T010000
END:STANDARD
END:VTIMEZONE
BEGIN:VEVENT
DTSTART;VALUE=DATE:20130122
DTEND;VALUE=DATE:20130123
DTSTAMP:20260424T080456
CREATED:20171231T220000Z
LAST-MODIFIED:20171231T220000Z
UID:10005402-1358812800-1358899199@www.pikk.ee
SUMMARY:Infopäev „Toidutoote lisand- ja lisaväärtuse loomine“
DESCRIPTION:Põlvamaa \nPõlva Ettevõtluskoda (Kesk 20\, Põlva) \nPõlvamaa \n	Põlvamaa Arenduskeskus SA korraldab Eesti Maaelu arengukava 2007-2013 meetme 1.1. raames infopäeva: „Toidutoote lisand- ja lisaväärtuse loomine“ \n	Sihtrühm : põllumajandustoodete tootmise\, toidutootmise või -töötlemisega tegelevad füüsilised või eraõiguslikud juriidilised isikud ja tema töötajad \n	Toimumise aeg: 22. jaanuar 2013 kell 9.00 – 15.30\n	Toimumise koht: Põlva Ettevõtluskoda\, Kesk 20\, Põlva \n	Lektor: Tiiu Ohvril \n	Teemad:\n	• toote väärtusahela arendamine\n	• turundustegevuse aspektide – pakendi\,  kaubamärk ja bränd\n	• praktilised näited \n	Koolitust toetab Euroopa Liit \n	Kohtade arv on piiratud\, VAJALIK EELREGISTREERIMINE\n	mail: tiiu.marran@polvamaa.ee  või telefonil +372 5348 0003. \n	Osaleda saavad isikud\, kes on saanud Põlvamaa Arenduskeskuselt kinnituse registreerimise kohta.\n	 
URL:https://www.pikk.ee/sundmus/infopaev-toidutoote-lisand-ja-lisavaartuse-loomine/
LOCATION:Põlvamaa\, Põlvamaa\, Eesti
CATEGORIES:Turundus
GEO:58.1160622;27.2066394
END:VEVENT
BEGIN:VEVENT
DTSTART;VALUE=DATE:20130118
DTEND;VALUE=DATE:20130119
DTSTAMP:20260424T080456
CREATED:20171231T220000Z
LAST-MODIFIED:20171231T220000Z
UID:10005438-1358467200-1358553599@www.pikk.ee
SUMMARY:Teabepäev „Mahepõllumajanduslik tootmine ja turustamine - võimalused mahetoidu kasutamiseks lasteasutustes"
DESCRIPTION:Põlvamaa \nJohannese Kool ja Lasteaed Rosmal\, Värska mnt 4\, Rosma küla\, Põlva vald \nPõlvamaa \n\n	Teabepäev „Mahepõllumajanduslik tootmine ja turustamine – võimalused mahetoidu kasutamiseks lasteasutustes" \n	Eesti lasteasutustes ollakse üha teadlikumad tervisliku toidu tähtsusest ja vajalikkusest. Tänu sellele leiab ka mahetoit järjest suuremat poolehoidu ja kasutust. Johannese Koolis ja Lasteaias Rosmal püütakse igapäevaselt pakkuda võimalikult palju kohalikku ja mahetoorainest valmistatud toitu. \n	Teabepäeva „Mahepõllumajanduslik tootmine ja turustamine – võimalused mahetoidu kasutamiseks lasteasutustes" eesmärgiks on viia kokku mahetootjate\, -töötlejate\, turustajate\, omavalitsuste\, koolide ja lasteaedade esindajad\, et arutada üheskoos mahetoidu kasutamise võimalusi Põlvamaa lasteasutustes. \n	Kuupäev: 18.01.2013\n	Aeg: 13.00-16.30\n	Koht: Johannese Kool ja Lasteaed Rosmal\, Värska mnt 4\, Rosma küla\, Põlva vald 63221\, http://rosma.edu.ee/wp/ \n	Päevakava\n	13.00 Tervitussõnad ja mahelõuna\n	13.30 Mahepõllumajanduse põhimõtetest\n	14.00 Mahetoidu kasulikkus\n	14.30 Eesti turul olevad mahetooted\n	15.00 Mahetoidu kasutamise kogemused Johannese Koolis ja Lasteaias Rosmal\n	15.30-16.30 Diskussioon ja arutelu mahetoidu kasutamise võimaluste osas lasteasutustes \n	Lektoriteks on Elen Peetsmann ja Darja Matt. Vestlusringis jagavad oma kogemusi mahetoidu pakkumise osas mahetootjad ning Johannese kooli ja lasteaia personal.  \n	Palume oma osalemisest teada anda hiljemalt 16. jaanuaril e-mailil mahekeskus[A]emu.ee \n	Lisainfo: Elen Peetsmann\, tel: 53044003.  \n	Teabepäeva korraldab SA Eesti Maaülikooli Mahekeskus koostöös Põllumajandusministeeriumiga.\n	Tellija Põllumajandusministeerium\, toetab Euroopa Liit.
URL:https://www.pikk.ee/sundmus/teabepaev-mahepollumajanduslik-tootmine-ja-turustamine-voimalused-mahetoidu-kasutamiseks-lasteasutustes/
LOCATION:Põlvamaa\, Põlvamaa\, Eesti
CATEGORIES:Muu
GEO:58.1160622;27.2066394
END:VEVENT
BEGIN:VEVENT
DTSTART;VALUE=DATE:20130110
DTEND;VALUE=DATE:20130111
DTSTAMP:20260424T080456
CREATED:20171231T220000Z
LAST-MODIFIED:20171231T220000Z
UID:10005401-1357776000-1357862399@www.pikk.ee
SUMMARY:Infopäev „Toidutoode - positsioneerimine ja eristumine“
DESCRIPTION:Põlvamaa \nPõlva Ettevõtluskoda (Kesk 20\, Põlva) \nPõlvamaa \n	Põlvamaa Arenduskeskus SA korraldab Eesti Maaelu arengukava 2007-2013 meetme 1.1. raames infopäeva: „Toidutoode – positsioneerimine ja eristumine“ \n	Sihtrühm : põllumajandustoodete tootmise\, toidutootmise või -töötlemisega tegelevad füüsilised või eraõiguslikud juriidilised isikud ja tema töötajad \n	Toimumise aeg: 10. jaanuar 2013 kell 9.00 – 15.30\n	Toimumise koht: Põlva Ettevõtluskoda\, Kesk 20\, Põlva \n	Lektor: Jakob Saks \n	Teemad:\n	• toidutoodete positsioneerimine ja eristumine\n	• ärimudeli kasutamise eeliseid oma toidutoote positsioneerimisel\n	• praktilised näited \n	Koolitust toetab Euroopa Liit \n	Kohtade arv on piiratud\, VAJALIK EELREGISTREERIMINE\n	mail: tiiu.marran[A]polvamaa.ee  või telefonil +372 5348 0003. \n	Osaleda saavad isikud\, kes on saanud Põlvamaa Arenduskeskuselt kinnituse registreerimise kohta. \n	 
URL:https://www.pikk.ee/sundmus/infopaev-toidutoode-positsioneerimine-ja-eristumine/
LOCATION:Põlvamaa\, Põlvamaa\, Eesti
CATEGORIES:Turundus
GEO:58.1160622;27.2066394
END:VEVENT
BEGIN:VEVENT
DTSTART;VALUE=DATE:20121205
DTEND;VALUE=DATE:20121206
DTSTAMP:20260424T080456
CREATED:20171231T220000Z
LAST-MODIFIED:20171231T220000Z
UID:10005393-1354665600-1354751999@www.pikk.ee
SUMMARY:Majandusarvestuse kiirkursus põllumajandusettevõtte juhtidele
DESCRIPTION:Põlvamaa \nMooste Viinavabrik\, Põlvamaa \nPõlvamaa \n\n	algus 05.12 kell 11.00 ja 06.12  kell 10.00. \n\n	Lektor Margus Tinits \n\n	Infopäeva toetab Euroopa Liit   meetmest 1.1. \n\n	Info  ja registreerimine tel. 79 92 928 ja 56608028
URL:https://www.pikk.ee/sundmus/majandusarvestuse-kiirkursus-pollumajandusettevotte-juhtidele/
LOCATION:Põlvamaa\, Põlvamaa\, Eesti
CATEGORIES:Muu
GEO:58.1160622;27.2066394
END:VEVENT
BEGIN:VEVENT
DTSTART;VALUE=DATE:20121127
DTEND;VALUE=DATE:20121128
DTSTAMP:20260424T080456
CREATED:20171231T220000Z
LAST-MODIFIED:20171231T220000Z
UID:10005514-1353974400-1354060799@www.pikk.ee
SUMMARY:Taimekaitse koolitus (taimekaitsetöötaja tunnistuse pikendamiseks)
DESCRIPTION:Põlvamaa \nRäpina Aianduskoolis\, Pargi 32\, Räpina  \nPõlvamaa \n\n	Räpina Aianduskool korraldab koolituse \n\n	*  27. novembril Taimekaitse (taimekaitsetöötaja tunnistuse pikendamiseks) viitenr. 112012650840  Koolitus toimub Räpina Aianduskoolis\, Pargi 32\, Räpina algusega kell 9.00 Koolituse läbiviijad: Tairi Albert ja Aivo Pedosk \n\n	\n	Info ja kontakt: Eda Gross\, tel: 53461209\,\n	E-post: eda.gross@]aianduskool.ee\n	www.aianduskool.ee \n\n	 
URL:https://www.pikk.ee/sundmus/taimekaitse-koolitus-taimekaitsetootaja-tunnistuse-pikendamiseks-2/
LOCATION:Põlvamaa\, Põlvamaa\, Eesti
CATEGORIES:Muu
GEO:58.1160622;27.2066394
END:VEVENT
BEGIN:VEVENT
DTSTART;VALUE=DATE:20121121
DTEND;VALUE=DATE:20121122
DTSTAMP:20260424T080456
CREATED:20171231T220000Z
LAST-MODIFIED:20171231T220000Z
UID:10005351-1353456000-1353542399@www.pikk.ee
SUMMARY:Keskkonnasõbraliku majandamise täienduskoolitus
DESCRIPTION:Põlvamaa \nEesti Fototurismi Keskus\, Mooste vald\, Mooste \nPõlvamaa \n\n	Koolitused algavad kõikjal kell 10 ja lõpevad orienteeruvalt 16.00. \n\n	Teemad:  \n\n\n		Mulla tähtsusest inimesele ja loodusele\n\n		Keskkonnasõbralik taimekaitse\n\n		Milleks põllumjandusmaastiku elurikkus\n\n\n	  \n\n	29.10 Tartumaa – Puhja Seltsimaja\, Viljandi tee 24\, Puhja (http://www.puhja.ee) \n\n	30.10 Lääne-Virumaa – Pariisi Puhkeküla\, Kadrina vald\, Pariisi (http://www.pariisi.ee) \n\n	30.10 Võrumaa – Ala-Rõuge Külalistemaja\, Võru mnt 12\, Rõuge (http://www.alarouge.ee/) \n\n	31.10 – Jõgevamaa – Kamari Seltsimaja\, Põltsamaa vald\, Kamari küla (http://kamari.ee/seltsimaja/) \n\n	31.10 Viljandimaa – Männiku Metsatalu\, Paistu vald\, Intsu küla (http://metsatalu.ee/) \n\n	  \n\n	21.11 Raplamaa – Kehtna Majandus- ja Tehnoloogiakool\, Kooli 1\, Kehtna (http://www.kehtna.edu.ee/ ) \n\n	21.11 Põlvamaa – Eesti Fototurismi Keskus\, Mooste vald\, Mooste (http://www.fototurism.ee) \n\n	21.11 Pärnumaa – Ojako turismitalu\, Audru vald\, Marksa küla (http://www.ojako.ee/) \n\n	22.11 Läänemaa – Lihula kultuurimaja\, Tallinna mnt 1A\, Lihula (http://www.lihula.ee/) \n\n	  \n\n	04.12 Võrumaa – Vastseliina kultuurimaja\, Võidu tn 38\, Vastseliina (http://www.vastseliina.ee/) \n\n	05.12 Tartumaa – Võnnu kultuurimaja\, Tartu mnt 24\, Võnnu (http://www.vonnukultuur.blogspot.com/) \n\n	  \n\n	11.12 Lääne-Virumaa – Kiltsi põhikool\, Väike-Maarja vald\, Liivaküla küla \n\n	 (http://www.v-maarja.ee/kiltsipk/) \n\n	11.12 Pärnumaa – Tori seltsimaja\, Tori vald\, Tori (https://torivald.kovtp.ee/et/rahvamaja) \n\n	12.12 Raplamaa – Rapla kultuurikeskus\, Tallinna mnt 17A\, Rapla (http://www.raplakultuur.ee/) \n\n	12.12 Viljandimaa – hotell Centrum\, Tallinna 24\, Viljandi (http://www.centrum.ee) \n\n	  \n\n	Koolitused on tasuta ning kõik osalejad saavad KSM kohustusliku täienduskoolituse tunnistuse. \n\n	Koolituse läbiviimist toetab Euroopa Liit. \n\n	Osaleda saavad ainult EELREGISTREERITUD osalejad (piiratud arv kohti)! \n\n	Eelregistreeruda saab telefonil: 6 729 143 (Sirje Reintam) või e-mailil: sirje.reintam[A]pmk.agri.ee \n\n	Registreerimine lõpeb 3 päeva enne koolituse toimumist! \n\n	\n	Küsimuste korral pöörduda: katrin.vask[A]pmk.agri.ee  või  53 482 682
URL:https://www.pikk.ee/sundmus/keskkonnasobraliku-majandamise-taienduskoolitus-7/
LOCATION:Põlvamaa\, Põlvamaa\, Eesti
CATEGORIES:Muu
GEO:58.1160622;27.2066394
END:VEVENT
BEGIN:VEVENT
DTSTART;VALUE=DATE:20121114
DTEND;VALUE=DATE:20121115
DTSTAMP:20260424T080456
CREATED:20171231T220000Z
LAST-MODIFIED:20171231T220000Z
UID:10005617-1352851200-1352937599@www.pikk.ee
SUMMARY:Integreeritud taimekaitse koolitus taimekasvatuse valdkonna konsulentidele
DESCRIPTION:Põlvamaa \nRäpina Aianduskool (Pargi 32\, Räpina) \nPõlvamaa \n	Räpina Aianduskool annab teada\, et integreeritud taimekaitse koolitus taimekasvatuse valdkonna konsulentidele toimub: \n\n	* 14.- 15. november 2012 (K\,N) kell 9.30 Räpina Aianduskoolis. \n\n	Infoks: Samas on olemas ka ööbimisvõimalus (teatada registreerimisel).\n	Ööbida soovijad peavad ise broneerima koha meie kooli ühiselamus tel 53333554.\n	Tasumine on kohapeal.\n	Kindlasti tuleb ööbida soovijail öelda ü/e administraatorile\, et osalevad koolitusel\,\n	sest siis on ööbimistasu 6€ (Kaks inimest toas). \n	Registreerimine:\n	Kursusele registreeruda hiljemalt 12. novembriks\n	Räpina Aianduskooli kodulehel\n	registreerimisvorm http://www.aianduskool.ee/registreerimine.php \n	Info ja kontakt: Eda Gross\, tel 796 1549\n	 \n	http://www.aianduskool.ee/taienduskoolitus
URL:https://www.pikk.ee/sundmus/integreeritud-taimekaitse-koolitus-taimekasvatuse-valdkonna-konsulentidele/
LOCATION:Põlvamaa\, Põlvamaa\, Eesti
CATEGORIES:Taimekasvatus
GEO:58.1160622;27.2066394
END:VEVENT
BEGIN:VEVENT
DTSTART;VALUE=DATE:20121112
DTEND;VALUE=DATE:20121113
DTSTAMP:20260424T080456
CREATED:20171231T220000Z
LAST-MODIFIED:20171231T220000Z
UID:10005512-1352678400-1352764799@www.pikk.ee
SUMMARY:Taimekaitse koolitus (taimekaitsetöötaja tunnistuse saamiseks)
DESCRIPTION:Põlvamaa \nRäpina Aianduskoolis\, Pargi 32\, Räpina  \nPõlvamaa \n\n	Räpina Aianduskool korraldab 2012.aastal taimekaitse koolitusi alljärgnevalt: \n	*  12.-14. novembril  Taimekaitse (taimekaitsetöötaja tunnistuse saamiseks) viitenr. 112012650383.  Koolitus toimub Räpina Aianduskoolis\, Pargi 32\, Räpina algusega kell 9.00 Koolituse Läbiviijad: Tairi Albert\, Svetlana Tund ja Aivo Pedosk \n	*  27.novembril Taimekaitse (taimekaitsetöötaja tunnistuse pikendamiseks) viitenr. 112012650840  Koolitus toimub Räpina Aianduskoolis\, Pargi 32\, Räpina algusega kell 9.00 Koolituse läbiviijad: Tairi Albert ja Aivo Pedosk \n\n	\n	Info ja kontakt: Eda Gross\, tel: 53461209\,\n	E-post: eda.gross@]aianduskool.ee\n	www.aianduskool.ee \n\n	\n	 
URL:https://www.pikk.ee/sundmus/taimekaitse-koolitus-taimekaitsetootaja-tunnistuse-saamiseks/
LOCATION:Põlvamaa\, Põlvamaa\, Eesti
CATEGORIES:Muu
GEO:58.1160622;27.2066394
END:VEVENT
BEGIN:VEVENT
DTSTART;VALUE=DATE:20121109
DTEND;VALUE=DATE:20121110
DTSTAMP:20260424T080456
CREATED:20171231T220000Z
LAST-MODIFIED:20171231T220000Z
UID:10005570-1352419200-1352505599@www.pikk.ee
SUMMARY:Infopäev "Toiduhügieen"
DESCRIPTION:Põlvamaa \nPõlva\, hotell Pesa (aadress: Uus tn 7\, Põlva) \nPõlvamaa \n\n	Eesti Maaülikool korraldab Eesti Maaelu arengukava 2007-2013 meetme 1.1. raames infopäeva\n	TOIDUHÜGIEEN \n	Sihtrühm         põllumajandustoodete tootmise\, toidutootmise või -töötlemisega tegelevad\n	                         füüsilised või eraõiguslikud juriidilised isikud ja tema töötajad \n	Maht                7 akadeemilist tundi auditoorset tööd \n	Toimumisaeg- ja koht       \n	                        reede\, 09.11.2012\, hotell Pesa (aadress: Uus tn 7)\, Põlva \n	Teemad\n	Toitu käsitlevad õigusaktid\n	Toiduhügieeni põhimõtted\n	Mikroorganismid ja nende kasvu ja paljunemist mõjutavad tegurid\n	Toiduainete kaudu levivad haigused\, toidumürgistused ja -infektsioonid\n	Toidu füüsikaline\, keemiline ja mikrobioloogiline saastumine ning selle vältimine\n	Toidu säilitamise viisid ja tingimused\n	Puhastamine\, desinfitseerimine\n	Isiklik hügieen\n	Enesekontrolli põhimõtted\n	Toitu käsitleva töötaja kohustused ja vastutus \n	Õppejõud\n	Katrin Laikoja\, mag (tehn)\, Eesti Maaülikooli Veterinaarmeditsiini ja loomakasvatuse instituudi lektor \n	Ajakava\n	10.00 – 11.30 õppetöö\n	11.30 – 11.40 paus\n	11.40 – 13.10 õppetöö\n	13.10 – 13.40 kohvipaus\n	13.40 – 15.10 õppetöö\n	15.10 – 15.15 paus\n	15.15 – 16.00 õppetöö \n	Kursus on sihtrühmale tasuta \n	Kohtade arv on piiratud\, vajalik eelregistreerimine\n	maaülikooli avatud ülikooli tel 731 3175; 731 3275; 731 3174 või täites registreerumisvormi maaülikooli kodulehe aadressil http://avatudylikool.emu.ee/taiendope/tahtis \n\n	Infopäeva korraldamist toetab Euroopa Liit. \n\n	\n	Koolitust korraldab:\n	Eesti Maaülikooli avatud ülikool\n	Tel 731 3174\, 731 3275\, 731 3175\n	avayl@emu.ee\n	Kreutzwaldi 56-304\,306\n	51014 Tartu\n	 
URL:https://www.pikk.ee/sundmus/infopaev-toiduhugieen-2/
LOCATION:Põlvamaa\, Põlvamaa\, Eesti
CATEGORIES:Muu
GEO:58.1160622;27.2066394
END:VEVENT
BEGIN:VEVENT
DTSTART;VALUE=DATE:20121023
DTEND;VALUE=DATE:20121024
DTSTAMP:20260424T080456
CREATED:20171231T220000Z
LAST-MODIFIED:20171231T220000Z
UID:10005341-1350950400-1351036799@www.pikk.ee
SUMMARY:Integreeritud taimekaitse koolitus taimekaitse valdkonna konsulentidele
DESCRIPTION:Põlvamaa \nRäpina Aianduskoolis (Räpina\, Pargi 32) \nPõlvamaa \n	Räpina Aianduskool annab teada\, et integreeritud taimekaitse koolitus taimekaitse valdkonna konsulentidele toimub alljärgnevalt: \n\n	* 23.-24. oktoobril kell 9.30 Räpina Aianduskoolis  (Pargi 32\, Räpina) \n\n	Räpina õppegrupi koolitusest osavõtjatele infoks: \n	Ööbimine 6€\, öömaja broneerida tel.: 53 333 554. Broneerimisel öelda\, et tullakse kursusele (vastasel juhul on ööbimine kallim). \n\n	\n	Registreerimine: Räpina Aianduskooli kodulehel registreerimisvorm http://www.aianduskool.ee/registreerimine.php \n	Info ja kontakt: Eda Gross\, tel 796 1549\n	 http://www.aianduskool.ee/taienduskoolitus
URL:https://www.pikk.ee/sundmus/integreeritud-taimekaitse-koolitus-taimekaitse-valdkonna-konsulentidele/
LOCATION:Põlvamaa\, Põlvamaa\, Eesti
CATEGORIES:Taimekasvatus
GEO:58.1160622;27.2066394
END:VEVENT
BEGIN:VEVENT
DTSTART;VALUE=DATE:20121015
DTEND;VALUE=DATE:20121016
DTSTAMP:20260424T080456
CREATED:20171231T220000Z
LAST-MODIFIED:20171231T220000Z
UID:10005328-1350259200-1350345599@www.pikk.ee
SUMMARY:Põllumeeste õppereis Tšehhimaale
DESCRIPTION:Põlvamaa \nTšehhi Vabariik \nPõlvamaa \nPõlvamaa Põllumeeste Liit korraldab põllumeeste õppereisi 15.10-19.10.2012 Tšehhimaale teemal ühistegevus ja nõustamissüsteem. \nÕppereisi toetab Euroopa Liit meetme 4.1 abil.\nInfo pltl@estpak.ee
URL:https://www.pikk.ee/sundmus/pollumeeste-oppereis-tsehhimaale/
LOCATION:Põlvamaa\, Põlvamaa\, Eesti
CATEGORIES:Muu
GEO:58.1160622;27.2066394
END:VEVENT
BEGIN:VEVENT
DTSTART;VALUE=DATE:20120829
DTEND;VALUE=DATE:20120830
DTSTAMP:20260424T080456
CREATED:20171231T220000Z
LAST-MODIFIED:20171231T220000Z
UID:10005413-1346198400-1346284799@www.pikk.ee
SUMMARY:Koolitus maaettevõtluse mitmekesistamise valdkonna konsulentidele
DESCRIPTION:Põlvamaa \nPõlvamaa \nPõlvamaa \n	Põllumajandusministeeriumi korraldatud hange Koolitusprogramm Eesti maaelu arengukava 2007-2013 meetme 3.1 “Majandustegevuse mitmekesistamine maapiirkonnas” raames maaettevõtluse mitmekesistamise valdkonna konsulentidele \n\n	ÄRIIDEEDE VORMISTAMINE SIHTGRUPILE SOBIVAKS PAKKUMISEKS – SIHTTURUNDUSE RAKENDAMINE VÄIKE-ETTEVÕTLUSES \n\n	Kahepäevane koolitus rõhuga sihtturundusele ühendatuna ettevõtete kogemustega tutvumisega ning järgneva analüüsiga teooria seisukohtadest lähtuvalt Põlvamaal 29.-30. augustil. \n\n	Kontaktisik Lemmi Maasik\, lemmi.maasik@nouandeteenistus.ee\, 5346 7465 \n\n	 
URL:https://www.pikk.ee/sundmus/koolitus-maaettevotluse-mitmekesistamise-valdkonna-konsulentidele/
LOCATION:Põlvamaa\, Põlvamaa\, Eesti
CATEGORIES:Maaettevõtlus
GEO:58.1160622;27.2066394
END:VEVENT
BEGIN:VEVENT
DTSTART;VALUE=DATE:20120822
DTEND;VALUE=DATE:20120823
DTSTAMP:20260424T080456
CREATED:20171231T220000Z
LAST-MODIFIED:20171231T220000Z
UID:10005320-1345593600-1345679999@www.pikk.ee
SUMMARY:Taimekaitse koolitus (üleriigiline\, 2-päevane)
DESCRIPTION:Põlvamaa \nRäpinas\, Räpina Aianduskoolis \nPõlvamaa \nRäpina Aianduskool korraldab üleriigilise 2-päevase \nTAIMEKAITSE KOOLITUSE \nPõlvamaal. \nToimumisaeg ja -koht:\n22.-23. augustil algusega kell 9.00 Räpina Aianduskoolis (viitenr 112011650341). \nKoolituste koolitusprogramm vastab Vabariigi Valitsuse 31. jaanuari 2005.a.määrusele nr. 20 "Taimekaitsekoolituse programm ning taimekaitsetunnistuse saamiseks esitatavad nõuded ja tunnistuse andmise kord" ning nimetatud määruse muudatusele 20.01.2011 nr.17. Määruste muutumisel enne eelpoolnimetatud koolitusi\, võetakse koolituste läbiviimise aluseks uued kehtivad määrused. \nInfo Räpina Aianduskooli kodulehel www.ak.rapina.ee või tel 7961 549 ja 53461 209
URL:https://www.pikk.ee/sundmus/taimekaitse-koolitus-uleriigiline-2-paevane-2/
LOCATION:Põlvamaa\, Põlvamaa\, Eesti
CATEGORIES:Taimekasvatus
GEO:58.1160622;27.2066394
END:VEVENT
BEGIN:VEVENT
DTSTART;VALUE=DATE:20120713
DTEND;VALUE=DATE:20120714
DTSTAMP:20260424T080456
CREATED:20171231T220000Z
LAST-MODIFIED:20171231T220000Z
UID:10005263-1342137600-1342223999@www.pikk.ee
SUMMARY:Põllumeeste päev
DESCRIPTION:Põlvamaa \nZerna talu\, Võuküla \, Põlvamaa \nPõlvamaa \n\n	Algus kell 13.00 \n\n	Teemad: \n\n	1. MAK 2014-2020 koostamise arengutest Eestis. \n\n	2. Põlvamaa looduslikud eripärasused ja loodusliku keskkonna seos taimekasvatusega. \n\n	3.  Põlvamaa Põllumeeste Liidu nõuandekeskuse tegevustest   ja nõuandesüsteemi arengusuundadest. \n\n	  \n\n	Registreerimine ja info tel. 56474215\, 7992928
URL:https://www.pikk.ee/sundmus/pollumeeste-paev/
LOCATION:Põlvamaa\, Põlvamaa\, Eesti
CATEGORIES:Muu
GEO:58.1160622;27.2066394
END:VEVENT
BEGIN:VEVENT
DTSTART;VALUE=DATE:20120626
DTEND;VALUE=DATE:20120627
DTSTAMP:20260424T080456
CREATED:20171231T220000Z
LAST-MODIFIED:20171231T220000Z
UID:10005300-1340668800-1340755199@www.pikk.ee
SUMMARY:Taimekaitse koolitus (üleriigiline\, 2-päevane)
DESCRIPTION:Põlvamaa \nRäpinas\, Räpina Aianduskoolis \nPõlvamaa \nRäpina Aianduskool korraldab üleriigilised 2-päevased \nTAIMEKAITSE KOOLITUSED \nToimumisaeg ja -koht:\n26.-27. juuni algusega kell 9.00 Räpina Aianduskoolis (viitenr 112011650340)\,\n22.-23. augustil algusega kell 9.00 Räpina Aianduskoolis (viitenr 112011650341). \nKoolituste koolitusprogramm vastab Vabariigi Valitsuse 31. jaanuari 2005.a.määrusele nr. 20 "Taimekaitsekoolituse programm ning taimekaitsetunnistuse saamiseks esitatavad nõuded ja tunnistuse andmise kord" ning nimetatud määruse muudatusele 20.01.2011 nr.17. Määruste muutumisel enne eelpoolnimetatud koolitusi\, võetakse koolituste läbiviimise aluseks uued kehtivad määrused. \nInfo: Räpina Aianduskooli kodulehel www.ak.rapina.ee või tel 7961 549 ja 53461 209
URL:https://www.pikk.ee/sundmus/taimekaitse-koolitus-uleriigiline-2-paevane/
LOCATION:Põlvamaa\, Põlvamaa\, Eesti
CATEGORIES:Taimekasvatus
GEO:58.1160622;27.2066394
END:VEVENT
BEGIN:VEVENT
DTSTART;VALUE=DATE:20120612
DTEND;VALUE=DATE:20120613
DTSTAMP:20260424T080456
CREATED:20171231T220000Z
LAST-MODIFIED:20171231T220000Z
UID:10005291-1339459200-1339545599@www.pikk.ee
SUMMARY:Seminar konsulentidele
DESCRIPTION:Põlvamaa \nPirmastu OÜ\, Põlvamaa \nPõlvamaa
URL:https://www.pikk.ee/sundmus/seminar-konsulentidele/
LOCATION:Põlvamaa\, Põlvamaa\, Eesti
CATEGORIES:Muu
GEO:58.1160622;27.2066394
END:VEVENT
END:VCALENDAR